BEGIN:VCALENDAR
VERSION:2.0
PRODID:-//LINK by UMA-ATech - ECPv6.15.20//NONSGML v1.0//EN
CALSCALE:GREGORIAN
METHOD:PUBLISH
X-ORIGINAL-URL:https://www.link.uma.es
X-WR-CALDESC:Eventos para LINK by UMA-ATech
REFRESH-INTERVAL;VALUE=DURATION:PT1H
X-Robots-Tag:noindex
X-PUBLISHED-TTL:PT1H
BEGIN:VTIMEZONE
TZID:UTC
BEGIN:STANDARD
TZOFFSETFROM:+0000
TZOFFSETTO:+0000
TZNAME:UTC
DTSTART:20250101T000000
END:STANDARD
END:VTIMEZONE
BEGIN:VEVENT
DTSTART;TZID=UTC:20260702T110000
DTEND;TZID=UTC:20260702T140000
DTSTAMP:20260426T002631
CREATED:20260417T064620Z
LAST-MODIFIED:20260417T064736Z
UID:62817-1782990000-1783000800@www.link.uma.es
SUMMARY:S.A+CW. Entrega de Premios del Concurso Spin-Off
DESCRIPTION:Salón de Actos\, de 11 a 14h y Coworking (aperitivo) \nEntrega de Premios de la XXX Edición del Concurso Spin-Off\, en su convocatoria de 2026\, de proyectos para la creación de nuevas empresas en el ámbito universitario.
URL:https://www.link.uma.es/event/s-acw-entrega-de-premios-del-concurso-spin-off/
LOCATION:Salón de Actos + Coworking
ORGANIZER;CN="Antonio Pe%C3%B1afiel. Director Servicio Empleabilidad y Emprendimiento.":MAILTO:apenafiel@uma.es
END:VEVENT
BEGIN:VEVENT
DTSTART;TZID=UTC:20260713T083000
DTEND;TZID=UTC:20260713T143000
DTSTAMP:20260426T002631
CREATED:20251030T102852Z
LAST-MODIFIED:20251030T102852Z
UID:61882-1783931400-1783953000@www.link.uma.es
SUMMARY:3.01+3.02: Cursos de Verano de la UMA 2026
DESCRIPTION:Salas 3.01 y 3.02\, 3ª planta de Link by UMA\, de 8:30 a 14:30h \nCursos de Verano de la UMA 2026
URL:https://www.link.uma.es/event/3-013-02-cursos-de-verano-de-la-uma-2026/
LOCATION:Salas 3.01 y 3.02 de Link by UMA
ATTACH;FMTTYPE=image/png:https://www.link.uma.es/wp-content/uploads/2019/03/logo-fguma.png
END:VEVENT
BEGIN:VEVENT
DTSTART;TZID=UTC:20260714T083000
DTEND;TZID=UTC:20260714T140000
DTSTAMP:20260426T002631
CREATED:20260317T081224Z
LAST-MODIFIED:20260317T081632Z
UID:62706-1784017800-1784037600@www.link.uma.es
SUMMARY:CW: iGEM European MeetUP - Málaga '26
DESCRIPTION:Coworking\, 4ª planta de Link by UMA\, de 8.30 a 14h \niGEM European MeetUP – Málaga ’26 \nAquí estudiantes\, investigadores y equipos internacionales se reunirán para compartir ideas y conocimiento de actualidad en biotecnología y biología sintética\, ¡todo desde una perspectiva técnica\, social y emprendedora! \nInscripciones para estudiantes de la Universidad de Málaga abiertas próximamente\, ¡no faltes! \niGEM MeetUPs are collaborative gatherings that bring together teams and individuals interested in the field of biotechnology and synthetic biology\, with the aim of sharing projects\, disseminating ideas\, establishing collaborations\, and strengthening the local and regional scientific community.\nThis promotes mutual learning and the dissemination of innovative ideas\, while promoting local research and raising the profile of the city where it takes place. \nThink. Share. Learn. All in La Costa del Sol!
URL:https://www.link.uma.es/event/cw-igem-european-meetup-malaga-26/
LOCATION:Coworking\, 4ª planta de Link by UMA
ORGANIZER;CN="%C3%81ngel Navarro Fern%C3%A1ndez. Cicerone de Emprendimiento UMA":MAILTO:angelnavfer@uma.es
END:VEVENT
BEGIN:VEVENT
DTSTART;TZID=UTC:20260714T083000
DTEND;TZID=UTC:20260714T143000
DTSTAMP:20260426T002631
CREATED:20251030T103040Z
LAST-MODIFIED:20251030T103040Z
UID:61881-1784017800-1784039400@www.link.uma.es
SUMMARY:3.01+3.02: Cursos de Verano de la UMA 2026
DESCRIPTION:Salas 3.01 y 3.02\, 3ª planta de Link by UMA\, de 8:30 a 14:30h \nCursos de Verano de la UMA 2026
URL:https://www.link.uma.es/event/3-013-02-cursos-de-verano-de-la-uma-2026-2/
LOCATION:Salas 3.01 y 3.02 de Link by UMA
ATTACH;FMTTYPE=image/png:https://www.link.uma.es/wp-content/uploads/2019/03/logo-fguma.png
END:VEVENT
BEGIN:VEVENT
DTSTART;TZID=UTC:20260715T083000
DTEND;TZID=UTC:20260715T140000
DTSTAMP:20260426T002631
CREATED:20260317T081437Z
LAST-MODIFIED:20260317T081645Z
UID:62710-1784104200-1784124000@www.link.uma.es
SUMMARY:CW: iGEM European MeetUP - Málaga '26
DESCRIPTION:Coworking\, 4ª planta de Link by UMA\, de 8.30 a 14h \niGEM European MeetUP – Málaga ’26 \nAquí estudiantes\, investigadores y equipos internacionales se reunirán para compartir ideas y conocimiento de actualidad en biotecnología y biología sintética\, ¡todo desde una perspectiva técnica\, social y emprendedora! \nInscripciones para estudiantes de la Universidad de Málaga abiertas próximamente\, ¡no faltes! \niGEM MeetUPs are collaborative gatherings that bring together teams and individuals interested in the field of biotechnology and synthetic biology\, with the aim of sharing projects\, disseminating ideas\, establishing collaborations\, and strengthening the local and regional scientific community.\nThis promotes mutual learning and the dissemination of innovative ideas\, while promoting local research and raising the profile of the city where it takes place. \nThink. Share. Learn. All in La Costa del Sol!
URL:https://www.link.uma.es/event/cw-igem-european-meetup-malaga-26-2/
LOCATION:Coworking\, 4ª planta de Link by UMA
ORGANIZER;CN="%C3%81ngel Navarro Fern%C3%A1ndez. Cicerone de Emprendimiento UMA":MAILTO:angelnavfer@uma.es
END:VEVENT
BEGIN:VEVENT
DTSTART;TZID=UTC:20260715T083000
DTEND;TZID=UTC:20260715T143000
DTSTAMP:20260426T002631
CREATED:20251030T103230Z
LAST-MODIFIED:20251030T103230Z
UID:61885-1784104200-1784125800@www.link.uma.es
SUMMARY:3.01+3.02: Cursos de Verano de la UMA 2026
DESCRIPTION:Salas 3.01 y 3.02\, 3ª planta de Link by UMA\, de 8:30 a 14:30h \nCursos de Verano de la UMA 2026
URL:https://www.link.uma.es/event/3-013-02-cursos-de-verano-de-la-uma-2026-3/
LOCATION:Salas 3.01 y 3.02 de Link by UMA
ATTACH;FMTTYPE=image/png:https://www.link.uma.es/wp-content/uploads/2019/03/logo-fguma.png
END:VEVENT
BEGIN:VEVENT
DTSTART;TZID=UTC:20260716T083000
DTEND;TZID=UTC:20260716T140000
DTSTAMP:20260426T002631
CREATED:20260317T081903Z
LAST-MODIFIED:20260317T081903Z
UID:62715-1784190600-1784210400@www.link.uma.es
SUMMARY:S.A: iGEM European MeetUP - Málaga '26
DESCRIPTION:Salón de Actos\,  planta baja de Link by UMA\, de 8.30 a 14h \niGEM European MeetUP – Málaga ’26 \nAquí estudiantes\, investigadores y equipos internacionales se reunirán para compartir ideas y conocimiento de actualidad en biotecnología y biología sintética\, ¡todo desde una perspectiva técnica\, social y emprendedora! \nInscripciones para estudiantes de la Universidad de Málaga abiertas próximamente\, ¡no faltes! \niGEM MeetUPs are collaborative gatherings that bring together teams and individuals interested in the field of biotechnology and synthetic biology\, with the aim of sharing projects\, disseminating ideas\, establishing collaborations\, and strengthening the local and regional scientific community.\nThis promotes mutual learning and the dissemination of innovative ideas\, while promoting local research and raising the profile of the city where it takes place. \nThink. Share. Learn. All in La Costa del Sol!
URL:https://www.link.uma.es/event/s-a-igem-european-meetup-malaga-26/
LOCATION:Salón de Actos\, Planta Baja\, Avenida Louis Pasteur\, 47\, Málaga\, Málaga\, 29010\, España
ORGANIZER;CN="%C3%81ngel Navarro Fern%C3%A1ndez. Cicerone de Emprendimiento UMA":MAILTO:angelnavfer@uma.es
END:VEVENT
BEGIN:VEVENT
DTSTART;TZID=UTC:20260716T083000
DTEND;TZID=UTC:20260716T143000
DTSTAMP:20260426T002631
CREATED:20251030T103353Z
LAST-MODIFIED:20251030T103353Z
UID:61887-1784190600-1784212200@www.link.uma.es
SUMMARY:3.01+3.02: Cursos de Verano de la UMA 2026
DESCRIPTION:Salas 3.01 y 3.02\, 3ª planta de Link by UMA\, de 8:30 a 14:30h \nCursos de Verano de la UMA 2026
URL:https://www.link.uma.es/event/3-013-02-cursos-de-verano-de-la-uma-2026-4/
LOCATION:Salas 3.01 y 3.02 de Link by UMA
ATTACH;FMTTYPE=image/png:https://www.link.uma.es/wp-content/uploads/2019/03/logo-fguma.png
END:VEVENT
BEGIN:VEVENT
DTSTART;TZID=UTC:20260717T083000
DTEND;TZID=UTC:20260717T143000
DTSTAMP:20260426T002631
CREATED:20251030T103529Z
LAST-MODIFIED:20251030T103529Z
UID:61889-1784277000-1784298600@www.link.uma.es
SUMMARY:3.01+3.02: Cursos de Verano de la UMA 2026
DESCRIPTION:Salas 3.01 y 3.02\, 3ª planta de Link by UMA\, de 8:30 a 14:30h \nCursos de Verano de la UMA 2026
URL:https://www.link.uma.es/event/3-013-02-cursos-de-verano-de-la-uma-2026-5/
LOCATION:Salas 3.01 y 3.02 de Link by UMA
ATTACH;FMTTYPE=image/png:https://www.link.uma.es/wp-content/uploads/2019/03/logo-fguma.png
END:VEVENT
END:VCALENDAR