BEGIN:VCALENDAR
VERSION:2.0
PRODID:-//LINK by UMA-ATech - ECPv6.15.20//NONSGML v1.0//EN
CALSCALE:GREGORIAN
METHOD:PUBLISH
X-ORIGINAL-URL:https://www.link.uma.es
X-WR-CALDESC:Eventos para LINK by UMA-ATech
REFRESH-INTERVAL;VALUE=DURATION:PT1H
X-Robots-Tag:noindex
X-PUBLISHED-TTL:PT1H
BEGIN:VTIMEZONE
TZID:UTC
BEGIN:STANDARD
TZOFFSETFROM:+0000
TZOFFSETTO:+0000
TZNAME:UTC
DTSTART:20220101T000000
END:STANDARD
END:VTIMEZONE
BEGIN:VEVENT
DTSTART;TZID=UTC:20230703T080000
DTEND;TZID=UTC:20230703T143000
DTSTAMP:20260420T065802
CREATED:20230515T113233Z
LAST-MODIFIED:20230620T070120Z
UID:56560-1688371200-1688394600@www.link.uma.es
SUMMARY:2.01 Workshop SoftProject
DESCRIPTION:Impartición formación interna
URL:https://www.link.uma.es/event/2-01-workshop-softproject-4/
LOCATION:Sala 2.01
ATTACH;FMTTYPE=image/png:https://www.link.uma.es/wp-content/uploads/2021/10/SoftProject.png
ORGANIZER;CN="Iv%C3%A1n Garc%C3%ADa-Serr%C3%A1n. Softproject.":MAILTO:ivan.garcia@softproject.es
END:VEVENT
BEGIN:VEVENT
DTSTART;TZID=UTC:20230703T090000
DTEND;TZID=UTC:20230703T143000
DTSTAMP:20260420T065802
CREATED:20230620T070820Z
LAST-MODIFIED:20230620T070820Z
UID:56880-1688374800-1688394600@www.link.uma.es
SUMMARY:C.W. Scrum Master de PWC
DESCRIPTION:Coworking\, 4ª planta de Link by UMA\, de 9 a 14.30h. \nLa empresa PWC realiza hoy en nuestras instalaciones de Link by UMA una sesión de Scrum Master. Bienveni2! \nLa oficina de PwC en Málaga cuenta con cerca de 30 profesionales\, comprometidos en ofrecer servicios de calidad en auditoría\, asesoramiento fiscal y legal y consultoría. La firma trabaja para todo tipo de clientes\, fundamentalmente\, compañías familiares de carácter local\, multinacionales con presencia en la región\, así como para el sector público. Cuéntanos qué te preocupa y descubre cómo podemos ayudarte en www.pwc.es
URL:https://www.link.uma.es/event/c-w-scrum-master-de-pwc/
LOCATION:Coworking\, 4ª planta de Link by UMA
ATTACH;FMTTYPE=image/png:https://www.link.uma.es/wp-content/uploads/2019/10/PWC.png
ORGANIZER;CN="Paloma Benavente. Scrum Master. PWC":MAILTO:paloma.benavente.garcia@pwc.com
END:VEVENT
BEGIN:VEVENT
DTSTART;TZID=UTC:20230704T080000
DTEND;TZID=UTC:20230704T143000
DTSTAMP:20260420T065802
CREATED:20230515T113501Z
LAST-MODIFIED:20230620T070137Z
UID:56563-1688457600-1688481000@www.link.uma.es
SUMMARY:2.01 Workshop SoftProject
DESCRIPTION:Impartición formación interna
URL:https://www.link.uma.es/event/2-01-workshop-softproject-5/
LOCATION:Sala 2.01
ATTACH;FMTTYPE=image/png:https://www.link.uma.es/wp-content/uploads/2021/10/SoftProject.png
ORGANIZER;CN="Iv%C3%A1n Garc%C3%ADa-Serr%C3%A1n. Softproject.":MAILTO:ivan.garcia@softproject.es
END:VEVENT
BEGIN:VEVENT
DTSTART;TZID=UTC:20230704T120000
DTEND;TZID=UTC:20230704T150000
DTSTAMP:20260420T065802
CREATED:20230703T110416Z
LAST-MODIFIED:20230703T110416Z
UID:56907-1688472000-1688482800@www.link.uma.es
SUMMARY:3.01 Reunión Zexel
DESCRIPTION:Reunión interna de trabajo
URL:https://www.link.uma.es/event/3-01-reunion-zexel/
LOCATION:Sala 3.01\, Tercera Planta\, Avenida Louis Pasteur\, 47\, Málaga\, Málaga\, 29010\, España
ORGANIZER;CN="Mario Betancourt. Responable de Ventas. Zexel":MAILTO:mariob@zexel.io
END:VEVENT
BEGIN:VEVENT
DTSTART;TZID=UTC:20230705T080000
DTEND;TZID=UTC:20230705T143000
DTSTAMP:20260420T065802
CREATED:20230515T113649Z
LAST-MODIFIED:20230620T070155Z
UID:56565-1688544000-1688567400@www.link.uma.es
SUMMARY:2.01 Workshop SoftProject
DESCRIPTION:Impartición formación interna
URL:https://www.link.uma.es/event/2-01-workshop-softproject-6/
LOCATION:Sala 2.01
ATTACH;FMTTYPE=image/png:https://www.link.uma.es/wp-content/uploads/2021/10/SoftProject.png
ORGANIZER;CN="Iv%C3%A1n Garc%C3%ADa-Serr%C3%A1n. Softproject.":MAILTO:ivan.garcia@softproject.es
END:VEVENT
BEGIN:VEVENT
DTSTART;TZID=UTC:20230705T090000
DTEND;TZID=UTC:20230705T140000
DTSTAMP:20260420T065802
CREATED:20230703T114847Z
LAST-MODIFIED:20230703T114847Z
UID:56914-1688547600-1688565600@www.link.uma.es
SUMMARY:2.02 Reunión Rebs
DESCRIPTION:Reunión interna Rebs
URL:https://www.link.uma.es/event/2-02-reunion-rebs/
LOCATION:Sala 2.02\, 2ª planta
ORGANIZER;CN="Carmen Herrera - Talent by Rebs":MAILTO:carmenherrera@rebs-edu.com
END:VEVENT
BEGIN:VEVENT
DTSTART;TZID=UTC:20230707T090000
DTEND;TZID=UTC:20230707T140000
DTSTAMP:20260420T065802
CREATED:20230703T115123Z
LAST-MODIFIED:20230703T115123Z
UID:56916-1688720400-1688738400@www.link.uma.es
SUMMARY:2.01 Reunión Rebs
DESCRIPTION:Reunión interna Rebs
URL:https://www.link.uma.es/event/2-01-reunion-rebs/
LOCATION:Sala 2.01
ORGANIZER;CN="Carmen Herrera - Talent by Rebs":MAILTO:carmenherrera@rebs-edu.com
END:VEVENT
BEGIN:VEVENT
DTSTART;TZID=UTC:20230707T100000
DTEND;TZID=UTC:20230707T140000
DTSTAMP:20260420T065802
CREATED:20230612T101353Z
LAST-MODIFIED:20230704T085200Z
UID:56830-1688724000-1688738400@www.link.uma.es
SUMMARY:S.A. Lectura Tesis Doctoral
DESCRIPTION:Salón de Actos\, de 10 a 13h y Coworking (12-14h) \nDefensa de Tesis Doctoral. Entreprenurial University: Entreprenurial Human Capital and New Socioeconomic Valiu. \nSofía Louise Martínez Martínez. \nSuerteeeeeeeeeeeeeeeeeeeeeeeeeeeeee Sofía\, te queremos!!!
URL:https://www.link.uma.es/event/3-01-tesis/
LOCATION:Salón de Actos + Coworking
ATTACH;FMTTYPE=image/jpeg:https://www.link.uma.es/wp-content/uploads/2023/06/Tesis-Sofia-Louise-Martinez.jpeg
ORGANIZER;CN="Ana Mu%C3%B1iz. Link by UMA":MAILTO:emprende@uma.es
END:VEVENT
BEGIN:VEVENT
DTSTART;TZID=UTC:20230710T083000
DTEND;TZID=UTC:20230710T140000
DTSTAMP:20260420T065802
CREATED:20230608T074507Z
LAST-MODIFIED:20230608T075221Z
UID:56785-1688977800-1688997600@www.link.uma.es
SUMMARY:3.01. Jurado Premios Spin-Off
DESCRIPTION:Sala 3.01\, 3ª planta de Link by UMA\, de 8.30 a 14h \nHoy se reúnen los miembros del jurado para seleccionar a los mejores proyectos empresarial del entorno universitario que se han presentado al Concurso Spin-Off de la UMA. \nMucha suerte para tod@s los participantes!!!!
URL:https://www.link.uma.es/event/3-01-jurado-spin-off/
LOCATION:Sala 3.01\, Tercera Planta\, Avenida Louis Pasteur\, 47\, Málaga\, Málaga\, 29010\, España
ATTACH;FMTTYPE=image/jpeg:https://www.link.uma.es/wp-content/uploads/2023/06/boton-spin-offXXVII.jpg
ORGANIZER;CN="Ana Mu%C3%B1iz. Link by UMA":MAILTO:emprende@uma.es
END:VEVENT
BEGIN:VEVENT
DTSTART;TZID=UTC:20230712T090000
DTEND;TZID=UTC:20230712T140000
DTSTAMP:20260420T065802
CREATED:20230621T115353Z
LAST-MODIFIED:20230621T115548Z
UID:56888-1689152400-1689170400@www.link.uma.es
SUMMARY:Cw. ICEX: Jornada de presentación y de networking del programa APIEM
DESCRIPTION:Coworking\, cuarta planta de Link by UMA\, de 9:30 – 14:00 h \nJornada de presentación y de networking del programa APIEM de ICEX España Exportación e Inversiones \n  \n  \n 
URL:https://www.link.uma.es/event/3-01-icex-jornada-de-presentacion-y-de-networking-del-programa-apiem/
LOCATION:Coworking\, Cuarta Planta\, Avenida Louis Pasteur\, 47\, Málaga\, Málaga\, 29010\, España
ATTACH;FMTTYPE=image/png:https://www.link.uma.es/wp-content/uploads/2023/06/logo-Icex-Espana-exportacion-e-inversiones-4.png
ORGANIZER;CN="Rafael Fuentes Candau - ICEX":MAILTO:rfuentes@comercio.mineco.es
END:VEVENT
BEGIN:VEVENT
DTSTART;TZID=UTC:20230713T090000
DTEND;TZID=UTC:20230713T150000
DTSTAMP:20260420T065802
CREATED:20230711T073114Z
LAST-MODIFIED:20230711T073114Z
UID:56937-1689238800-1689260400@www.link.uma.es
SUMMARY:Cw. Entrega de Premios Spin-Off
DESCRIPTION:Coworking reservado para la celebración de la entrega de los premios Spin-Off.
URL:https://www.link.uma.es/event/cw-entrega-de-premios-spin-off/
LOCATION:Málaga
ATTACH;FMTTYPE=image/jpeg:https://www.link.uma.es/wp-content/uploads/2023/07/cartel-spinoff-xxviii-nuevo.jpg
END:VEVENT
BEGIN:VEVENT
DTSTART;TZID=UTC:20230713T093000
DTEND;TZID=UTC:20230713T140000
DTSTAMP:20260420T065802
CREATED:20230224T075216Z
LAST-MODIFIED:20230711T080430Z
UID:55962-1689240600-1689256800@www.link.uma.es
SUMMARY:3.01. Curso de Verano Málaga Tech Park
DESCRIPTION:Sala 3.01\, 3ª planta de Link by UMA\, de 9 a 14h \nCurso de Verano Málaga Tech Park: MICROELECTRÓNICA\, HACIA UNA NUEVA ECONOMÍA ESTRATEGICA  \nLos últimos acontecimientos mundiales\,  han alterado la cadena de suministro de la industria de la microelectrónica\, poniendo al descubierto el valor estratégico de los semiconductores y el peligro que supone una cadena tan diversificada para la soberanía en este sector. \nLos semiconductores\, son clave para el bienestar social y el crecimiento económico al estar presentes en todos los dispositivos electrónicos permitiendo que estos procesen\, almacenen y transmitan datos. \nEuropa tiene una posición de liderazgo sólo en algunos segmentos de la cadena de valor\,  pero un problema de soberanía estratégica y de negocio\, ya que consume el 24% de los semiconductores fabricados a nivel mundial pero solo genera entre el 9 y el 11% del valor agregado total. \nMálaga\, Andalucía y España disponen de talento\, tanto en la industria como en la  universidad\, así como de una demanda industrial capaz de absorber los desarrollos en semiconductores que se generen y una alta capacidad de atracción de empresas gracias a su climatología\, gastronomía y conectividad internacional. \nCon este curso se pretende repasar y confirmar como la microelectrónica en general y los semiconductores en particular son una de las  industrias clave para el crecimiento sostenible de las economías\, a la vez que dar a conocer\, la estrategia que se está desarrollando para situar a nuestra comunidad como referente en el sector \nPROGRAMA  13 DE JULIO: \n 09:00h- 09:20h: Inauguración del Curso: \nExcmo. y Magfco. Sr. Rector de la Universidad de Málaga. D. Jose Angel Narvaez \nDirector General de Málaga TechPark\, D. Felipe Romera \n09:25h-10:20h:La visión de un gigante: Próximos desafíos \n\n Pere Monclus. VP & CTO Network and Security BU Intel\nFrancesc Guim\,  Principal Engineer\, Network and Edge BU\, Intel\nMario Nemirowsky\, CTO Fundacion Innova IRV\n\n 10:25h-11:10 h Dialogo: Estrategia Nacional: PERTE CHIP \n\nFelipe Romera. Director General Málaga TechPark\nPedro Martin Jurado. Director de Operaciones. Comisionado Especial para el Proyecto de Microelectrónica y Semiconductores\n\n 11:15h-11:40h: Coffee-Break \n 11:45h-12:30h: Situación actual Ecosistema Español de Microelectrónica: Retos de futuro \n\nMarcos Martínez\, Director of Standards Engineering at MaxLinear\nEduardo Valencia. Director de Industria Electrónica\, Nuevo Emprendimiento de Ametic\nJose Manuel Leceta\, Director General Innova IRV\n\n  12:35h-13:35:h: Silicon Saxony: La referencia Europea: \nMr. Christian Mayr. UNIVERSIDAD TECNOLOGICA DE DRESDE (ONLINE) \nMr. Stefan Uhlig\, Silicon Saxony \nSenior Manager Deputy Director of Silicon Saxony Office \n13:40h-13:45h: Conclusiones de la jornada \n\nFelipe Romera\, Director General Málaga TechPark 
URL:https://www.link.uma.es/event/3-01-curso-de-verano-malaga-tech-park-4/
LOCATION:Sala 3.01\, Tercera Planta\, Avenida Louis Pasteur\, 47\, Málaga\, Málaga\, 29010\, España
ATTACH;FMTTYPE=image/png:https://www.link.uma.es/wp-content/uploads/2023/02/cabecera-CV23-MLG-12-microelectronica.png
ORGANIZER;CN="Jaime Belomonte. FGUMA":MAILTO:secretariacursosdeverano@fguma.es
END:VEVENT
BEGIN:VEVENT
DTSTART;TZID=UTC:20230713T120000
DTEND;TZID=UTC:20230713T140000
DTSTAMP:20260420T065802
CREATED:20230608T075537Z
LAST-MODIFIED:20230608T075600Z
UID:56789-1689249600-1689256800@www.link.uma.es
SUMMARY:S.A. Entrega de Premios Spin-Off
DESCRIPTION:Salón de Actos\, planta baja de Link by UMA\, de 12 a 14h \nHoy se entregan los premios Spin-Off a los mejores proyectos salidos de la Universidad de Málaga. \nEnhorabuena a tod@s los premiad@s!!!
URL:https://www.link.uma.es/event/s-a-entrega-de-premios-spin-off/
LOCATION:Salón de Actos\, Planta Baja\, Avenida Louis Pasteur\, 47\, Málaga\, Málaga\, 29010\, España
ATTACH;FMTTYPE=image/jpeg:https://www.link.uma.es/wp-content/uploads/2023/06/boton-spin-offXXVII.jpg
ORGANIZER;CN="Ana Mu%C3%B1iz. Link by UMA":MAILTO:emprende@uma.es
END:VEVENT
BEGIN:VEVENT
DTSTART;TZID=UTC:20230714T090000
DTEND;TZID=UTC:20230714T140000
DTSTAMP:20260420T065802
CREATED:20230224T075332Z
LAST-MODIFIED:20230711T080444Z
UID:55964-1689325200-1689343200@www.link.uma.es
SUMMARY:3.01. Curso de Verano Málaga Tech Park
DESCRIPTION:Sala 3.01\, 3ª planta de Link by UMA\, de 9 a 14h \nCurso de Verano Málaga Tech Park: MICROELECTRÓNICA\, HACIA UNA NUEVA ECONOMÍA ESTRATEGICA  \nLos últimos acontecimientos mundiales\,  han alterado la cadena de suministro de la industria de la microelectrónica\, poniendo al descubierto el valor estratégico de los semiconductores y el peligro que supone una cadena tan diversificada para la soberanía en este sector. \nLos semiconductores\, son clave para el bienestar social y el crecimiento económico al estar presentes en todos los dispositivos electrónicos permitiendo que estos procesen\, almacenen y transmitan datos. \nEuropa tiene una posición de liderazgo sólo en algunos segmentos de la cadena de valor\,  pero un problema de soberanía estratégica y de negocio\, ya que consume el 24% de los semiconductores fabricados a nivel mundial pero solo genera entre el 9 y el 11% del valor agregado total. \nMálaga\, Andalucía y España disponen de talento\, tanto en la industria como en la  universidad\, así como de una demanda industrial capaz de absorber los desarrollos en semiconductores que se generen y una alta capacidad de atracción de empresas gracias a su climatología\, gastronomía y conectividad internacional. \nCon este curso se pretende repasar y confirmar como la microelectrónica en general y los semiconductores en particular son una de las  industrias clave para el crecimiento sostenible de las economías\, a la vez que dar a conocer\, la estrategia que se está desarrollando para situar a nuestra comunidad como referente en el sector \nPROGRAMA DIA 14 DE JULIO: \n 09:30h – 10:15h: Conferencia Digital Eye : Estrategia Laboratorio de Co-Innovación UMA-Microelectrónica \nObservatorio Digital Eye \n1. Javier López\, Vicerrector de Empresa\, Territorio y Transformación Digital de la UMA \n2. Mario Nemirowsky\, CTO Fundacion Innova IRV \n 10:20h -11:05h: Dulkpiot: diseño y Generación IP: \n\nOscar Chabrera\, CFO y COO de Innova IRV\n Pedro Teixido. Ontech\n\n11:05h-11:20h: Coffee-Break \n11:25h-12:10h: Actividades de Fabricación: Photonics:  \n\nMario Nemirowsky\, CTO Fundacion Innova IRV\n\nRepresentante de Ipronics \n\nIñigo Molina.  Molina-Fernández es el fundador y actual líder del Laboratorio de Fotónicay Radiofrecuencia UMA\n\nDª. Ana  Gonzalez\, Director of strategic partnerships Ipronics (online) \n12:10h: Conclusiones de la jornada \n\nFelipe Romera\, Director General Málaga TechPark
URL:https://www.link.uma.es/event/3-01-curso-de-verano-malaga-tech-park-5/
LOCATION:Sala 3.01\, Tercera Planta\, Avenida Louis Pasteur\, 47\, Málaga\, Málaga\, 29010\, España
ATTACH;FMTTYPE=image/png:https://www.link.uma.es/wp-content/uploads/2023/02/cabecera-CV23-MLG-12-microelectronica.png
ORGANIZER;CN="Jaime Belomonte. FGUMA":MAILTO:secretariacursosdeverano@fguma.es
END:VEVENT
BEGIN:VEVENT
DTSTART;TZID=UTC:20230714T100000
DTEND;TZID=UTC:20230714T150000
DTSTAMP:20260420T065802
CREATED:20230710T114257Z
LAST-MODIFIED:20230710T114257Z
UID:56935-1689328800-1689346800@www.link.uma.es
SUMMARY:2.01 Reunión Rebs
DESCRIPTION:Reunión interna Rebs
URL:https://www.link.uma.es/event/2-01-reunion-rebs-2/
LOCATION:Sala 2.01
ORGANIZER;CN="Carmen Herrera - Talent by Rebs":MAILTO:carmenherrera@rebs-edu.com
END:VEVENT
BEGIN:VEVENT
DTSTART;TZID=UTC:20230717T080000
DTEND;TZID=UTC:20230717T140000
DTSTAMP:20260420T065802
CREATED:20230713T071650Z
LAST-MODIFIED:20230713T071808Z
UID:56953-1689580800-1689602400@www.link.uma.es
SUMMARY:2.01 Reunión Beemeral
DESCRIPTION:Reunión interna de Beemeral
URL:https://www.link.uma.es/event/reunion-beemeral/
LOCATION:Sala 2.01\, Segunda Planta\, Avenida Louis Pasteur\, 47\, Málaga\, Málaga\, 29010\, España
ORGANIZER;CN="pablo martinez":MAILTO:pablomartinez@beemeral.com
END:VEVENT
BEGIN:VEVENT
DTSTART;TZID=UTC:20230719T090000
DTEND;TZID=UTC:20230719T140000
DTSTAMP:20260420T065802
CREATED:20230703T111205Z
LAST-MODIFIED:20230703T111205Z
UID:56909-1689757200-1689775200@www.link.uma.es
SUMMARY:CW. Reunión PwC
DESCRIPTION:Reunión interna PwC
URL:https://www.link.uma.es/event/cw-reunion-pwc/
LOCATION:Coworking\, Cuarta Planta\, Avenida Louis Pasteur\, 47\, Málaga\, Málaga\, 29010\, España
ORGANIZER;CN="Paloma Benavente. Scrum Master. PWC":MAILTO:paloma.benavente.garcia@pwc.com
END:VEVENT
BEGIN:VEVENT
DTSTART;TZID=UTC:20230719T110000
DTEND;TZID=UTC:20230719T140000
DTSTAMP:20260420T065802
CREATED:20230719T070415Z
LAST-MODIFIED:20230719T070415Z
UID:56973-1689764400-1689775200@www.link.uma.es
SUMMARY:2.01. Reunión CMMA
DESCRIPTION:Sala 2.01\, 2ª planta de Link by UMA\, de 11 a 14h \nReunión privada del Club Marítimo Marino de Andalucía. Bienvenidos!!!
URL:https://www.link.uma.es/event/2-01-reunion-cmma/
LOCATION:Sala 2.01\, Segunda Planta\, Avenida Louis Pasteur\, 47\, Málaga\, Málaga\, 29010\, España
ATTACH;FMTTYPE=image/png:https://www.link.uma.es/wp-content/uploads/2022/02/CMMA.png
ORGANIZER;CN="Mar Recuna - CMMA[%3Aen]Mar Recuna":MAILTO:gerencia@cmma.eu
END:VEVENT
BEGIN:VEVENT
DTSTART;TZID=UTC:20230719T123000
DTEND;TZID=UTC:20230719T143000
DTSTAMP:20260420T065802
CREATED:20230619T081114Z
LAST-MODIFIED:20230619T081114Z
UID:56878-1689769800-1689777000@www.link.uma.es
SUMMARY:3.01. Staff Meeting Soft Project
DESCRIPTION:Sala 3.01\, de 12.30 a 14.30 \nStaff Meeting Soft Project
URL:https://www.link.uma.es/event/3-01-staff-meeting-soft-project/
LOCATION:Sala 3.01\, Tercera Planta\, Avenida Louis Pasteur\, 47\, Málaga\, Málaga\, 29010\, España
ATTACH;FMTTYPE=image/png:https://www.link.uma.es/wp-content/uploads/2021/10/SoftProject.png
ORGANIZER;CN="Jes%C3%BAs Gonz%C3%A1lez. Soft Project":MAILTO:jesus.gonzalez@softproject.es
END:VEVENT
BEGIN:VEVENT
DTSTART;TZID=UTC:20230725T113000
DTEND;TZID=UTC:20230725T133000
DTSTAMP:20260420T065802
CREATED:20230724T092022Z
LAST-MODIFIED:20230724T092022Z
UID:56976-1690284600-1690291800@www.link.uma.es
SUMMARY:3.02. Fundación GARAGERASMUS
DESCRIPTION:Sala 3.02\, 3ª planta de Link by UMA\, de 11.30 a 13.30h \nReunión del Servicio de Relaciones Internacionales con el Grupo gE4Malaga de la Fundación GARAGERASMUS.
URL:https://www.link.uma.es/event/3-02-fundacion-garagerasmus/
LOCATION:Sala 3.02\, Tercera Planta\, Avenida Louis Pasteur\, 47\, Málaga\, Málaga\, 29010\, España
ORGANIZER;CN="Alejandro Florido - Servicio de Relaciones Internacionales y Cooperaci%C3%B3n":MAILTO:practicaserasmus@uma.es
END:VEVENT
BEGIN:VEVENT
DTSTART;TZID=UTC:20230726T090000
DTEND;TZID=UTC:20230726T140000
DTSTAMP:20260420T065802
CREATED:20230710T113511Z
LAST-MODIFIED:20230710T113511Z
UID:56933-1690362000-1690380000@www.link.uma.es
SUMMARY:3.01 Reunión Grupo Bioinformática
DESCRIPTION:Reunión interna Grupo de Investigación de la UMA
URL:https://www.link.uma.es/event/3-01-reunion-grupo-bioinformatica/
LOCATION:Sala 3.01\, Tercera Planta\, Avenida Louis Pasteur\, 47\, Málaga\, Málaga\, 29010\, España
ORGANIZER;CN="Carlos Rodriguez Caso":MAILTO:carlos.rodriguez@uma.es
END:VEVENT
END:VCALENDAR