BEGIN:VCALENDAR
VERSION:2.0
PRODID:-//LINK by UMA-ATech - ECPv6.15.20//NONSGML v1.0//EN
CALSCALE:GREGORIAN
METHOD:PUBLISH
X-WR-CALNAME:LINK by UMA-ATech
X-ORIGINAL-URL:https://www.link.uma.es
X-WR-CALDESC:Eventos para LINK by UMA-ATech
REFRESH-INTERVAL;VALUE=DURATION:PT1H
X-Robots-Tag:noindex
X-PUBLISHED-TTL:PT1H
BEGIN:VTIMEZONE
TZID:UTC
BEGIN:STANDARD
TZOFFSETFROM:+0000
TZOFFSETTO:+0000
TZNAME:UTC
DTSTART:20250101T000000
END:STANDARD
END:VTIMEZONE
BEGIN:VEVENT
DTSTART;TZID=UTC:20260602T090000
DTEND;TZID=UTC:20260602T140000
DTSTAMP:20260424T060701
CREATED:20260217T124155Z
LAST-MODIFIED:20260313T080345Z
UID:62520-1780390800-1780408800@www.link.uma.es
SUMMARY:3.01. Aula IKEA Training: Visual Merchandising
DESCRIPTION:Sala 3.01\, de 9 a 14h \nCurso de especialización en Visual Merchandising dirigido a estudiantes de cualquier disciplina con interés en desarrollar las competencias profesionales necesarias para trabajar como visual merchandiser en el sector retail (comercio minorista). \n¿Quieres impulsar tu carrera profesional como visual merchandiser?  \nSi te interesa el mundo del interiorismo y del visual merchandising y quieres trabajar en el sector\, este curso te dará la oportunidad de adquirir las competencias profesionales necesarias para ello de la mano de IKEA\, líder mundial en la venta de muebles y decoración. \n¿Cuál es la función de un visual merchandiser en IKEA? \nEl visual merchandiser da vida a los productos en las tiendas\, en la web y en muchos más sitios. Combinas los colores\, las texturas\, los diseños y los muebles en soluciones prácticas que emocionan\, atraen y convencen\, a quienes visitan IKEA\, de que también pueden hacer lo mismo en sus casas. Sus soluciones\, diseños y presentación del surtido inspiran a la mayoría de las personas para llevarse a casa los productos y disfrutar de una mejor vida en el hogar gracias a ellos. \nFinalizado los tres módulos del curso\, muchos tendréis la oportunidad de realizar prácticas como visual merchandisers en el Departamento de Home Furnishing & Retail Design de la tienda IKEA de Málaga.
URL:https://www.link.uma.es/event/3-01-aula-ikea-training-visual-merchandising-15/
LOCATION:Sala 3.01\, Tercera Planta\, Avenida Louis Pasteur\, 47\, Málaga\, Málaga\, 29010\, España
ATTACH;FMTTYPE=image/jpeg:https://www.link.uma.es/wp-content/uploads/2024/01/Ikea-training.jpg
END:VEVENT
BEGIN:VEVENT
DTSTART;TZID=UTC:20260603T100000
DTEND;TZID=UTC:20260603T120000
DTSTAMP:20260424T060701
CREATED:20260116T123249Z
LAST-MODIFIED:20260217T122636Z
UID:62329-1780480800-1780488000@www.link.uma.es
SUMMARY:2.02. Miércoles x la Orientación
DESCRIPTION:2.02\, 2ª planta – 10.00 a 12.00 h \nHoy tendremos la sesión presencial del alumnado que realiza los cursos sobre desarrollo de competencias: Enfoca tu futuro\, Soft & Digital Skills y Actitud Emprendedora \nLa sesión versará sobre Recursos de formación y Empleo dirigido al colectivo universitario.
URL:https://www.link.uma.es/event/3-01-miercoles-x-la-orientacion-6/
LOCATION:Sala 2.02\, 2ª planta
ATTACH;FMTTYPE=image/jpeg:https://www.link.uma.es/wp-content/uploads/2022/10/miercoles-pro-el-empleo.jpg
ORGANIZER;CN="Laura Marcos. Orientaci%C3%B3n UMA":MAILTO:lauramarcos@uma.es
END:VEVENT
BEGIN:VEVENT
DTSTART;TZID=UTC:20260609T080000
DTEND;TZID=UTC:20260609T140000
DTSTAMP:20260424T060701
CREATED:20260417T070232Z
LAST-MODIFIED:20260417T070232Z
UID:62822-1780992000-1781013600@www.link.uma.es
SUMMARY:3.01+3.02: Jurado Santander X Spain Award 2026 UMA
DESCRIPTION:Salas 3.01 y 3.02\, 3ª planta de Link by UMA\, de 8 a 14h \nEl Banco Santander y la Universidad de Málaga\, a través del Vicerrectorado de Transferencia\, Emprendimiento y Empresa lanzan los premios “Santander X Spain Award | Proyectos Emprendedores Universitarios 2026” y “Santander X Spain Award | Startup Universitaria 2026”\, gracias al convenio de colaboración suscrito entre las dos entidades. Estas iniciativas pretenden apoyar la innovación y el emprendimiento como motor del desarrollo económico y social de la comunidad universitaria. Las convocatorias están dirigidas a estudiantes\, egresados de los últimos 5 años\, docentes\, investigadores y personal técnico de gestión\, administración y servicios de la UMA. \nHoy se premiará con 2.000€ a los 3 mejores proyectos presentados que se encuentren en fase de validación para su lanzamiento al mercado\, en la modalidad Proyectos Emprendedores Universitarios\, y con 4.000€ a startups y spin-offs universitarias que tengan una solución innovadora y disruptiva en fase de aceleración\, en la modalidad Startup Universitaria.
URL:https://www.link.uma.es/event/3-013-02-jurado-santander-x-spain-award-2026-uma/
LOCATION:Salas 3.01 y 3.02 de Link by UMA
ATTACH;FMTTYPE=image/jpeg:https://www.link.uma.es/wp-content/uploads/2017/02/SantanderX-SA-2026-ampliacion.jpg
ORGANIZER;CN="Antonio Pe%C3%B1afiel. Director Servicio Empleabilidad y Emprendimiento.":MAILTO:apenafiel@uma.es
END:VEVENT
BEGIN:VEVENT
DTSTART;TZID=UTC:20260615T080000
DTEND;TZID=UTC:20260615T140000
DTSTAMP:20260424T060701
CREATED:20260417T064311Z
LAST-MODIFIED:20260417T064311Z
UID:62815-1781510400-1781532000@www.link.uma.es
SUMMARY:3.01+3.02. Jurado Spin-Off
DESCRIPTION:Sala 3.01\, 3ª planta de Link by UMA\, de 8 a 14h \nJurado de la XXX Edición del Concurso Spin-Off\, en su convocatoria de 2026\, de proyectos para la creación de nuevas empresas en el ámbito universitario. Suerte para todos los participantes!!!!
URL:https://www.link.uma.es/event/3-013-02-jurado-spin-off/
LOCATION:Salas 3.01 y 3.02 de Link by UMA
ORGANIZER;CN="Antonio Pe%C3%B1afiel. Director Servicio Empleabilidad y Emprendimiento.":MAILTO:apenafiel@uma.es
END:VEVENT
BEGIN:VEVENT
DTSTART;TZID=UTC:20260617T100000
DTEND;TZID=UTC:20260617T120000
DTSTAMP:20260424T060701
CREATED:20260116T123424Z
LAST-MODIFIED:20260116T123424Z
UID:62331-1781690400-1781697600@www.link.uma.es
SUMMARY:3.01 Miércoles x la Orientación
DESCRIPTION:3.01\, 3ª planta – 10.00 a 12.00 h \nHoy tendremos la sesión presencial del alumnado que realiza los cursos sobre desarrollo de competencias: Enfoca tu futuro\, Soft & Digital Skills y Actitud Emprendedora \nLa sesión versará sobre Recursos de formación y Empleo dirigido al colectivo universitario.
URL:https://www.link.uma.es/event/3-01-miercoles-x-la-orientacion-7/
LOCATION:Sala 3.01\, Tercera Planta\, Avenida Louis Pasteur\, 47\, Málaga\, Málaga\, 29010\, España
ATTACH;FMTTYPE=image/jpeg:https://www.link.uma.es/wp-content/uploads/2022/10/miercoles-pro-el-empleo.jpg
ORGANIZER;CN="Laura Marcos. Orientaci%C3%B3n UMA":MAILTO:lauramarcos@uma.es
END:VEVENT
BEGIN:VEVENT
DTSTART;TZID=UTC:20260619T120000
DTEND;TZID=UTC:20260619T140000
DTSTAMP:20260424T060701
CREATED:20260417T070631Z
LAST-MODIFIED:20260417T070631Z
UID:62824-1781870400-1781877600@www.link.uma.es
SUMMARY:S.A. Entrega de Premios Santander X Spain Award
DESCRIPTION:Salón de Actos\, de 12 a 14h \nEntrega de los premios “Santander X Spain Award | Proyectos Emprendedores Universitarios 2026” y “Santander X Spain Award | Startup Universitaria 2026”
URL:https://www.link.uma.es/event/s-a-entrega-de-premios-santander-x-spain-award/
LOCATION:Salón de Actos
ATTACH;FMTTYPE=image/jpeg:https://www.link.uma.es/wp-content/uploads/2017/02/SantanderX-SA-2026-ampliacion.jpg
ORGANIZER;CN="Antonio Pe%C3%B1afiel. Director Servicio Empleabilidad y Emprendimiento.":MAILTO:apenafiel@uma.es
END:VEVENT
BEGIN:VEVENT
DTSTART;TZID=UTC:20260702T110000
DTEND;TZID=UTC:20260702T140000
DTSTAMP:20260424T060701
CREATED:20260417T064620Z
LAST-MODIFIED:20260417T064736Z
UID:62817-1782990000-1783000800@www.link.uma.es
SUMMARY:S.A+CW. Entrega de Premios del Concurso Spin-Off
DESCRIPTION:Salón de Actos\, de 11 a 14h y Coworking (aperitivo) \nEntrega de Premios de la XXX Edición del Concurso Spin-Off\, en su convocatoria de 2026\, de proyectos para la creación de nuevas empresas en el ámbito universitario.
URL:https://www.link.uma.es/event/s-acw-entrega-de-premios-del-concurso-spin-off/
LOCATION:Salón de Actos + Coworking
ORGANIZER;CN="Antonio Pe%C3%B1afiel. Director Servicio Empleabilidad y Emprendimiento.":MAILTO:apenafiel@uma.es
END:VEVENT
BEGIN:VEVENT
DTSTART;TZID=UTC:20260713T083000
DTEND;TZID=UTC:20260713T143000
DTSTAMP:20260424T060701
CREATED:20251030T102852Z
LAST-MODIFIED:20251030T102852Z
UID:61882-1783931400-1783953000@www.link.uma.es
SUMMARY:3.01+3.02: Cursos de Verano de la UMA 2026
DESCRIPTION:Salas 3.01 y 3.02\, 3ª planta de Link by UMA\, de 8:30 a 14:30h \nCursos de Verano de la UMA 2026
URL:https://www.link.uma.es/event/3-013-02-cursos-de-verano-de-la-uma-2026/
LOCATION:Salas 3.01 y 3.02 de Link by UMA
ATTACH;FMTTYPE=image/png:https://www.link.uma.es/wp-content/uploads/2019/03/logo-fguma.png
END:VEVENT
BEGIN:VEVENT
DTSTART;TZID=UTC:20260714T083000
DTEND;TZID=UTC:20260714T140000
DTSTAMP:20260424T060701
CREATED:20260317T081224Z
LAST-MODIFIED:20260317T081632Z
UID:62706-1784017800-1784037600@www.link.uma.es
SUMMARY:CW: iGEM European MeetUP - Málaga '26
DESCRIPTION:Coworking\, 4ª planta de Link by UMA\, de 8.30 a 14h \niGEM European MeetUP – Málaga ’26 \nAquí estudiantes\, investigadores y equipos internacionales se reunirán para compartir ideas y conocimiento de actualidad en biotecnología y biología sintética\, ¡todo desde una perspectiva técnica\, social y emprendedora! \nInscripciones para estudiantes de la Universidad de Málaga abiertas próximamente\, ¡no faltes! \niGEM MeetUPs are collaborative gatherings that bring together teams and individuals interested in the field of biotechnology and synthetic biology\, with the aim of sharing projects\, disseminating ideas\, establishing collaborations\, and strengthening the local and regional scientific community.\nThis promotes mutual learning and the dissemination of innovative ideas\, while promoting local research and raising the profile of the city where it takes place. \nThink. Share. Learn. All in La Costa del Sol!
URL:https://www.link.uma.es/event/cw-igem-european-meetup-malaga-26/
LOCATION:Coworking\, 4ª planta de Link by UMA
ORGANIZER;CN="%C3%81ngel Navarro Fern%C3%A1ndez. Cicerone de Emprendimiento UMA":MAILTO:angelnavfer@uma.es
END:VEVENT
BEGIN:VEVENT
DTSTART;TZID=UTC:20260714T083000
DTEND;TZID=UTC:20260714T143000
DTSTAMP:20260424T060701
CREATED:20251030T103040Z
LAST-MODIFIED:20251030T103040Z
UID:61881-1784017800-1784039400@www.link.uma.es
SUMMARY:3.01+3.02: Cursos de Verano de la UMA 2026
DESCRIPTION:Salas 3.01 y 3.02\, 3ª planta de Link by UMA\, de 8:30 a 14:30h \nCursos de Verano de la UMA 2026
URL:https://www.link.uma.es/event/3-013-02-cursos-de-verano-de-la-uma-2026-2/
LOCATION:Salas 3.01 y 3.02 de Link by UMA
ATTACH;FMTTYPE=image/png:https://www.link.uma.es/wp-content/uploads/2019/03/logo-fguma.png
END:VEVENT
BEGIN:VEVENT
DTSTART;TZID=UTC:20260715T083000
DTEND;TZID=UTC:20260715T140000
DTSTAMP:20260424T060701
CREATED:20260317T081437Z
LAST-MODIFIED:20260317T081645Z
UID:62710-1784104200-1784124000@www.link.uma.es
SUMMARY:CW: iGEM European MeetUP - Málaga '26
DESCRIPTION:Coworking\, 4ª planta de Link by UMA\, de 8.30 a 14h \niGEM European MeetUP – Málaga ’26 \nAquí estudiantes\, investigadores y equipos internacionales se reunirán para compartir ideas y conocimiento de actualidad en biotecnología y biología sintética\, ¡todo desde una perspectiva técnica\, social y emprendedora! \nInscripciones para estudiantes de la Universidad de Málaga abiertas próximamente\, ¡no faltes! \niGEM MeetUPs are collaborative gatherings that bring together teams and individuals interested in the field of biotechnology and synthetic biology\, with the aim of sharing projects\, disseminating ideas\, establishing collaborations\, and strengthening the local and regional scientific community.\nThis promotes mutual learning and the dissemination of innovative ideas\, while promoting local research and raising the profile of the city where it takes place. \nThink. Share. Learn. All in La Costa del Sol!
URL:https://www.link.uma.es/event/cw-igem-european-meetup-malaga-26-2/
LOCATION:Coworking\, 4ª planta de Link by UMA
ORGANIZER;CN="%C3%81ngel Navarro Fern%C3%A1ndez. Cicerone de Emprendimiento UMA":MAILTO:angelnavfer@uma.es
END:VEVENT
BEGIN:VEVENT
DTSTART;TZID=UTC:20260715T083000
DTEND;TZID=UTC:20260715T143000
DTSTAMP:20260424T060701
CREATED:20251030T103230Z
LAST-MODIFIED:20251030T103230Z
UID:61885-1784104200-1784125800@www.link.uma.es
SUMMARY:3.01+3.02: Cursos de Verano de la UMA 2026
DESCRIPTION:Salas 3.01 y 3.02\, 3ª planta de Link by UMA\, de 8:30 a 14:30h \nCursos de Verano de la UMA 2026
URL:https://www.link.uma.es/event/3-013-02-cursos-de-verano-de-la-uma-2026-3/
LOCATION:Salas 3.01 y 3.02 de Link by UMA
ATTACH;FMTTYPE=image/png:https://www.link.uma.es/wp-content/uploads/2019/03/logo-fguma.png
END:VEVENT
BEGIN:VEVENT
DTSTART;TZID=UTC:20260716T083000
DTEND;TZID=UTC:20260716T140000
DTSTAMP:20260424T060701
CREATED:20260317T081903Z
LAST-MODIFIED:20260317T081903Z
UID:62715-1784190600-1784210400@www.link.uma.es
SUMMARY:S.A: iGEM European MeetUP - Málaga '26
DESCRIPTION:Salón de Actos\,  planta baja de Link by UMA\, de 8.30 a 14h \niGEM European MeetUP – Málaga ’26 \nAquí estudiantes\, investigadores y equipos internacionales se reunirán para compartir ideas y conocimiento de actualidad en biotecnología y biología sintética\, ¡todo desde una perspectiva técnica\, social y emprendedora! \nInscripciones para estudiantes de la Universidad de Málaga abiertas próximamente\, ¡no faltes! \niGEM MeetUPs are collaborative gatherings that bring together teams and individuals interested in the field of biotechnology and synthetic biology\, with the aim of sharing projects\, disseminating ideas\, establishing collaborations\, and strengthening the local and regional scientific community.\nThis promotes mutual learning and the dissemination of innovative ideas\, while promoting local research and raising the profile of the city where it takes place. \nThink. Share. Learn. All in La Costa del Sol!
URL:https://www.link.uma.es/event/s-a-igem-european-meetup-malaga-26/
LOCATION:Salón de Actos\, Planta Baja\, Avenida Louis Pasteur\, 47\, Málaga\, Málaga\, 29010\, España
ORGANIZER;CN="%C3%81ngel Navarro Fern%C3%A1ndez. Cicerone de Emprendimiento UMA":MAILTO:angelnavfer@uma.es
END:VEVENT
BEGIN:VEVENT
DTSTART;TZID=UTC:20260716T083000
DTEND;TZID=UTC:20260716T143000
DTSTAMP:20260424T060701
CREATED:20251030T103353Z
LAST-MODIFIED:20251030T103353Z
UID:61887-1784190600-1784212200@www.link.uma.es
SUMMARY:3.01+3.02: Cursos de Verano de la UMA 2026
DESCRIPTION:Salas 3.01 y 3.02\, 3ª planta de Link by UMA\, de 8:30 a 14:30h \nCursos de Verano de la UMA 2026
URL:https://www.link.uma.es/event/3-013-02-cursos-de-verano-de-la-uma-2026-4/
LOCATION:Salas 3.01 y 3.02 de Link by UMA
ATTACH;FMTTYPE=image/png:https://www.link.uma.es/wp-content/uploads/2019/03/logo-fguma.png
END:VEVENT
BEGIN:VEVENT
DTSTART;TZID=UTC:20260717T083000
DTEND;TZID=UTC:20260717T143000
DTSTAMP:20260424T060701
CREATED:20251030T103529Z
LAST-MODIFIED:20251030T103529Z
UID:61889-1784277000-1784298600@www.link.uma.es
SUMMARY:3.01+3.02: Cursos de Verano de la UMA 2026
DESCRIPTION:Salas 3.01 y 3.02\, 3ª planta de Link by UMA\, de 8:30 a 14:30h \nCursos de Verano de la UMA 2026
URL:https://www.link.uma.es/event/3-013-02-cursos-de-verano-de-la-uma-2026-5/
LOCATION:Salas 3.01 y 3.02 de Link by UMA
ATTACH;FMTTYPE=image/png:https://www.link.uma.es/wp-content/uploads/2019/03/logo-fguma.png
END:VEVENT
BEGIN:VEVENT
DTSTART;TZID=UTC:20260911T083000
DTEND;TZID=UTC:20260911T153000
DTSTAMP:20260424T060701
CREATED:20260410T063843Z
LAST-MODIFIED:20260410T063843Z
UID:62783-1789115400-1789140600@www.link.uma.es
SUMMARY:CW+SA+3.01+3.02+2.02. Jornada alumnado Telecomunicación
DESCRIPTION:Salón de Actos\, Coworking\, 3ª planta y sala 2.02\, de 8.30 a 15.30h \nJornada con alumnos por inauguración de clases\, con ponentes externos
URL:https://www.link.uma.es/event/cwsa3-013-022-02-jornada-alumnado-telecomunicacion/
LOCATION:Coworking+Salas 3.01+3.02+2.01+2.02+Salón de Actos
ATTACH;FMTTYPE=image/png:https://www.link.uma.es/wp-content/uploads/2026/04/UMA_logo.png
ORGANIZER;CN="Raquel Barco. ETSI Telecomunicaci%C3%B3n":MAILTO:rbarco@uma.es
END:VEVENT
BEGIN:VEVENT
DTSTART;TZID=UTC:20260916T080000
DTEND;TZID=UTC:20260916T200000
DTSTAMP:20260424T060701
CREATED:20250708T082443Z
LAST-MODIFIED:20250708T082443Z
UID:61249-1789545600-1789588800@www.link.uma.es
SUMMARY:Salón de Actos. EPNOE Junior Scientist Meeting
DESCRIPTION:Reunión científica EPNOE Junior Scientist Meeting que tendrá lugar en Málaga en el período 16-18 de septiembre de 2026.
URL:https://www.link.uma.es/event/salon-de-actos-epnoe-junior-scientist-meeting/
LOCATION:Salón de Actos
ATTACH;FMTTYPE=image/jpeg:https://www.link.uma.es/wp-content/uploads/2025/07/Banner_EPNOE_2026_16-18_september-scaled.jpg
ORGANIZER;CN="Susana Guzm%C3%A1n Puyol":MAILTO:susana.guzman@uma.es
END:VEVENT
BEGIN:VEVENT
DTSTART;TZID=UTC:20260917T080000
DTEND;TZID=UTC:20260917T200000
DTSTAMP:20260424T060701
CREATED:20250708T082801Z
LAST-MODIFIED:20250708T082801Z
UID:61253-1789632000-1789675200@www.link.uma.es
SUMMARY:Salón de Actos. EPNOE Junior Scientist Meeting
DESCRIPTION:Reunión científica EPNOE Junior Scientist Meeting que tendrá lugar en Málaga en el período 16-18 de septiembre de 2026.
URL:https://www.link.uma.es/event/salon-de-actos-epnoe-junior-scientist-meeting-2/
LOCATION:Salón de Actos
ATTACH;FMTTYPE=image/jpeg:https://www.link.uma.es/wp-content/uploads/2025/07/Banner_EPNOE_2026_16-18_september-scaled.jpg
ORGANIZER;CN="Susana Guzm%C3%A1n Puyol":MAILTO:susana.guzman@uma.es
END:VEVENT
BEGIN:VEVENT
DTSTART;TZID=UTC:20260918T080000
DTEND;TZID=UTC:20260918T200000
DTSTAMP:20260424T060701
CREATED:20250708T090221Z
LAST-MODIFIED:20250708T090252Z
UID:61258-1789718400-1789761600@www.link.uma.es
SUMMARY:Salón de Actos. EPNOE Junior Scientist Meeting
DESCRIPTION:Reunión científica EPNOE Junior Scientist Meeting que tendrá lugar en Málaga en el período 16-18 de septiembre de 2026.
URL:https://www.link.uma.es/event/salon-de-actos-epnoe-junior-scientist-meeting-4/
LOCATION:Salón de Actos\, Planta Baja\, Avenida Louis Pasteur\, 47\, Málaga\, Málaga\, 29010\, España
ATTACH;FMTTYPE=image/jpeg:https://www.link.uma.es/wp-content/uploads/2025/07/Banner_EPNOE_2026_16-18_september-scaled.jpg
ORGANIZER;CN="Susana Guzm%C3%A1n Puyol":MAILTO:susana.guzman@uma.es
END:VEVENT
BEGIN:VEVENT
DTSTART;TZID=UTC:20261001T090000
DTEND;TZID=UTC:20261001T190000
DTSTAMP:20260424T060701
CREATED:20260417T112838Z
LAST-MODIFIED:20260417T113318Z
UID:62843-1790845200-1790881200@www.link.uma.es
SUMMARY:3.01+3.02. Reunión First Lego League Spain
DESCRIPTION:Salas 3.01 y 3.02 de Link by UMA\, de 9 a 17h \nReunión socios educativos del programa FIRST LEGO League en España -2026 \nFIRST® LEGO® League (FLL) es un programa educativo a nivel internacional que fomenta vocaciones científico-tecnológicas entre los jóvenes de 4 a 16 años a partir de experiencias prácticas y divertidas\, resolviendo problemas del mundo real para ayudar a construir un futuro mejor\, que ya inspiran a más de 700.000 jóvenes en 110 países de todo el mundo. \nCada año\, FLL ofrece un desafío nuevo y emocionante a todos los equipos con el objetivo de estimular su creatividad a través de las áreas STEAM (Science\, Technology\, Engineering\, Art and Mathematics). \nCada equipo comienza a adentrarse en la temática anual diseñando y construyendo un robot que sea capaz de solventar los retos propuestos. Además\, tendrán que investigar a cerca de esta temática y realizar un proyecto de innovación que ponga solución a un problema real. Los equipos documentarán su trabajo y compartirán sus hallazgos. \nA lo largo de esta experiencia\, cada uno de ellos deberá defender los CORE VALUES fundamentales de FLL\, los cuales son: descubrimiento\, trabajo en equipo\, inclusión\, impacto\, diversión\, innovación y gracious professionalism®. \nCada una de sus tres categorías  inspirar el desarrollo de habilidades de pensamiento crítico\, experimentación y diseño creativo. \n¡Las áreas STEAM es de tod@s y para tod@s!
URL:https://www.link.uma.es/event/3-013-02-reunion-first-lego-league-spain/
LOCATION:Salas 3.01 y 3.02 de Link by UMA
ATTACH;FMTTYPE=image/png:https://www.link.uma.es/wp-content/uploads/2017/12/FIRSTLego_IconVert_RGB.png
ORGANIZER;CN="Javier Butrague%C3%B1o. Asocaci%C3%B3n Ingenier%C3%ADa Soy":MAILTO:asociacion@ingeniera.soy
END:VEVENT
BEGIN:VEVENT
DTSTART;TZID=UTC:20261002T090000
DTEND;TZID=UTC:20261002T170000
DTSTAMP:20260424T060701
CREATED:20260417T113228Z
LAST-MODIFIED:20260417T113228Z
UID:62846-1790931600-1790960400@www.link.uma.es
SUMMARY:3.01+3.02. Reunión First Lego League Spain
DESCRIPTION:Salas 3.01 y 3.02 de Link by UMA\, de 9 a 17h \nDia 2 de la Reunión socios educativos del programa FIRST LEGO League en España 2026 \nFIRST® LEGO® League (FLL) es un programa educativo a nivel internacional que fomenta vocaciones científico-tecnológicas entre los jóvenes de 4 a 16 años a partir de experiencias prácticas y divertidas\, resolviendo problemas del mundo real para ayudar a construir un futuro mejor\, que ya inspiran a más de 700.000 jóvenes en 110 países de todo el mundo. \nCada año\, FLL ofrece un desafío nuevo y emocionante a todos los equipos con el objetivo de estimular su creatividad a través de las áreas STEAM (Science\, Technology\, Engineering\, Art and Mathematics). \nCada equipo comienza a adentrarse en la temática anual diseñando y construyendo un robot que sea capaz de solventar los retos propuestos. Además\, tendrán que investigar a cerca de esta temática y realizar un proyecto de innovación que ponga solución a un problema real. Los equipos documentarán su trabajo y compartirán sus hallazgos. \nA lo largo de esta experiencia\, cada uno de ellos deberá defender los CORE VALUES fundamentales de FLL\, los cuales son: descubrimiento\, trabajo en equipo\, inclusión\, impacto\, diversión\, innovación y gracious professionalism®. \nCada una de sus tres categorías  inspirar el desarrollo de habilidades de pensamiento crítico\, experimentación y diseño creativo. \n¡Las áreas STEAM es de tod@s y para tod@s!
URL:https://www.link.uma.es/event/3-013-02-reunion-first-lego-league-spain-2/
LOCATION:Salas 3.01 y 3.02 de Link by UMA
ATTACH;FMTTYPE=image/png:https://www.link.uma.es/wp-content/uploads/2017/12/FIRSTLego_IconVert_RGB.png
ORGANIZER;CN="Javier Butrague%C3%B1o. Asocaci%C3%B3n Ingenier%C3%ADa Soy":MAILTO:asociacion@ingeniera.soy
END:VEVENT
BEGIN:VEVENT
DTSTART;TZID=UTC:20270929T080000
DTEND;TZID=UTC:20270929T200000
DTSTAMP:20260424T060701
CREATED:20260324T080551Z
LAST-MODIFIED:20260324T080551Z
UID:62746-1822204800-1822248000@www.link.uma.es
SUMMARY:S.A+3ª+2.01+2.02. HISON 2027\, congreso de lingüística inglesa
DESCRIPTION:Salón de Actos\, 3ª planta\, 2.01 y 2.02\, de 8 a 20h \nHISON 2027\, congreso de lingüística inglesa
URL:https://www.link.uma.es/event/s-a3a2-012-02-hison-2027-congreso-de-linguistica-inglesa/
LOCATION:Salón de Actos +3.01+3.02+2.01+2.02
ORGANIZER;CN="Jes%C3%BAs Romero Barranco. Dpto. Filolog%C3%ADa Inglesa%2C Francesa y Alemana":MAILTO:jromer@uma.es
END:VEVENT
BEGIN:VEVENT
DTSTART;TZID=UTC:20270930T080000
DTEND;TZID=UTC:20270930T170000
DTSTAMP:20260424T060701
CREATED:20260324T080739Z
LAST-MODIFIED:20260324T080739Z
UID:62750-1822291200-1822323600@www.link.uma.es
SUMMARY:S.A+3ª+2.01+2.02. HISON 2027\, congreso de lingüística inglesa
DESCRIPTION:Salón de Actos\, 3ª planta\, 2.01 y 2.02\, de 8 a 20h \nHISON 2027\, congreso de lingüística inglesa
URL:https://www.link.uma.es/event/s-a3a2-012-02-hison-2027-congreso-de-linguistica-inglesa-2/
LOCATION:Salón de Actos +3.01+3.02+2.01+2.02
ORGANIZER;CN="Jes%C3%BAs Romero Barranco. Dpto. Filolog%C3%ADa Inglesa%2C Francesa y Alemana":MAILTO:jromer@uma.es
END:VEVENT
BEGIN:VEVENT
DTSTART;TZID=UTC:20271001T080000
DTEND;TZID=UTC:20271001T200000
DTSTAMP:20260424T060701
CREATED:20260324T080902Z
LAST-MODIFIED:20260324T080902Z
UID:62752-1822377600-1822420800@www.link.uma.es
SUMMARY:S.A+3ª+2.01+2.02. HISON 2027\, congreso de lingüística inglesa
DESCRIPTION:Salón de Actos\, 3ª planta\, 2.01 y 2.02\, de 8 a 20h \nHISON 2027\, congreso de lingüística inglesa
URL:https://www.link.uma.es/event/s-a3a2-012-02-hison-2027-congreso-de-linguistica-inglesa-3/
LOCATION:Salón de Actos +3.01+3.02+2.01+2.02
ORGANIZER;CN="Jes%C3%BAs Romero Barranco. Dpto. Filolog%C3%ADa Inglesa%2C Francesa y Alemana":MAILTO:jromer@uma.es
END:VEVENT
END:VCALENDAR