BEGIN:VCALENDAR
VERSION:2.0
PRODID:-//LINK by UMA-ATech - ECPv6.15.20//NONSGML v1.0//EN
CALSCALE:GREGORIAN
METHOD:PUBLISH
X-WR-CALNAME:LINK by UMA-ATech
X-ORIGINAL-URL:https://www.link.uma.es
X-WR-CALDESC:Eventos para LINK by UMA-ATech
REFRESH-INTERVAL;VALUE=DURATION:PT1H
X-Robots-Tag:noindex
X-PUBLISHED-TTL:PT1H
BEGIN:VTIMEZONE
TZID:UTC
BEGIN:STANDARD
TZOFFSETFROM:+0000
TZOFFSETTO:+0000
TZNAME:UTC
DTSTART:20250101T000000
END:STANDARD
END:VTIMEZONE
BEGIN:VEVENT
DTSTART;TZID=UTC:20260320T080000
DTEND;TZID=UTC:20260320T180000
DTSTAMP:20260424T164503
CREATED:20251124T091519Z
LAST-MODIFIED:20260320T083948Z
UID:62034-1773993600-1774029600@www.link.uma.es
SUMMARY:2.01+3.01+3.02: Reunión Anual Soludable 2026
DESCRIPTION:Salas 2.01+3.01 y 3.02\, de 8 a 18 h \nReunión Anual Soludable 2026 \nLa Reunión Anual de Soludable supone el encuentro de un grupo formado por más de 90 expertos de diferentes áreas\, profesionales sanitarios\, profesorado de educación primaria\, secundaria y universitaria\, expertos de prevención de riesgos laborales\, nutricionistas y cocineros entre\, otros muchos. \nLa Reunión Soludable de 2026 será un momento para echar una mirada hacia atrás\, pero también para «poner las cartas sobre la mesa» en materia de exposición solar\, prevención de cáncer de piel y fotoprotección. Hoy en día\, en un mundo saturado de información\, hemos de conocer los desafíos\, las cuestiones y las dudas que están en el aire para poder dar una respuesta con seguridad a las preguntas\, o simplemente reconocer que la ciencia aún no ha dado solución para algún tema. \nCon un formato de charlas de TED\, expertos de dermatología\, fotobiología\, y otros campos relacionados con la prevención del cáncer de piel en diferentes ámbitos de la sociedad\, darán a conocer la actualidad e invitarán a poner en común las dudas\, inquietudes y preocupaciones del comité asesor del proyecto.
URL:https://www.link.uma.es/event/2-013-013-02-reunion-anual-soludable-2026-2/
LOCATION:Sala 2.01+3.01+3.02
ATTACH;FMTTYPE=image/jpeg:https://www.link.uma.es/wp-content/uploads/2021/07/logo-soludable.jpg
ORGANIZER;CN="Andris Subert. Comunicaci%C3%B3n Grupo Soludable":MAILTO:Comunicacion Soludable
END:VEVENT
BEGIN:VEVENT
DTSTART;TZID=UTC:20260323T133000
DTEND;TZID=UTC:20260323T153000
DTSTAMP:20260424T164503
CREATED:20260313T104537Z
LAST-MODIFIED:20260313T104537Z
UID:62695-1774272600-1774279800@www.link.uma.es
SUMMARY:2.02. Taller práctico de Oratoria y Comunicación
DESCRIPTION:Sala 2.02\, 2ª planta de Link by UMA\, de 13.30 a 15.30h \nTaller práctico de Oratoria y Comunicación
URL:https://www.link.uma.es/event/2-02-taller-practico-de-oratoria-y-comunicacion-2/
LOCATION:Sala 2.02\, Segunda Planta\, Avenida Louis Pasteur\, 47\, Málaga\, Málaga\, 29010\, España
ORGANIZER;CN="Beatriz G%C3%B3mez. Orientadora Universitaria":MAILTO:beatrizgomez@uma.es
END:VEVENT
BEGIN:VEVENT
DTSTART;TZID=UTC:20260323T163000
DTEND;TZID=UTC:20260323T203000
DTSTAMP:20260424T164503
CREATED:20260313T103313Z
LAST-MODIFIED:20260313T103313Z
UID:62690-1774283400-1774297800@www.link.uma.es
SUMMARY:2.01. Grabación podcast UMA Racing SPEAKS
DESCRIPTION:Sala 2.01\, 2ª planta de Link by UMA\, de 16.30 a 20.30h \nGrabación de Podcast de UMA Racing SPEAKS
URL:https://www.link.uma.es/event/2-01-grabacion-podcast-uma-racing-speaks-2/
LOCATION:Sala 2.01\, Segunda Planta\, Avenida Louis Pasteur\, 47\, Málaga\, Málaga\, 29010\, España
ORGANIZER;CN="Patricia %C3%81vila. UMA Racing Speaks":MAILTO:0611141637@uma.es
END:VEVENT
BEGIN:VEVENT
DTSTART;TZID=UTC:20260324T090000
DTEND;TZID=UTC:20260324T140000
DTSTAMP:20260424T164503
CREATED:20260305T125400Z
LAST-MODIFIED:20260305T125400Z
UID:62610-1774342800-1774360800@www.link.uma.es
SUMMARY:CW. Formación Univergem
DESCRIPTION:Coworking\, 4ª planta de Link by UMA. de 9 a 14h \nFormación Univergem. \nEl programa está dirigido a mujeres universitarias que deseen mejorar su empleabilidad mediante un acompañamiento individualizado centrado en su proyecto profesional.
URL:https://www.link.uma.es/event/cw-formacion-univergem-3/
LOCATION:Coworking\, 4ª planta de Link by UMA
ATTACH;FMTTYPE=image/jpeg:https://www.link.uma.es/wp-content/uploads/2026/03/descarga-1.jpg
ORGANIZER;CN="Isabel Fern%C3%A1ndez Subires. UMA":MAILTO:isabelf@uma.es
END:VEVENT
BEGIN:VEVENT
DTSTART;TZID=UTC:20260324T100000
DTEND;TZID=UTC:20260324T113000
DTSTAMP:20260424T164503
CREATED:20260217T131243Z
LAST-MODIFIED:20260217T131243Z
UID:62539-1774346400-1774351800@www.link.uma.es
SUMMARY:3.01.Visita alumnado Trabajo Social
DESCRIPTION:Sala 3.01\, 3ª planta de Link by UMA\, de 10 a 11.30h \nVisita alumnado de 4º de Trabajo Social de la mano de su profesora Aurora Garrido. \nBienvenid@s a Link by UMA! \n 
URL:https://www.link.uma.es/event/3-01-visita-alumnado-trabajo-social-2/
LOCATION:Sala 3.01\, Tercera Planta\, Avenida Louis Pasteur\, 47\, Málaga\, Málaga\, 29010\, España
ORGANIZER;CN="Aurora Garrido - UMA":MAILTO:agarridom@uma.es
END:VEVENT
BEGIN:VEVENT
DTSTART;TZID=UTC:20260324T150000
DTEND;TZID=UTC:20260324T210000
DTSTAMP:20260424T164503
CREATED:20251117T103704Z
LAST-MODIFIED:20251117T104650Z
UID:61990-1774364400-1774386000@www.link.uma.es
SUMMARY:301+302 Futuraton Reunión
DESCRIPTION:Sala 301+302\, Tercera planta. \nReunión previa a evento Futuraton.
URL:https://www.link.uma.es/event/reunion-futuraton/
LOCATION:Salas 3.01 + 3.02\, Tercera Planta\, Avenida Louis Pasteur\, 47\, Málaga\, Málaga\, 29010\, España
ORGANIZER;CN="Bel%C3%A9n G%C3%B3mez Garc%C3%ADa":MAILTO:belengomez@uma.es
END:VEVENT
BEGIN:VEVENT
DTSTART;TZID=UTC:20260324T160000
DTEND;TZID=UTC:20260324T170000
DTSTAMP:20260424T164503
CREATED:20260217T131432Z
LAST-MODIFIED:20260217T131432Z
UID:62542-1774368000-1774371600@www.link.uma.es
SUMMARY:CW: Visita alumnado de 4º de Trabajo Social
DESCRIPTION:Coworking\, 4ª planta de Link by UMA\, de 10 a 11.30h \nVisita alumnado de 4º de Trabajo Social de la mano de su profesora Aurora Garrido. \nBienvenid@s a Link by UMA!
URL:https://www.link.uma.es/event/cw-visita-alumnado-de-4o-de-trabajo-social/
LOCATION:coworking
ORGANIZER;CN="Aurora Garrido - UMA":MAILTO:agarridom@uma.es
END:VEVENT
BEGIN:VEVENT
DTSTART;TZID=UTC:20260325T100000
DTEND;TZID=UTC:20260325T120000
DTSTAMP:20260424T164503
CREATED:20260116T094936Z
LAST-MODIFIED:20260116T094936Z
UID:62317-1774432800-1774440000@www.link.uma.es
SUMMARY:2.02 Miércoles x la Orientación
DESCRIPTION:2.02\, 2ª planta – 10.00 a 12.00 h \nHoy tendremos la sesión presencial del alumnado que realiza los cursos sobre desarrollo de competencias: Enfoca tu futuro\, Soft & Digital Skills y Actitud Emprendedora \nLa sesión versará sobre Recursos de formación y Empleo dirigido al colectivo universitario.
URL:https://www.link.uma.es/event/2-02-miercoles-x-la-orientacion-15/
LOCATION:Sala 2.02\, 2ª planta
ATTACH;FMTTYPE=image/jpeg:https://www.link.uma.es/wp-content/uploads/2022/10/miercoles-pro-el-empleo.jpg
ORGANIZER;CN="Laura Marcos. Orientaci%C3%B3n UMA":MAILTO:lauramarcos@uma.es
END:VEVENT
BEGIN:VEVENT
DTSTART;TZID=UTC:20260325T100000
DTEND;TZID=UTC:20260325T120000
DTSTAMP:20260424T164503
CREATED:20260202T122630Z
LAST-MODIFIED:20260202T122711Z
UID:62401-1774432800-1774440000@www.link.uma.es
SUMMARY:2.01 Miércoles x la Orientación - Hablar en Público
DESCRIPTION:2.01\, 2ª planta – 10.00 a 12.00 h \nTaller dirigido al alumnado y egresado de la Universidad de Málaga. \n¿Quién no tiene miedo a hablar en público? Y al mismo tiempo ¿quién no ha tenido que hacerlo en algún momento? En tu carrera profesional necesitarás comunicar tus ideas\, defender tus proyectos. Aprende en este taller a expresarte sin miedo\, descubre el poder de la comunicación verbal y de la no verbal.
URL:https://www.link.uma.es/event/2-02-miercoles-x-la-orientacion-hablar-en-publico/
LOCATION:Sala 2.01\, Segunda Planta\, Avenida Louis Pasteur\, 47\, Málaga\, Málaga\, 29010\, España
ATTACH;FMTTYPE=image/jpeg:https://www.link.uma.es/wp-content/uploads/2022/10/miercoles-pro-el-empleo.jpg
ORGANIZER;CN="Laura Marcos. Orientaci%C3%B3n UMA":MAILTO:lauramarcos@uma.es
END:VEVENT
BEGIN:VEVENT
DTSTART;TZID=UTC:20260325T113000
DTEND;TZID=UTC:20260325T123000
DTSTAMP:20260424T164503
CREATED:20260309T133326Z
LAST-MODIFIED:20260309T133326Z
UID:62640-1774438200-1774441800@www.link.uma.es
SUMMARY:3.01. Visita alumnado FYCO+ADE
DESCRIPTION:Sala 3.01\, 3ª planta de Link by UMA\, de 11:30 a 12:30h \nVisita alumnado de primer curso del doble grado FYCO+ADE\, de la mano de su profesora Virginia Herrera Pérez. Bienvenid@s a Link by UMA!
URL:https://www.link.uma.es/event/3-01-visita-alumnado-fycoade/
LOCATION:Salas 3.01 y 3.02\, 3ª planta
ORGANIZER;CN="Virginia Herrera P%C3%A9rez.UMA":MAILTO:Información adicional
END:VEVENT
BEGIN:VEVENT
DTSTART;TZID=UTC:20260325T120000
DTEND;TZID=UTC:20260325T140000
DTSTAMP:20260424T164503
CREATED:20260319T090009Z
LAST-MODIFIED:20260319T090317Z
UID:62719-1774440000-1774447200@www.link.uma.es
SUMMARY:3.02. Tutoría Prácticas Erasmus+ 2025/2026
DESCRIPTION:Sala 3.02\, 3ª planta de Link by UMA\, de 12 a 14h \nTutoría Prácticas Erasmus+ 2025/2026 – GRADO\, MÁSTER y DOCTORADO
URL:https://www.link.uma.es/event/2-02-tutoria-practicas-erasmus-2025-2026/
LOCATION:Sala 3.02\, Tercera Planta\, Avenida Louis Pasteur\, 47\, Málaga\, Málaga\, 29010\, España
ATTACH;FMTTYPE=image/png:https://www.link.uma.es/wp-content/uploads/2023/03/Erasmus_EU_emblem_with_tagline_EN-1-1.png
ORGANIZER;CN="Alejandro Florido. Pr%C3%A1cticas Erasmus. UMA":MAILTO:florido@uma.es
END:VEVENT
BEGIN:VEVENT
DTSTART;TZID=UTC:20260325T120000
DTEND;TZID=UTC:20260325T180000
DTSTAMP:20260424T164503
CREATED:20260319T102948Z
LAST-MODIFIED:20260319T103808Z
UID:62723-1774440000-1774461600@www.link.uma.es
SUMMARY:2.01. Reunión ViewNext
DESCRIPTION:Sala 2.01\, 2ª planta de Link by UMA\, de 12 a 18h \nReunión interna de ViewNext
URL:https://www.link.uma.es/event/2-01-reunion-viewnext/
LOCATION:Sala 2.01\, Segunda Planta\, Avenida Louis Pasteur\, 47\, Málaga\, Málaga\, 29010\, España
ATTACH;FMTTYPE=image/png:https://www.link.uma.es/wp-content/uploads/2024/03/logotipo_de_viewnext.png
ORGANIZER;CN="Fernando Baena Director ViewNext":MAILTO:fbaena@viewnext.com; gloria.rueda@viewnext.com
END:VEVENT
BEGIN:VEVENT
DTSTART;TZID=UTC:20260325T160000
DTEND;TZID=UTC:20260325T180000
DTSTAMP:20260424T164503
CREATED:20251009T075829Z
LAST-MODIFIED:20251009T075829Z
UID:61702-1774454400-1774461600@www.link.uma.es
SUMMARY:S.A. Microcredencial «Enhancing the Quality of Academic Writing»
DESCRIPTION:Salón de Actos\, planta baja de Link by UMA\, de 16 19h \nMicrocredencial «Enhancing the Quality of Academic Writing» \nEsta formación está dirigida a mejorar las habilidades de escritura académica del alumnado de doctorado para la elaboración y publicación de trabajos de investigación en el contexto actual dotando a las personas participantes de los conocimientos claves para la correcta redacción y presentación de trabajos académicos en inglés\, además de un acercamiento inicial al uso de la IA en la escritura académica.
URL:https://www.link.uma.es/event/s-a-microcredencial-enhancing-the-quality-of-academic-writing-17/
LOCATION:Salón de Actos\, Planta Baja\, Avenida Louis Pasteur\, 47\, Málaga\, Málaga\, 29010\, España
ATTACH;FMTTYPE=image/png:https://www.link.uma.es/wp-content/uploads/2025/09/Escuela-Doctorado-uma.png
ORGANIZER;CN="M%C2%AA Victoria Arenas Valero. Vicerrectorado de Doctorado y Posgrado.":MAILTO:v.arenas@uma.es
END:VEVENT
BEGIN:VEVENT
DTSTART;TZID=UTC:20260326T090000
DTEND;TZID=UTC:20260326T140000
DTSTAMP:20260424T164503
CREATED:20260305T125530Z
LAST-MODIFIED:20260305T125530Z
UID:62612-1774515600-1774533600@www.link.uma.es
SUMMARY:CW. Formación Univergem.
DESCRIPTION:Coworking\, 4ª planta de Link by UMA. de 9 a 14h \nFormación Univergem. \nEl programa está dirigido a mujeres universitarias que deseen mejorar su empleabilidad mediante un acompañamiento individualizado centrado en su proyecto profesional.
URL:https://www.link.uma.es/event/cw-formacion-univergem-4/
LOCATION:Coworking\, 4ª planta de Link by UMA
ATTACH;FMTTYPE=image/jpeg:https://www.link.uma.es/wp-content/uploads/2026/03/descarga-1.jpg
ORGANIZER;CN="Isabel Fern%C3%A1ndez Subires. UMA":MAILTO:isabelf@uma.es
END:VEVENT
BEGIN:VEVENT
DTSTART;TZID=UTC:20260326T160000
DTEND;TZID=UTC:20260326T180000
DTSTAMP:20260424T164503
CREATED:20251009T075054Z
LAST-MODIFIED:20251009T075054Z
UID:61700-1774540800-1774548000@www.link.uma.es
SUMMARY:S.A. Microcredencial «Enhancing the Quality of Academic Writing»
DESCRIPTION:Salón de Actos\, planta baja de Link by UMA\, de 16 19h \nMicrocredencial «Enhancing the Quality of Academic Writing» \nEsta formación está dirigida a mejorar las habilidades de escritura académica del alumnado de doctorado para la elaboración y publicación de trabajos de investigación en el contexto actual dotando a las personas participantes de los conocimientos claves para la correcta redacción y presentación de trabajos académicos en inglés\, además de un acercamiento inicial al uso de la IA en la escritura académica.
URL:https://www.link.uma.es/event/s-a-microcredencial-enhancing-the-quality-of-academic-writing-16/
LOCATION:Salón de Actos\, Planta Baja\, Avenida Louis Pasteur\, 47\, Málaga\, Málaga\, 29010\, España
ATTACH;FMTTYPE=image/png:https://www.link.uma.es/wp-content/uploads/2025/09/Escuela-Doctorado-uma.png
ORGANIZER;CN="M%C2%AA Victoria Arenas Valero. Vicerrectorado de Doctorado y Posgrado.":MAILTO:v.arenas@uma.es
END:VEVENT
BEGIN:VEVENT
DTSTART;TZID=UTC:20260407T090000
DTEND;TZID=UTC:20260407T140000
DTSTAMP:20260424T164503
CREATED:20260305T130420Z
LAST-MODIFIED:20260305T130420Z
UID:62614-1775552400-1775570400@www.link.uma.es
SUMMARY:CW. Formación Univergem
DESCRIPTION:Coworking\, 4ª planta de Link by UMA. de 9 a 14h \nFormación Univergem. \nEl programa está dirigido a mujeres universitarias que deseen mejorar su empleabilidad mediante un acompañamiento individualizado centrado en su proyecto profesional.
URL:https://www.link.uma.es/event/cw-formacion-univergem-5/
LOCATION:Coworking\, 4ª planta de Link by UMA
ATTACH;FMTTYPE=image/jpeg:https://www.link.uma.es/wp-content/uploads/2026/03/descarga-1.jpg
ORGANIZER;CN="Isabel Fern%C3%A1ndez Subires. UMA":MAILTO:isabelf@uma.es
END:VEVENT
BEGIN:VEVENT
DTSTART;TZID=UTC:20260407T133000
DTEND;TZID=UTC:20260407T153000
DTSTAMP:20260424T164503
CREATED:20260313T104709Z
LAST-MODIFIED:20260313T104709Z
UID:62697-1775568600-1775575800@www.link.uma.es
SUMMARY:2.02. Taller práctico de Oratoria y Comunicación
DESCRIPTION:Sala 2.02\, 2ª planta de Link by UMA\, de 13.30 a 15.30h \nTaller práctico de Oratoria y Comunicación
URL:https://www.link.uma.es/event/2-02-taller-practico-de-oratoria-y-comunicacion-3/
LOCATION:Sala 2.02\, 2ª planta
ORGANIZER;CN="Beatriz G%C3%B3mez. Oficina de Atenci%C3%B3n al Estudiante":MAILTO:beatrizgomez@uma.es
END:VEVENT
BEGIN:VEVENT
DTSTART;TZID=UTC:20260408T100000
DTEND;TZID=UTC:20260408T120000
DTSTAMP:20260424T164503
CREATED:20260116T121859Z
LAST-MODIFIED:20260116T121859Z
UID:62319-1775642400-1775649600@www.link.uma.es
SUMMARY:3.01 Miércoles x la Orientación
DESCRIPTION:3.01\, 3ª planta – 10.00 a 12.00 h \nHoy tendremos la sesión presencial del alumnado que realiza los cursos sobre desarrollo de competencias: Enfoca tu futuro\, Soft & Digital Skills y Actitud Emprendedora \nLa sesión versará sobre Recursos de formación y Empleo dirigido al colectivo universitario.
URL:https://www.link.uma.es/event/3-01-miercoles-x-la-orientacion-2/
LOCATION:Sala 3.01\, Tercera Planta\, Avenida Louis Pasteur\, 47\, Málaga\, Málaga\, 29010\, España
ATTACH;FMTTYPE=image/jpeg:https://www.link.uma.es/wp-content/uploads/2022/10/miercoles-pro-el-empleo.jpg
ORGANIZER;CN="Laura Marcos. Orientaci%C3%B3n UMA":MAILTO:lauramarcos@uma.es
END:VEVENT
BEGIN:VEVENT
DTSTART;TZID=UTC:20260408T100000
DTEND;TZID=UTC:20260408T120000
DTSTAMP:20260424T164503
CREATED:20260202T131839Z
LAST-MODIFIED:20260202T131839Z
UID:62404-1775642400-1775649600@www.link.uma.es
SUMMARY:2.02 Miércoles x la Orientación - La entrevista de trabajo
DESCRIPTION:2.02\, 2ª planta – 10.00 a 12.00 h \nTaller dirigido al alumnado y egresado de la Universidad de Málaga. \nUna de las fases críticas en un proceso de selección es la entrevista de trabajo\, aprende las principales claves para superarla con éxito y demostrar todo tu potencial.
URL:https://www.link.uma.es/event/2-02-miercoles-x-la-orientacion-la-entrevista-de-trabajo/
LOCATION:Sala 2.02\, 2ª planta
ATTACH;FMTTYPE=image/jpeg:https://www.link.uma.es/wp-content/uploads/2022/10/miercoles-pro-el-empleo.jpg
ORGANIZER;CN="Laura Marcos. Orientaci%C3%B3n UMA":MAILTO:lauramarcos@uma.es
END:VEVENT
BEGIN:VEVENT
DTSTART;TZID=UTC:20260408T160000
DTEND;TZID=UTC:20260408T180000
DTSTAMP:20260424T164503
CREATED:20251009T080723Z
LAST-MODIFIED:20251009T080723Z
UID:61708-1775664000-1775671200@www.link.uma.es
SUMMARY:S.A. Microcredencial «Enhancing the Quality of Academic Writing»
DESCRIPTION:Salón de Actos\, planta baja de Link by UMA\, de 16 19h \nMicrocredencial «Enhancing the Quality of Academic Writing» \nEsta formación está dirigida a mejorar las habilidades de escritura académica del alumnado de doctorado para la elaboración y publicación de trabajos de investigación en el contexto actual dotando a las personas participantes de los conocimientos claves para la correcta redacción y presentación de trabajos académicos en inglés\, además de un acercamiento inicial al uso de la IA en la escritura académica.
URL:https://www.link.uma.es/event/s-a-microcredencial-enhancing-the-quality-of-academic-writing-20/
LOCATION:Salón de Actos\, Planta Baja\, Avenida Louis Pasteur\, 47\, Málaga\, Málaga\, 29010\, España
ATTACH;FMTTYPE=image/png:https://www.link.uma.es/wp-content/uploads/2025/09/Escuela-Doctorado-uma.png
ORGANIZER;CN="M%C2%AA Victoria Arenas Valero. Vicerrectorado de Doctorado y Posgrado.":MAILTO:v.arenas@uma.es
END:VEVENT
BEGIN:VEVENT
DTSTART;TZID=UTC:20260409T080000
DTEND;TZID=UTC:20260409T230000
DTSTAMP:20260424T164503
CREATED:20260203T120836Z
LAST-MODIFIED:20260203T120836Z
UID:62428-1775721600-1775775600@www.link.uma.es
SUMMARY:S.A+3.01+3.02+CW: Flash Session Hackathon 9
DESCRIPTION:Salón de Actos\, 3ª planta y Coworking de Link by UMA\, de 8 a 23h \nFlash Session Hackathon 9
URL:https://www.link.uma.es/event/s-a3-013-02cw-flash-session-hackathon-9/
LOCATION:Coworking+3.01+Salón de Actos
ORGANIZER;CN="Daniel Salobre%C3%B1a. Diverxia Consulting":MAILTO:dsalobrena@diverxiaconsulting.com
END:VEVENT
BEGIN:VEVENT
DTSTART;TZID=UTC:20260409T160000
DTEND;TZID=UTC:20260409T190000
DTSTAMP:20260424T164503
CREATED:20260409T083314Z
LAST-MODIFIED:20260409T083314Z
UID:62769-1775750400-1775761200@www.link.uma.es
SUMMARY:2.02. Microcredencial «Enhancing the Quality of Academic Writing»
DESCRIPTION:Sala 2.02\, 2ª planta de Link by UMA\, de 16 19h \nMicrocredencial «Enhancing the Quality of Academic Writing» \nEsta formación está dirigida a mejorar las habilidades de escritura académica del alumnado de doctorado para la elaboración y publicación de trabajos de investigación en el contexto actual dotando a las personas participantes de los conocimientos claves para la correcta redacción y presentación de trabajos académicos en inglés\, además de un acercamiento inicial al uso de la IA en la escritura académica.
URL:https://www.link.uma.es/event/2-02-microcredencial-enhancing-the-quality-of-academic-writing/
LOCATION:Sala 2.02\, 2ª planta
ORGANIZER;CN="Rosario Arias. Literatura Inglesa. UMA":MAILTO:rarias@uma.es
END:VEVENT
BEGIN:VEVENT
DTSTART;TZID=UTC:20260410T080000
DTEND;TZID=UTC:20260410T190000
DTSTAMP:20260424T164503
CREATED:20260203T121012Z
LAST-MODIFIED:20260203T121012Z
UID:62430-1775808000-1775847600@www.link.uma.es
SUMMARY:S.A+3.01+3.02+CW: Flash Session Hackathon 9
DESCRIPTION:Salón de Actos\, 3ª planta y Coworking de Link by UMA\, de 8 a 19h \nFlash Session Hackathon 9
URL:https://www.link.uma.es/event/s-a3-013-02cw-flash-session-hackathon-9-2/
LOCATION:Coworking+3.01+Salón de Actos
ORGANIZER;CN="Daniel Salobre%C3%B1a. Diverxia Consulting":MAILTO:dsalobrena@diverxiaconsulting.com
END:VEVENT
BEGIN:VEVENT
DTSTART;TZID=UTC:20260410T100000
DTEND;TZID=UTC:20260410T140000
DTSTAMP:20260424T164503
CREATED:20260323T115644Z
LAST-MODIFIED:20260323T115644Z
UID:62744-1775815200-1775829600@www.link.uma.es
SUMMARY:S.A. Formación Univergem
DESCRIPTION:Salón de Actos\, planta baja – 10.00 a 14.00 h \nFormación Univergem
URL:https://www.link.uma.es/event/s-a-formacion-univergem/
LOCATION:Salón de Actos\, Planta Baja\, Avenida Louis Pasteur\, 47\, Málaga\, Málaga\, 29010\, España
ATTACH;FMTTYPE=image/png:https://www.link.uma.es/wp-content/uploads/2020/02/Univergem.png
ORGANIZER;CN="Gema L%C3%B3pez Montiel. Empleabilidad y Emprendimiento UMA":MAILTO:glopez@uma.es
END:VEVENT
BEGIN:VEVENT
DTSTART;TZID=UTC:20260413T090000
DTEND;TZID=UTC:20260413T130000
DTSTAMP:20260424T164503
CREATED:20260313T100040Z
LAST-MODIFIED:20260313T100040Z
UID:62680-1776070800-1776085200@www.link.uma.es
SUMMARY:2.01. Reunión Grupo Solodable
DESCRIPTION:Sala 2.01\, 2ª planta de Link by UMA\, de 9 a 14h \nReunión del grupo Estratégico Soludable
URL:https://www.link.uma.es/event/2-01-reunion-grupo-solodable/
LOCATION:Sala 2.01\, Segunda Planta\, Avenida Louis Pasteur\, 47\, Málaga\, Málaga\, 29010\, España
ORGANIZER;CN="Ximena Montoya. Grupo Soludable":MAILTO:fotolaboral.soludable@gmail.com
END:VEVENT
BEGIN:VEVENT
DTSTART;TZID=UTC:20260413T133000
DTEND;TZID=UTC:20260413T153000
DTSTAMP:20260424T164503
CREATED:20260313T104809Z
LAST-MODIFIED:20260313T104809Z
UID:62699-1776087000-1776094200@www.link.uma.es
SUMMARY:2.02. Taller práctico de Oratoria y Comunicación
DESCRIPTION:Sala 2.02\, 2ª planta de Link by UMA\, de 13.30 a 15.30h \nTaller práctico de Oratoria y Comunicación
URL:https://www.link.uma.es/event/2-02-taller-practico-de-oratoria-y-comunicacion-4/
LOCATION:Sala 2.02\, Segunda Planta\, Avenida Louis Pasteur\, 47\, Málaga\, Málaga\, 29010\, España
ORGANIZER;CN="Beatriz G%C3%B3mez. Oficina de Atenci%C3%B3n al Estudiante":MAILTO:beatrizgomez@uma.es
END:VEVENT
BEGIN:VEVENT
DTSTART;TZID=UTC:20260414T090000
DTEND;TZID=UTC:20260414T140000
DTSTAMP:20260424T164503
CREATED:20260305T130757Z
LAST-MODIFIED:20260305T130757Z
UID:62616-1776157200-1776175200@www.link.uma.es
SUMMARY:CW. Formación Univergem
DESCRIPTION:Coworking\, 4ª planta de Link by UMA. de 9 a 14h \nFormación Univergem. \nEl programa está dirigido a mujeres universitarias que deseen mejorar su empleabilidad mediante un acompañamiento individualizado centrado en su proyecto profesional.
URL:https://www.link.uma.es/event/cw-formacion-univergem-6/
LOCATION:Coworking\, 4ª planta de Link by UMA
ATTACH;FMTTYPE=image/jpeg:https://www.link.uma.es/wp-content/uploads/2026/03/descarga-1.jpg
ORGANIZER;CN="Isabel Fern%C3%A1ndez Subires. UMA":MAILTO:isabelf@uma.es
END:VEVENT
BEGIN:VEVENT
DTSTART;TZID=UTC:20260415T090000
DTEND;TZID=UTC:20260415T140000
DTSTAMP:20260424T164503
CREATED:20260217T121557Z
LAST-MODIFIED:20260217T121557Z
UID:62489-1776243600-1776261600@www.link.uma.es
SUMMARY:3.01. Aula IKEA Training: Visual Merchandising
DESCRIPTION:Sala 3.01\, de 9 a 14h \nCurso de especialización en Visual Merchandising dirigido a estudiantes de cualquier disciplina con interés en desarrollar las competencias profesionales necesarias para trabajar como visual merchandiser en el sector retail (comercio minorista). \n¿Quieres impulsar tu carrera profesional como visual merchandiser?  \nSi te interesa el mundo del interiorismo y del visual merchandising y quieres trabajar en el sector\, este curso te dará la oportunidad de adquirir las competencias profesionales necesarias para ello de la mano de IKEA\, líder mundial en la venta de muebles y decoración. \n¿Cuál es la función de un visual merchandiser en IKEA? \nEl visual merchandiser da vida a los productos en las tiendas\, en la web y en muchos más sitios. Combinas los colores\, las texturas\, los diseños y los muebles en soluciones prácticas que emocionan\, atraen y convencen\, a quienes visitan IKEA\, de que también pueden hacer lo mismo en sus casas. Sus soluciones\, diseños y presentación del surtido inspiran a la mayoría de las personas para llevarse a casa los productos y disfrutar de una mejor vida en el hogar gracias a ellos. \nFinalizado los tres módulos del curso\, muchos tendréis la oportunidad de realizar prácticas como visual merchandisers en el Departamento de Home Furnishing & Retail Design de la tienda IKEA de Málaga.
URL:https://www.link.uma.es/event/3-01-aula-ikea-training-visual-merchandising-3/
LOCATION:Sala 3.01\, Tercera Planta\, Avenida Louis Pasteur\, 47\, Málaga\, Málaga\, 29010\, España
ATTACH;FMTTYPE=image/jpeg:https://www.link.uma.es/wp-content/uploads/2024/01/Ikea-training.jpg
END:VEVENT
BEGIN:VEVENT
DTSTART;TZID=UTC:20260415T100000
DTEND;TZID=UTC:20260415T120000
DTSTAMP:20260424T164503
CREATED:20260202T132021Z
LAST-MODIFIED:20260202T132021Z
UID:62406-1776247200-1776254400@www.link.uma.es
SUMMARY:2.02 Miércoles x la Orientación - Comunicación y gestión de conflictos
DESCRIPTION:2.02\, 2ª planta – 10.00 a 12.00 h \nTaller dirigido al alumnado y egresado de la Universidad de Málaga. \n 
URL:https://www.link.uma.es/event/2-02-miercoles-x-la-orientacion-comunicacion-y-gestion-de-conflictos/
LOCATION:Sala 2.02\, 2ª planta
ATTACH;FMTTYPE=image/jpeg:https://www.link.uma.es/wp-content/uploads/2022/10/miercoles-pro-el-empleo.jpg
ORGANIZER;CN="Laura Marcos. Orientaci%C3%B3n UMA":MAILTO:lauramarcos@uma.es
END:VEVENT
BEGIN:VEVENT
DTSTART;TZID=UTC:20260415T120000
DTEND;TZID=UTC:20260415T140000
DTSTAMP:20260424T164503
CREATED:20260406T080908Z
LAST-MODIFIED:20260406T080908Z
UID:62759-1776254400-1776261600@www.link.uma.es
SUMMARY:2.02: Tutoría Prácticas Erasmus+
DESCRIPTION:Sala 2.02\, 2ª planta de Link by UMA\, de 12 a 14h \nTutoría Prácticas Erasmus+ 2025/2026 – GRADO\, MÁSTER y DOCTORADO
URL:https://www.link.uma.es/event/2-02-tutoria-practicas-erasmus-4/
LOCATION:Sala 2.02\, 2ª planta
ATTACH;FMTTYPE=image/png:https://www.link.uma.es/wp-content/uploads/2023/03/erasmus-logo.png
ORGANIZER;CN="Alejandro Florido. Pr%C3%A1cticas Erasmus. UMA":MAILTO:florido@uma.es
END:VEVENT
END:VCALENDAR