BEGIN:VCALENDAR
VERSION:2.0
PRODID:-//LINK by UMA-ATech - ECPv6.15.20//NONSGML v1.0//EN
CALSCALE:GREGORIAN
METHOD:PUBLISH
X-WR-CALNAME:LINK by UMA-ATech
X-ORIGINAL-URL:https://www.link.uma.es
X-WR-CALDESC:Eventos para LINK by UMA-ATech
REFRESH-INTERVAL;VALUE=DURATION:PT1H
X-Robots-Tag:noindex
X-PUBLISHED-TTL:PT1H
BEGIN:VTIMEZONE
TZID:UTC
BEGIN:STANDARD
TZOFFSETFROM:+0000
TZOFFSETTO:+0000
TZNAME:UTC
DTSTART:20240101T000000
END:STANDARD
END:VTIMEZONE
BEGIN:VEVENT
DTSTART;TZID=UTC:20251110T080000
DTEND;TZID=UTC:20251110T170000
DTSTAMP:20260424T180623
CREATED:20251009T083402Z
LAST-MODIFIED:20251009T083402Z
UID:61712-1762761600-1762794000@www.link.uma.es
SUMMARY:3.02. Workshop Softproject
DESCRIPTION:Sala 3.02\, 3ª planta de Link by UMA\, de 8 a 17h \nWorkshop Softproject
URL:https://www.link.uma.es/event/3-02-workshop-softproject/
LOCATION:Sala 3.02\, Tercera Planta\, Avenida Louis Pasteur\, 47\, Málaga\, Málaga\, 29010\, España
ATTACH;FMTTYPE=image/png:https://www.link.uma.es/wp-content/uploads/2021/10/SoftProject.png
ORGANIZER;CN="Francisco Miguel Prieto. SoftProject":MAILTO:francisco.prieto@softproject.es
END:VEVENT
BEGIN:VEVENT
DTSTART;TZID=UTC:20251110T100000
DTEND;TZID=UTC:20251110T140000
DTSTAMP:20260424T180623
CREATED:20251029T121203Z
LAST-MODIFIED:20251029T121203Z
UID:61848-1762768800-1762783200@www.link.uma.es
SUMMARY:CW Formación Metro Málaga
DESCRIPTION:Coworking\, 4ª planta – 10.00 a 14.00 h \nTendrá lugar una formación de Metro Málaga
URL:https://www.link.uma.es/event/cw-formacion-metro-malaga/
LOCATION:Coworking\, Cuarta Planta\, Avenida Louis Pasteur\, 47\, Málaga\, Málaga\, 29010\, España
ATTACH;FMTTYPE=image/png:https://www.link.uma.es/wp-content/uploads/2021/10/MetroMálaga.png
ORGANIZER;CN="Antonio Leiva - Metro M%C3%A1laga":MAILTO:a.leiva@metromalaga.es
END:VEVENT
BEGIN:VEVENT
DTSTART;TZID=UTC:20251110T143000
DTEND;TZID=UTC:20251110T163000
DTSTAMP:20260424T180623
CREATED:20251030T101256Z
LAST-MODIFIED:20251030T101256Z
UID:61872-1762785000-1762792200@www.link.uma.es
SUMMARY:2.02. TUPL: Comunicación a través de teatro
DESCRIPTION:Sala 2.02\, 2ª planta de Link by UMA\, de 14:30 a 16:30h \nComunicación a través del teatro para empleados de la empresa TUPL.
URL:https://www.link.uma.es/event/2-02-tupl-comunicacion-a-traves-de-teatro/
LOCATION:Sala 2.02\, 2ª planta
ATTACH;FMTTYPE=image/jpeg:https://www.link.uma.es/wp-content/uploads/2021/05/tupl.jpg
ORGANIZER;CN="Sara F%C3%A1brega. Tupl":MAILTO:sara.fabrega@tupl.com
END:VEVENT
BEGIN:VEVENT
DTSTART;TZID=UTC:20251111T080000
DTEND;TZID=UTC:20251111T170000
DTSTAMP:20260424T180623
CREATED:20251009T083759Z
LAST-MODIFIED:20251009T083759Z
UID:61714-1762848000-1762880400@www.link.uma.es
SUMMARY:3.02. Workshop Softproject
DESCRIPTION:Sala 3.02\, 3ª planta de Link by UMA\, de 8 a 17h \nWorkshop Softproject
URL:https://www.link.uma.es/event/3-02-workshop-softproject-2/
LOCATION:Sala 3.02\, Tercera Planta\, Avenida Louis Pasteur\, 47\, Málaga\, Málaga\, 29010\, España
ATTACH;FMTTYPE=image/png:https://www.link.uma.es/wp-content/uploads/2021/10/SoftProject.png
ORGANIZER;CN="Francisco Miguel Prieto. SoftProject":MAILTO:francisco.prieto@softproject.es
END:VEVENT
BEGIN:VEVENT
DTSTART;TZID=UTC:20251111T113000
DTEND;TZID=UTC:20251111T133000
DTSTAMP:20260424T180623
CREATED:20251103T132700Z
LAST-MODIFIED:20251110T123117Z
UID:61912-1762860600-1762867800@www.link.uma.es
SUMMARY:S.A. Visita alumnado CC. Económicas y Empresariales
DESCRIPTION:Salón de actos\, planta baja de Link by UMA\, de 11.30 a 13.30h \nHoy nos visitan alumnos de CC. Económicas y Empresariales\, de la mano de su profesor Rafael Ventura. Bienvenidos a Link!!!
URL:https://www.link.uma.es/event/s-a-visita-alumnado-cc-economicas-y-empresariales/
LOCATION:Salón de Actos\, Planta Baja\, Avenida Louis Pasteur\, 47\, Málaga\, Málaga\, 29010\, España
ATTACH;FMTTYPE=image/jpeg:https://www.link.uma.es/wp-content/uploads/2023/03/UMA-PALOMA-vertical.jpg
END:VEVENT
BEGIN:VEVENT
DTSTART;TZID=UTC:20251111T170000
DTEND;TZID=UTC:20251111T190000
DTSTAMP:20260424T180623
CREATED:20250911T110121Z
LAST-MODIFIED:20250916T103106Z
UID:61367-1762880400-1762887600@www.link.uma.es
SUMMARY:2.01. FARO: Formación para Spin-Off
DESCRIPTION:Sala 2.01\, 2ª planta de Link by UMA\, de 17 a 19h \nSesión 6: Fiscalidad \nEl objetivo del Concurso Spin-Off de la Universidad de Málaga es impulsar la actividad emprendedora de la comunidad universitaria\, promoviendo la concepción y consolidación de ideas con potencial para convertirse en empresas basadas en el conocimiento y en los avances científico-tecnológicos producidos en la Universidad\, para ello\, y como parte del premio Spin-Off\, la UMA ofrece formación específica y mentorización individualizada a los proyectos ganadores a través del Programa FARO. \nDurante su paso por el programa Spin-Off\, los ganadores recibirán una serie de sesiones formativas especializadas enfocadas en el impulso y aceleración de sus proyectos.
URL:https://www.link.uma.es/event/2-01-faro-formacion-para-spin-off-2/
LOCATION:Sala 2.01\, Segunda Planta\, Avenida Louis Pasteur\, 47\, Málaga\, Málaga\, 29010\, España
ATTACH;FMTTYPE=image/png:https://www.link.uma.es/wp-content/uploads/2024/10/Marca-Faro_cuadrado.png
ORGANIZER;CN="Laura Marcos. Empleabilidad y Emprendimiento UMA":MAILTO:lauramarcos@uma.es
END:VEVENT
BEGIN:VEVENT
DTSTART;TZID=UTC:20251112T080000
DTEND;TZID=UTC:20251112T170000
DTSTAMP:20260424T180623
CREATED:20251009T084104Z
LAST-MODIFIED:20251009T084127Z
UID:61716-1762934400-1762966800@www.link.uma.es
SUMMARY:2.02. Workshop Softproject
DESCRIPTION:Sala 2.02\, 2ª planta de Link by UMA\, de 8 a 17h \nWorkshop Softproject
URL:https://www.link.uma.es/event/2-02-workshop-softproject/
LOCATION:Sala 2.02\, 2ª planta
ATTACH;FMTTYPE=image/png:https://www.link.uma.es/wp-content/uploads/2021/10/SoftProject.png
ORGANIZER;CN="Francisco Miguel Prieto. SoftProject":MAILTO:francisco.prieto@softproject.es
END:VEVENT
BEGIN:VEVENT
DTSTART;TZID=UTC:20251112T080000
DTEND;TZID=UTC:20251112T200000
DTSTAMP:20260424T180623
CREATED:20250915T113225Z
LAST-MODIFIED:20250917T114552Z
UID:61392-1762934400-1762977600@www.link.uma.es
SUMMARY:S.A+CW+3.01+3.02. Talent & Job UMA
DESCRIPTION:Salón de Actos + Coworking + 3.01 + 3.02 de Link by UMA\, de 8 a 20h \nTalent & Job UMA: Hackathon de Empleabilidad \n\n\nSi quieres vivir una experiencia única que te preparará ante tu inminente inmersión en el mercado laboral\, adquiriendo y trabajando conocimientos y competencias necesarios para ese futuro profesional que deseas ¡este es tu Hackathon! \n\n\nEsta actividad está orientada al estudiantado de últimos cursos de Grado y Máster y de Enseñanzas Propias de la Universidad de Málaga\, y recién egresados y egresadas\, que se encuentren en proceso de búsqueda de empleo o quieran mejorar su empleabilidad de cara a su futuro laboral.
URL:https://www.link.uma.es/event/s-acw-talent-job-uma/
LOCATION:Salón Actos+Sala 3.01+Coworking
ORGANIZER;CN="Isabel Abad. Vicerrectora Adjunta de Empleabilidad.":MAILTO:vra.empleabilidad@uma.es
END:VEVENT
BEGIN:VEVENT
DTSTART;TZID=UTC:20251112T090000
DTEND;TZID=UTC:20251112T140000
DTSTAMP:20260424T180623
CREATED:20251020T121615Z
LAST-MODIFIED:20251020T121615Z
UID:61782-1762938000-1762956000@www.link.uma.es
SUMMARY:2.01 Sesión Retro Finanzas OPPLUS
DESCRIPTION:2.01\, 2ª planta – 09.00 a 14.00 h \nTendrá lugar una sesión formativa a cargo de la empresa OPPlus
URL:https://www.link.uma.es/event/2-01-sesion-retro-finanzas-opplus/
LOCATION:Sala 2.01\, Segunda Planta\, Avenida Louis Pasteur\, 47\, Málaga\, Málaga\, 29010\, España
ATTACH;FMTTYPE=image/jpeg:https://www.link.uma.es/wp-content/uploads/2025/10/logo_opplus.jpg
ORGANIZER;CN="Cristina Cerrillo - OP Plus":MAILTO:cristina.cerrillo@opplus.bbva.com
END:VEVENT
BEGIN:VEVENT
DTSTART;TZID=UTC:20251112T120000
DTEND;TZID=UTC:20251112T140000
DTSTAMP:20260424T180623
CREATED:20251105T110055Z
LAST-MODIFIED:20251105T110055Z
UID:61941-1762948800-1762956000@www.link.uma.es
SUMMARY:Pecera. Tutoría Prácticas Erasmus+ 2025/2026 – Grado\, Máster y Doctorado
DESCRIPTION:Sala de reuniones\, planta baja – 12.00 a 14.00 h \nTendrá lugar una tutoría de prácticas Erasmus + 2025/2026
URL:https://www.link.uma.es/event/pecera-tutoria-practicas-erasmus-2025-2026-grado-master-y-doctorado/
LOCATION:Sala Reunión 1\, planta baja
ATTACH;FMTTYPE=image/png:https://www.link.uma.es/wp-content/uploads/2023/03/Erasmus_EU_emblem_with_tagline_EN-1-1.png
ORGANIZER;CN="Alejandro Florido. Pr%C3%A1cticas Erasmus. UMA":MAILTO:florido@uma.es
END:VEVENT
BEGIN:VEVENT
DTSTART;TZID=UTC:20251112T160000
DTEND;TZID=UTC:20251112T180000
DTSTAMP:20260424T180623
CREATED:20251110T121243Z
LAST-MODIFIED:20251110T121243Z
UID:61976-1762963200-1762970400@www.link.uma.es
SUMMARY:2.01. Reunión Cicerones de Emprendimiento
DESCRIPTION:Sala 2.01\, 2ª planta de Link by UMA\, de 16 18h \nReunión de bienvenida a los estudiantes que se convertirán en Cicerones de Emprendimiento con el programa LinkUP UMA. \nBienvenid@s!!!
URL:https://www.link.uma.es/event/2-01-reunion-cicerones-de-emprendimiento/
LOCATION:Sala 2.01\, Segunda Planta\, Avenida Louis Pasteur\, 47\, Málaga\, Málaga\, 29010\, España
ATTACH;FMTTYPE=image/jpeg:https://www.link.uma.es/wp-content/uploads/2025/10/LinkUPUMA_MARCA-15.jpg
ORGANIZER;CN="Ana Mu%C3%B1iz. Coordinadora Unidad de Emprendimiento en Link by UMA":MAILTO:emprende@uma.es
END:VEVENT
BEGIN:VEVENT
DTSTART;TZID=UTC:20251113T160000
DTEND;TZID=UTC:20251113T180000
DTSTAMP:20260424T180623
CREATED:20251007T153654Z
LAST-MODIFIED:20251007T154756Z
UID:61659-1763049600-1763056800@www.link.uma.es
SUMMARY:CW. Sesión estratégica Opplus
DESCRIPTION:Sesión interna de la empresa Opplus
URL:https://www.link.uma.es/event/cw-sesion-estrategica-opplus/
LOCATION:Coworking\, Cuarta Planta\, Avenida Louis Pasteur\, 47\, Málaga\, Málaga\, 29010\, España
ATTACH;FMTTYPE=image/png:https://www.link.uma.es/wp-content/uploads/2025/10/Logotipo_OPPLUS2-scaled.png
ORGANIZER;CN="Myriam Monta%C3%B1ez N%C3%BA%C3%B1ez. Directora Finanzas y Control OPPLUS":MAILTO:miriam.montanez@bbva.com
END:VEVENT
BEGIN:VEVENT
DTSTART;TZID=UTC:20251114T120000
DTEND;TZID=UTC:20251114T150000
DTSTAMP:20260424T180623
CREATED:20251030T095254Z
LAST-MODIFIED:20251030T095254Z
UID:61868-1763121600-1763132400@www.link.uma.es
SUMMARY:CW. Reunión equipo Empleabilidad y Emprendimiento
DESCRIPTION:Coworking\, 4ª planta de Link by UMA\, de 12 a 15h \nReunión del equipo Empleabilidad y Emprendimiento de la UMA.
URL:https://www.link.uma.es/event/cw-reunion-equipo-empleabilidad-y-emprendimiento/
LOCATION:Coworking\, 4ª planta de Link by UMA
ATTACH;FMTTYPE=image/png:https://www.link.uma.es/wp-content/uploads/2023/11/UMA-LINK-horizontal.png
ORGANIZER;CN="Ana Mu%C3%B1iz. Coordinadora Unidad de Emprendimiento en Link by UMA":MAILTO:emprende@uma.es
END:VEVENT
BEGIN:VEVENT
DTSTART;TZID=UTC:20251117T090000
DTEND;TZID=UTC:20251117T140000
DTSTAMP:20260424T180623
CREATED:20251029T121515Z
LAST-MODIFIED:20251111T130812Z
UID:61851-1763370000-1763388000@www.link.uma.es
SUMMARY:CW Formación Metro Málaga
DESCRIPTION:Coworking\, 4ª planta – 09.00 a 14.00 h \nTendrá lugar una formación de Metro Málaga
URL:https://www.link.uma.es/event/cw-formacion-metro-malaga-2/
LOCATION:Coworking\, Cuarta Planta\, Avenida Louis Pasteur\, 47\, Málaga\, Málaga\, 29010\, España
ATTACH;FMTTYPE=image/png:https://www.link.uma.es/wp-content/uploads/2021/10/MetroMálaga.png
ORGANIZER;CN="Antonio Leiva - Metro M%C3%A1laga":MAILTO:a.leiva@metromalaga.es
END:VEVENT
BEGIN:VEVENT
DTSTART;TZID=UTC:20251117T143000
DTEND;TZID=UTC:20251117T163000
DTSTAMP:20260424T180623
CREATED:20251030T101442Z
LAST-MODIFIED:20251030T101442Z
UID:61874-1763389800-1763397000@www.link.uma.es
SUMMARY:3.02. TUPL: Comunicación a través de teatro
DESCRIPTION:Sala 3.02\, 3ª planta de Link by UMA\, de 14:30 a 16:30h \nComunicación a través del teatro para empleados de la empresa TUPL.
URL:https://www.link.uma.es/event/3-02-tupl-comunicacion-a-traves-de-teatro-2/
LOCATION:Sala 3.02\, Tercera Planta\, Avenida Louis Pasteur\, 47\, Málaga\, Málaga\, 29010\, España
ATTACH;FMTTYPE=image/jpeg:https://www.link.uma.es/wp-content/uploads/2021/05/tupl.jpg
ORGANIZER;CN="Sara F%C3%A1brega. Tupl":MAILTO:sara.fabrega@tupl.com
END:VEVENT
BEGIN:VEVENT
DTSTART;TZID=UTC:20251118T090000
DTEND;TZID=UTC:20251118T140000
DTSTAMP:20260424T180623
CREATED:20251029T121635Z
LAST-MODIFIED:20251111T121812Z
UID:61853-1763456400-1763474400@www.link.uma.es
SUMMARY:CW Formación Metro Málaga
DESCRIPTION:Coworking\, 4ª planta – 09.00 a 14.00 h \nTendrá lugar una formación de Metro Málaga
URL:https://www.link.uma.es/event/cw-formacion-metro-malaga-3/
LOCATION:Coworking\, Cuarta Planta\, Avenida Louis Pasteur\, 47\, Málaga\, Málaga\, 29010\, España
ATTACH;FMTTYPE=image/png:https://www.link.uma.es/wp-content/uploads/2021/10/MetroMálaga.png
ORGANIZER;CN="Antonio Leiva - Metro M%C3%A1laga":MAILTO:a.leiva@metromalaga.es
END:VEVENT
BEGIN:VEVENT
DTSTART;TZID=UTC:20251118T170000
DTEND;TZID=UTC:20251118T190000
DTSTAMP:20260424T180623
CREATED:20250916T103436Z
LAST-MODIFIED:20250916T103436Z
UID:61421-1763485200-1763492400@www.link.uma.es
SUMMARY:2.01. FARO: Formación para Spin-Off
DESCRIPTION:Sala 2.01\, 2ª planta de Link by UMA\, de 17 a 19h \nSesión 7: Financiación \nEl objetivo del Concurso Spin-Off de la Universidad de Málaga es impulsar la actividad emprendedora de la comunidad universitaria\, promoviendo la concepción y consolidación de ideas con potencial para convertirse en empresas basadas en el conocimiento y en los avances científico-tecnológicos producidos en la Universidad\, para ello\, y como parte del premio Spin-Off\, la UMA ofrece formación específica y mentorización individualizada a los proyectos ganadores a través del Programa FARO. \nDurante su paso por el programa Spin-Off\, los ganadores recibirán una serie de sesiones formativas especializadas enfocadas en el impulso y aceleración de sus proyectos.
URL:https://www.link.uma.es/event/2-01-faro-formacion-para-spin-off-13/
LOCATION:Sala 2.01\, Segunda Planta\, Avenida Louis Pasteur\, 47\, Málaga\, Málaga\, 29010\, España
ATTACH;FMTTYPE=image/png:https://www.link.uma.es/wp-content/uploads/2024/10/Marca-Faro_cuadrado.png
ORGANIZER;CN="Laura Marcos. Empleabilidad y Emprendimiento UMA":MAILTO:lauramarcos@uma.es
END:VEVENT
BEGIN:VEVENT
DTSTART;TZID=UTC:20251119T100000
DTEND;TZID=UTC:20251119T120000
DTSTAMP:20260424T180623
CREATED:20251016T085850Z
LAST-MODIFIED:20251016T085850Z
UID:61737-1763546400-1763553600@www.link.uma.es
SUMMARY:2.02 Miércoles por la Orientación
DESCRIPTION:2.02\, 2ª planta – 10.00 a 12.00 h \nHoy tendremos la sesión presencial del alumnado que realiza los cursos sobre desarrollo de competencias: Enfoca tu futuro\, Soft & Digital Skills y Actitud Emprendedora \nLa sesión versará sobre Recursos de formación y Empleo dirigido al colectivo universitario
URL:https://www.link.uma.es/event/2-02-miercoles-por-la-orientacion-2/
LOCATION:Sala 2.02\, 2ª planta
ATTACH;FMTTYPE=image/jpeg:https://www.link.uma.es/wp-content/uploads/2022/10/miercoles-pro-el-empleo.jpg
ORGANIZER;CN="Susana Hermoso. Servicio Empleabilidad y Emprendimiento UMA.":MAILTO:susanaha@uma.es
END:VEVENT
BEGIN:VEVENT
DTSTART;TZID=UTC:20251119T120000
DTEND;TZID=UTC:20251119T140000
DTSTAMP:20260424T180623
CREATED:20251105T105600Z
LAST-MODIFIED:20251105T105600Z
UID:61937-1763553600-1763560800@www.link.uma.es
SUMMARY:3.02 Tutoría Prácticas Erasmus+ 2025/2026 – Grado\, Máster y Doctorado
DESCRIPTION:3.02\, 3ª planta – 12.00 a 14.00 h \nTendrá lugar una tutoría de prácticas Erasmus + 2025/2026
URL:https://www.link.uma.es/event/3-02-tutoria-practicas-erasmus-2025-2026-grado-master-y-doctorado/
LOCATION:Sala 3.02\, Tercera Planta\, Avenida Louis Pasteur\, 47\, Málaga\, Málaga\, 29010\, España
ATTACH;FMTTYPE=image/png:https://www.link.uma.es/wp-content/uploads/2023/03/Erasmus_EU_emblem_with_tagline_EN-1-1.png
ORGANIZER;CN="Alejandro Florido. Pr%C3%A1cticas Erasmus. UMA":MAILTO:florido@uma.es
END:VEVENT
BEGIN:VEVENT
DTSTART;TZID=UTC:20251119T163000
DTEND;TZID=UTC:20251119T193000
DTSTAMP:20260424T180623
CREATED:20251027T134834Z
LAST-MODIFIED:20251027T134834Z
UID:61826-1763569800-1763580600@www.link.uma.es
SUMMARY:CW: "Cultura artística y sociedad posdigital"
DESCRIPTION:Coworking\, 4cª planta de Link by UMA\, de 16:30 a 19:30h \nNuria Rodríguez Ortega\, profesora del Departamento de Historia del Arte\, imparte la asignatura «Cultura artística y sociedad posdigital» perteneciente al máster en Desarrollos Sociales de la Cultura Artística
URL:https://www.link.uma.es/event/cw-cultura-artistica-y-sociedad-posdigital-4/
LOCATION:Coworking\, 4ª planta de Link by UMA
ATTACH;FMTTYPE=image/png:https://www.link.uma.es/wp-content/uploads/2024/10/MDSCA-logo-2018-1.png
ORGANIZER;CN="Nuria Rodr%C3%ADguez Ortega.  Professor and Chair%2C Art History Department University of M%C3%A1laga":MAILTO:nro@uma.es
END:VEVENT
BEGIN:VEVENT
DTSTART;TZID=UTC:20251119T190000
DTEND;TZID=UTC:20251119T203000
DTSTAMP:20260424T180623
CREATED:20251113T084418Z
LAST-MODIFIED:20251118T071059Z
UID:61986-1763578800-1763584200@www.link.uma.es
SUMMARY:2.01. MART: Grabación de Podcast Inside Mart
DESCRIPTION:Sala 2.01\, 2ª planta de Link by UMA\, de 19 a 20.30h \nGrabación del primer podcast del equipo universitario MART FORMULA STUDENT
URL:https://www.link.uma.es/event/2-01-mart-grabacion-de-podcast-inside-mart/
LOCATION:Sala 2.01\, Segunda Planta\, Avenida Louis Pasteur\, 47\, Málaga\, Málaga\, 29010\, España
ATTACH;FMTTYPE=image/jpeg:https://www.link.uma.es/wp-content/uploads/2025/11/MART.jpeg
ORGANIZER;CN="Sonia Gonz%C3%A1lez Porras. MART":MAILTO:doc.soniaglez@gmail.com
END:VEVENT
BEGIN:VEVENT
DTSTART;TZID=UTC:20251120T173000
DTEND;TZID=UTC:20251120T193000
DTSTAMP:20260424T180623
CREATED:20250728T095601Z
LAST-MODIFIED:20251111T081913Z
UID:61290-1763659800-1763667000@www.link.uma.es
SUMMARY:S.A+CW. Cómo usar la Inteligencia Artificial para estudiar y salir al mundo laboral
DESCRIPTION:Salón de Actos\, planta baja de Link by UMA\, de 17.30 a 19.30h y Coworking de 19:30 a 20:30h \nCómo usar la Inteligencia Artificial para estudiar y salir al mundo laboral: Evento gratuito dirigido al estudiantado de la UMA\, llevado a cabo entre Susana Calleja (Encuentros Tech) y Juanjo Rodríguez (boca boca Digital) \nLos asistentes aprenderán a utilizar las nuevas herramientas de IA para ayudarles a estudiar\, hacer resúmenes\, investigar\,…. así como otras herramientas útiles para salir al mercado laboral. \n\nQueremos invitarte a un encuentro gratuito y cercano\, pensado tanto para profesionales y empresas como para estudiantes que desean entender y aprovechar el potencial de la IA en su día a día.\n\n\nSerá un espacio para aprender\, compartir ideas y descubrir aplicaciones prácticas que pueden marcar la diferencia en tu carrera o en tu organización. \nIMPORTANTE: El aforo es limitado. Te pedimos que reserves tu plaza para asegurarte de poder asistir: https://docs.google.com/forms/d/e/1FAIpQLSf4rdMW7T7v0pFwhc6NJ7BTqkJL3ZgZDFjD53XlPSfdzPNlKQ/viewform
URL:https://www.link.uma.es/event/s-a-como-usar-la-inteligencia-artificial-para-estudiar-y-salir-al-mundo-laboral/
LOCATION:Salón de Actos\, Planta Baja\, Avenida Louis Pasteur\, 47\, Málaga\, Málaga\, 29010\, España
ATTACH;FMTTYPE=image/jpeg:https://www.link.uma.es/wp-content/uploads/2025/07/IA-clave-profesional-1.jpeg
ORGANIZER;CN="Susana Calleja. Encuentros Tech":MAILTO:2633114923@uma.es
END:VEVENT
BEGIN:VEVENT
DTSTART;TZID=UTC:20251124T093000
DTEND;TZID=UTC:20251124T120000
DTSTAMP:20260424T180623
CREATED:20251104T110150Z
LAST-MODIFIED:20251104T110150Z
UID:61930-1763976600-1763985600@www.link.uma.es
SUMMARY:CW. Grabación defensa Xceltech en Premio Junior
DESCRIPTION:Coworking\, 4ª planta de Link by UMA. de 9.30 a 12h \nGrabación de vídeo para la defensa de Xceltech en el Premio Junior Junior del IMFE. Mucha suerte Maricarmen!!!!
URL:https://www.link.uma.es/event/cw-grabacion-defensa-xceltech-en-premio-junior/
LOCATION:Coworking\, 4ª planta de Link by UMA
ATTACH;FMTTYPE=image/jpeg:https://www.link.uma.es/wp-content/uploads/2025/11/Xceltech.jpg
ORGANIZER;CN="Ana Mu%C3%B1iz. Coordinadora Unidad de Emprendimiento en Link by UMA":MAILTO:emprende@uma.es
END:VEVENT
BEGIN:VEVENT
DTSTART;TZID=UTC:20251124T143000
DTEND;TZID=UTC:20251124T163000
DTSTAMP:20260424T180623
CREATED:20251030T101603Z
LAST-MODIFIED:20251030T101603Z
UID:61876-1763994600-1764001800@www.link.uma.es
SUMMARY:3.02. TUPL: Comunicación a través de teatro
DESCRIPTION:Sala 3.02\, 3ª planta de Link by UMA\, de 14:30 a 16:30h \nComunicación a través del teatro para empleados de la empresa TUPL.
URL:https://www.link.uma.es/event/3-02-tupl-comunicacion-a-traves-de-teatro-3/
LOCATION:Sala 3.02\, Tercera Planta\, Avenida Louis Pasteur\, 47\, Málaga\, Málaga\, 29010\, España
ATTACH;FMTTYPE=image/jpeg:https://www.link.uma.es/wp-content/uploads/2021/05/tupl.jpg
ORGANIZER;CN="Sara F%C3%A1brega. Tupl":MAILTO:sara.fabrega@tupl.com
END:VEVENT
BEGIN:VEVENT
DTSTART;TZID=UTC:20251125T100000
DTEND;TZID=UTC:20251125T140000
DTSTAMP:20260424T180623
CREATED:20251029T121748Z
LAST-MODIFIED:20251029T121748Z
UID:61855-1764064800-1764079200@www.link.uma.es
SUMMARY:CW Formación Metro Málaga
DESCRIPTION:Coworking\, 4ª planta – 10.00 a 14.00 h \nTendrá lugar una formación de Metro Málaga
URL:https://www.link.uma.es/event/cw-formacion-metro-malaga-4/
LOCATION:Coworking\, Cuarta Planta\, Avenida Louis Pasteur\, 47\, Málaga\, Málaga\, 29010\, España
ATTACH;FMTTYPE=image/png:https://www.link.uma.es/wp-content/uploads/2021/10/MetroMálaga.png
ORGANIZER;CN="Antonio Leiva - Metro M%C3%A1laga":MAILTO:a.leiva@metromalaga.es
END:VEVENT
BEGIN:VEVENT
DTSTART;TZID=UTC:20251125T110000
DTEND;TZID=UTC:20251125T110000
DTSTAMP:20260424T180623
CREATED:20251002T114910Z
LAST-MODIFIED:20251002T114910Z
UID:61603-1764068400-1764068400@www.link.uma.es
SUMMARY:3.01 Visita alumnado Trabajo Social
DESCRIPTION:Visita del alumnado de la asignatura Nuevos campos de intervención del Trabajo Social de la Facultad de Ciencias Sociales y del Trabajo\, desde donde se está profundizando en los campos del autoempleo individual y el emprendimiento colectivo y social. Por este motivo resulta útil para ellos conocer tanto las instalaciones\, como las actividades y recursos que se ofrece en materia de emprendimiento a través del Servicio de Empleabilidad y Emprendimiento \n 
URL:https://www.link.uma.es/event/3-01-visita-alumnado-trabajo-social/
LOCATION:Salas 3.01 y 3.02\, 3ª planta
ATTACH;FMTTYPE=image/png:https://www.link.uma.es/wp-content/uploads/2025/10/fest-estudios-sociales-y-del-trabajo.png
ORGANIZER;CN="Patricia Ruiz Reyes":MAILTO:pruiz@uma.es
END:VEVENT
BEGIN:VEVENT
DTSTART;TZID=UTC:20251125T170000
DTEND;TZID=UTC:20251125T190000
DTSTAMP:20260424T180623
CREATED:20250911T110641Z
LAST-MODIFIED:20250916T103656Z
UID:61370-1764090000-1764097200@www.link.uma.es
SUMMARY:2.01. FARO: Formación para Spin-Off
DESCRIPTION:Sala 2.01\, 2ª planta de Link by UMA\, de 17 a 19h \nSesión 8: Comunicación y Marketing \nEl objetivo del Concurso Spin-Off de la Universidad de Málaga es impulsar la actividad emprendedora de la comunidad universitaria\, promoviendo la concepción y consolidación de ideas con potencial para convertirse en empresas basadas en el conocimiento y en los avances científico-tecnológicos producidos en la Universidad\, para ello\, y como parte del premio Spin-Off\, la UMA ofrece formación específica y mentorización individualizada a los proyectos ganadores a través del Programa FARO. \nDurante su paso por el programa Spin-Off\, los ganadores recibirán una serie de sesiones formativas especializadas enfocadas en el impulso y aceleración de sus proyectos.
URL:https://www.link.uma.es/event/2-01-faro-formacion-para-spin-off-3/
LOCATION:Sala 2.01\, Segunda Planta\, Avenida Louis Pasteur\, 47\, Málaga\, Málaga\, 29010\, España
ATTACH;FMTTYPE=image/png:https://www.link.uma.es/wp-content/uploads/2024/10/Marca-Faro_cuadrado.png
ORGANIZER;CN="Laura Marcos. Empleabilidad y Emprendimiento UMA":MAILTO:lauramarcos@uma.es
END:VEVENT
BEGIN:VEVENT
DTSTART;TZID=UTC:20251126T080000
DTEND;TZID=UTC:20251126T200000
DTSTAMP:20260424T180623
CREATED:20250630T082115Z
LAST-MODIFIED:20250630T082115Z
UID:61205-1764144000-1764187200@www.link.uma.es
SUMMARY:S.A+3.01+3.02. Congreso Internacional Interpretación y Premios Adam Kilgarriff 2025
DESCRIPTION:Salón de Actos y tercera planta de Link by UMA\, de 8:00 a 20:00h \nCongreso Internacional Interpretación y Premios Adam Kilgarriff 2025
URL:https://www.link.uma.es/event/s-a3-013-02-congreso-internacional-interpretacion-y-premios-adam-kilgarriff-2025/
LOCATION:Salón de Actos + Salas 3.01 y 3.02
ATTACH;FMTTYPE=image/jpeg:https://www.link.uma.es/wp-content/uploads/2024/10/UMA_Horizontal.jpg
ORGANIZER;CN="Gloria Corpas Pastor. Traducci%C3%B3n e Interpretaci%C3%B3n UMA":MAILTO:gcorpas@uma.es; director.itm@uma.es
END:VEVENT
BEGIN:VEVENT
DTSTART;TZID=UTC:20251126T100000
DTEND;TZID=UTC:20251126T130000
DTSTAMP:20260424T180623
CREATED:20251024T110702Z
LAST-MODIFIED:20251118T111710Z
UID:61815-1764151200-1764162000@www.link.uma.es
SUMMARY:2.01 Miércoles x la Orientación - Trabajo en equipo: ¡Juntos hacia el éxito!
DESCRIPTION:2.01\, 2ª planta – 10.00 a 13.00 h \nTrabajo en equipo: ¡Juntos hacía el éxito!  \n¿Quieres destacar en tus proyectos universitarios y prepararte para el mundo laboral? ¡El trabajo en equipo es una habilidad esencial!   \nContenidos:  \n\nVentajas del trabajo en equipo. \n\n\nLas 5 “C” del trabajo en equipo. \n\n\nIdentificación de roles. \n\n\nLas claves para un desarrollo eficaz en el escenario profesional. 
URL:https://www.link.uma.es/event/cw-miercoles-x-la-orientacion-trabajo-en-equipo-juntos-hacia-el-exito/
LOCATION:Sala 2.01\, Segunda Planta\, Avenida Louis Pasteur\, 47\, Málaga\, Málaga\, 29010\, España
ATTACH;FMTTYPE=image/jpeg:https://www.link.uma.es/wp-content/uploads/2022/10/miercoles-pro-el-empleo.jpg
ORGANIZER;CN="Raquel N%C3%BA%C3%B1ez. Servicio de Empleabilidad y Emprendimiento UMA":MAILTO:raquel@uma.es
END:VEVENT
BEGIN:VEVENT
DTSTART;TZID=UTC:20251126T120000
DTEND;TZID=UTC:20251126T140000
DTSTAMP:20260424T180623
CREATED:20251105T105745Z
LAST-MODIFIED:20251105T105745Z
UID:61939-1764158400-1764165600@www.link.uma.es
SUMMARY:2.02 Tutoría Prácticas Erasmus+ 2025/2026 – Grado\, Máster y Doctorado
DESCRIPTION:2.02\, 2ª planta – 12.00 a 14.00 h \nTendrá lugar una tutoría de prácticas Erasmus + 2025/2026
URL:https://www.link.uma.es/event/2-02-tutoria-practicas-erasmus-2025-2026-grado-master-y-doctorado-5/
LOCATION:Sala 2.02\, Segunda Planta\, Avenida Louis Pasteur\, 47\, Málaga\, Málaga\, 29010\, España
ATTACH;FMTTYPE=image/png:https://www.link.uma.es/wp-content/uploads/2023/03/Erasmus_EU_emblem_with_tagline_EN-1-1.png
ORGANIZER;CN="Alejandro Florido. Pr%C3%A1cticas Erasmus. UMA":MAILTO:florido@uma.es
END:VEVENT
END:VCALENDAR