BEGIN:VCALENDAR
VERSION:2.0
PRODID:-//LINK by UMA-ATech - ECPv6.15.20//NONSGML v1.0//EN
CALSCALE:GREGORIAN
METHOD:PUBLISH
X-WR-CALNAME:LINK by UMA-ATech
X-ORIGINAL-URL:https://www.link.uma.es
X-WR-CALDESC:Eventos para LINK by UMA-ATech
REFRESH-INTERVAL;VALUE=DURATION:PT1H
X-Robots-Tag:noindex
X-PUBLISHED-TTL:PT1H
BEGIN:VTIMEZONE
TZID:UTC
BEGIN:STANDARD
TZOFFSETFROM:+0000
TZOFFSETTO:+0000
TZNAME:UTC
DTSTART:20240101T000000
END:STANDARD
END:VTIMEZONE
BEGIN:VEVENT
DTSTART;TZID=UTC:20251006T143000
DTEND;TZID=UTC:20251006T163000
DTSTAMP:20260424T191340
CREATED:20250924T112121Z
LAST-MODIFIED:20250925T071816Z
UID:61514-1759761000-1759768200@www.link.uma.es
SUMMARY:3.02. Tupl: Comunicación a través del teatro
DESCRIPTION:Sala 3.02\, de 14.30 a 16.30h \nCurso comunicación a través del teatro para el día a día en el trabajo
URL:https://www.link.uma.es/event/3-02-tupl-comunicacion-a-traves-del-teatro-13/
LOCATION:Sala 3.02\, Tercera Planta\, Avenida Louis Pasteur\, 47\, Málaga\, Málaga\, 29010\, España
ATTACH;FMTTYPE=image/jpeg:https://www.link.uma.es/wp-content/uploads/2021/05/tupl.jpg
ORGANIZER;CN="Sara F%C3%A1brega. Tupl":MAILTO:sara.fabrega@tupl.com
END:VEVENT
BEGIN:VEVENT
DTSTART;TZID=UTC:20251007T170000
DTEND;TZID=UTC:20251007T190000
DTSTAMP:20260424T191340
CREATED:20250916T101031Z
LAST-MODIFIED:20251007T085238Z
UID:61409-1759856400-1759863600@www.link.uma.es
SUMMARY:2.01. FARO: Formación para Spin-Off
DESCRIPTION:Sala 2.01\, 2ª planta de Link by UMA\, de 17 a 19h \nSesión 1. El equipo emprendedor/liderazgo \nEl objetivo del Concurso Spin-Off de la Universidad de Málaga es impulsar la actividad emprendedora de la comunidad universitaria\, promoviendo la concepción y consolidación de ideas con potencial para convertirse en empresas basadas en el conocimiento y en los avances científico-tecnológicos producidos en la Universidad\, para ello\, y como parte del premio Spin-Off\, la UMA ofrece formación específica y mentorización individualizada a los proyectos ganadores a través del Programa FARO. \nDurante su paso por el programa Spin-Off\, los ganadores recibirán una serie de sesiones formativas especializadas enfocadas en el impulso y aceleración de sus proyectos.
URL:https://www.link.uma.es/event/2-01-faro-formacion-para-spin-off-10/
LOCATION:Sala 2.01\, Segunda Planta\, Avenida Louis Pasteur\, 47\, Málaga\, Málaga\, 29010\, España
ATTACH;FMTTYPE=image/png:https://www.link.uma.es/wp-content/uploads/2024/10/Marca-Faro_cuadrado.png
ORGANIZER;CN="Laura Marcos. Empleabilidad y Emprendimiento UMA":MAILTO:lauramarcos@uma.es
END:VEVENT
BEGIN:VEVENT
DTSTART;TZID=UTC:20251008T100000
DTEND;TZID=UTC:20251008T100000
DTSTAMP:20260424T191340
CREATED:20251002T120713Z
LAST-MODIFIED:20251002T120753Z
UID:61607-1759917600-1759917600@www.link.uma.es
SUMMARY:3.01 Miércoles por la orientación
DESCRIPTION:Hoy tendremos la sesión presencial del alumnado que realiza los cursos sobre desarrollo de competencias: Enfoca tu futuro\, Soft & Digital Skills y Actitud Emprendedora \nLa sesión versará sobre Recursos de formación y Empleo dirigido al colectivo universitario
URL:https://www.link.uma.es/event/3-01-miercoles-por-la-orientacion/
LOCATION:Sala 3.01 y 3.02\, 3ª planta de Link
ATTACH;FMTTYPE=image/jpeg:https://www.link.uma.es/wp-content/uploads/2022/10/miercoles-pro-el-empleo.jpg
ORGANIZER;CN="Susana Hermoso. Servicio Empleabilidad y Emprendimiento UMA.":MAILTO:susanaha@uma.es
END:VEVENT
BEGIN:VEVENT
DTSTART;TZID=UTC:20251008T183000
DTEND;TZID=UTC:20251008T200000
DTSTAMP:20260424T191340
CREATED:20251007T161529Z
LAST-MODIFIED:20251007T161732Z
UID:61664-1759948200-1759953600@www.link.uma.es
SUMMARY:2.01ESPi Aiesec Málaga
DESCRIPTION:Sesión interna de Aiesec
URL:https://www.link.uma.es/event/2-01espi-aiesec-malaga/
LOCATION:Sala 2.01
ORGANIZER;CN="Jos%C3%A9 Antonio Lagos Barranquero":MAILTO:joseantonio2002@uma.es
END:VEVENT
BEGIN:VEVENT
DTSTART;TZID=UTC:20251009T120000
DTEND;TZID=UTC:20251009T140000
DTSTAMP:20260424T191340
CREATED:20251002T110409Z
LAST-MODIFIED:20251002T110739Z
UID:61600-1760011200-1760018400@www.link.uma.es
SUMMARY:2.02 Tutoría Prácticas Erasmus+ 2025/2026 - GRADO\, MÁSTER y DOCTORADO
DESCRIPTION:Tutoría Prácticas Erasmus+ 2025/2026 – GRADO\, MÁSTER y DOCTORADO
URL:https://www.link.uma.es/event/2-02-tutoria-practicas-erasmus-2025-2026-grado-master-y-doctorado/
LOCATION:Sala 2.02\, 2ª planta
ORGANIZER;CN="Alejandro Florido. Pr%C3%A1cticas Erasmus. UMA":MAILTO:florido@uma.es
END:VEVENT
BEGIN:VEVENT
DTSTART;TZID=UTC:20251014T120000
DTEND;TZID=UTC:20251014T133000
DTSTAMP:20260424T191340
CREATED:20251009T121007Z
LAST-MODIFIED:20251009T121007Z
UID:61727-1760443200-1760448600@www.link.uma.es
SUMMARY:2.01 Reunión Equipo Empleabilidad
DESCRIPTION:Sala 2.01 \nReunión Equipo Empleabilidad
URL:https://www.link.uma.es/event/2-01-reunion-equipo-empleabilidad/
LOCATION:Sala 2.01\, Segunda Planta\, Avenida Louis Pasteur\, 47\, Málaga\, Málaga\, 29010\, España
ORGANIZER;CN="Maria Jes%C3%BAs Lara":MAILTO:secretaria.innovacion@uma.es
END:VEVENT
BEGIN:VEVENT
DTSTART;TZID=UTC:20251014T143000
DTEND;TZID=UTC:20251014T163000
DTSTAMP:20260424T191340
CREATED:20250925T071914Z
LAST-MODIFIED:20250925T071914Z
UID:61522-1760452200-1760459400@www.link.uma.es
SUMMARY:3.02. Tupl: Comunicación a través del teatro
DESCRIPTION:Sala 3.02\, de 14.30 a 16.30h \nCurso comunicación a través del teatro para el día a día en el trabajo
URL:https://www.link.uma.es/event/3-02-tupl-comunicacion-a-traves-del-teatro-14/
LOCATION:Sala 3.02\, Tercera Planta\, Avenida Louis Pasteur\, 47\, Málaga\, Málaga\, 29010\, España
ATTACH;FMTTYPE=image/jpeg:https://www.link.uma.es/wp-content/uploads/2021/05/tupl.jpg
ORGANIZER;CN="Sara F%C3%A1brega. Tupl":MAILTO:sara.fabrega@tupl.com
END:VEVENT
BEGIN:VEVENT
DTSTART;TZID=UTC:20251014T170000
DTEND;TZID=UTC:20251014T190000
DTSTAMP:20260424T191340
CREATED:20250911T105518Z
LAST-MODIFIED:20251007T085545Z
UID:61356-1760461200-1760468400@www.link.uma.es
SUMMARY:2.01. FARO: Formación para Spin-Off
DESCRIPTION:Sala 2.01\, 2ª planta de Link by UMA\, de 17 a 19h \nSesión 2. El producto: propiedad intelectual/industrial \nEl objetivo del Concurso Spin-Off de la Universidad de Málaga es impulsar la actividad emprendedora de la comunidad universitaria\, promoviendo la concepción y consolidación de ideas con potencial para convertirse en empresas basadas en el conocimiento y en los avances científico-tecnológicos producidos en la Universidad\, para ello\, y como parte del premio Spin-Off\, la UMA ofrece formación específica y mentorización individualizada a los proyectos ganadores a través del Programa FARO. \nDurante su paso por el programa Spin-Off\, los ganadores recibirán una serie de sesiones formativas especializadas enfocadas en el impulso y aceleración de sus proyectos.
URL:https://www.link.uma.es/event/2-02-faro-formacion-para-spin-off/
LOCATION:Sala 2.01. 2ª planta
ATTACH;FMTTYPE=image/png:https://www.link.uma.es/wp-content/uploads/2024/10/Marca-Faro_cuadrado.png
ORGANIZER;CN="Laura Marcos. Empleabilidad y Emprendimiento UMA":MAILTO:lauramarcos@uma.es
END:VEVENT
BEGIN:VEVENT
DTSTART;TZID=UTC:20251015T080000
DTEND;TZID=UTC:20251015T180000
DTSTAMP:20260424T191340
CREATED:20250404T084909Z
LAST-MODIFIED:20250404T084909Z
UID:60709-1760515200-1760551200@www.link.uma.es
SUMMARY:3.01+3.02. First Lego League: Reunión de socios
DESCRIPTION:Salas 3.01 y 3.02\, 3ª planta de Link by UMA. de 8 a 18h \nEl programa FIRST LEGO League es un programa educativo pre-universitario basado en investigación y robótica educativa. Se desarrolla desde hace 25 años en más de 100 países del mundo y en España es impulsado por Ingeniera Soy\, asociación nacional sin ánimo de lucro con sede en Málaga. Con un alcance de más de 34 territorios en toda España y Andorra\, el modelo del programa se basa en la colaboración de hasta 30 socios locales\, la mayoría de ellos universidades públicas y privadas españolas. (incluida la UMA) \nFIRST® LEGO® League (FLL) es un programa educativo a nivel internacional que fomenta vocaciones científico-tecnológicas entre los jóvenes de 4 a 16 años a partir de experiencias prácticas y divertidas\, resolviendo problemas del mundo real para ayudar a construir un futuro mejor\, que ya inspiran a más de 250.000 jóvenes en 90 países de todo el mundo. \nCada año\, FLL ofrece un desafío nuevo y emocionante a todos los equipos con el objetivo de estimular su creatividad a través de las áreas STEAM (Science\, Technology\, Engineering\, Art and Mathematics). \nCada equipo comienza a adentrarse en la temática anual diseñando y construyendo un robot que sea capaz de solventar los retos propuestos. Además\, tendrán que investigar a cerca de esta temática y realizar un proyecto de innovación que ponga solución a un problema real. Los equipos documentarán su trabajo y compartirán sus hallazgos. \nA lo largo de esta experiencia\, cada uno de ellos deberá defender los CORE VALUES fundamentales de FLL\, los cuales son: descubrimiento\, trabajo en equipo\, inclusión\, impacto\, diversión\, innovación y gracious professionalism®. \nCada una de sus tres categorías  inspirar el desarrollo de habilidades de pensamiento crítico\, experimentación y diseño creativo. \n¡Las áreas STEAM es de tod@s y para tod@s!
URL:https://www.link.uma.es/event/3-013-02-first-lego-league-reunion-de-socios/
LOCATION:Salas 3.01 y 3.02 de Link by UMA
ATTACH;FMTTYPE=image/jpeg:https://www.link.uma.es/wp-content/uploads/2025/04/Portada_FLL_25.jpg
ORGANIZER;CN="Javier Butrague%C3%B1o. Asocaci%C3%B3n Ingenier%C3%ADa Soy":MAILTO:asociacion@ingeniera.soy
END:VEVENT
BEGIN:VEVENT
DTSTART;TZID=UTC:20251016T080000
DTEND;TZID=UTC:20251016T180000
DTSTAMP:20260424T191340
CREATED:20250404T085047Z
LAST-MODIFIED:20250404T085047Z
UID:60712-1760601600-1760637600@www.link.uma.es
SUMMARY:3.01+3.02. First Lego League: Reunión de socios
DESCRIPTION:Salas 3.01 y 3.02\, 3ª planta de Link by UMA. de 8 a 18h \nEl programa FIRST LEGO League es un programa educativo pre-universitario basado en investigación y robótica educativa. Se desarrolla desde hace 25 años en más de 100 países del mundo y en España es impulsado por Ingeniera Soy\, asociación nacional sin ánimo de lucro con sede en Málaga. Con un alcance de más de 34 territorios en toda España y Andorra\, el modelo del programa se basa en la colaboración de hasta 30 socios locales\, la mayoría de ellos universidades públicas y privadas españolas. (incluida la UMA) \nFIRST® LEGO® League (FLL) es un programa educativo a nivel internacional que fomenta vocaciones científico-tecnológicas entre los jóvenes de 4 a 16 años a partir de experiencias prácticas y divertidas\, resolviendo problemas del mundo real para ayudar a construir un futuro mejor\, que ya inspiran a más de 250.000 jóvenes en 90 países de todo el mundo. \nCada año\, FLL ofrece un desafío nuevo y emocionante a todos los equipos con el objetivo de estimular su creatividad a través de las áreas STEAM (Science\, Technology\, Engineering\, Art and Mathematics). \nCada equipo comienza a adentrarse en la temática anual diseñando y construyendo un robot que sea capaz de solventar los retos propuestos. Además\, tendrán que investigar a cerca de esta temática y realizar un proyecto de innovación que ponga solución a un problema real. Los equipos documentarán su trabajo y compartirán sus hallazgos. \nA lo largo de esta experiencia\, cada uno de ellos deberá defender los CORE VALUES fundamentales de FLL\, los cuales son: descubrimiento\, trabajo en equipo\, inclusión\, impacto\, diversión\, innovación y gracious professionalism®. \nCada una de sus tres categorías  inspirar el desarrollo de habilidades de pensamiento crítico\, experimentación y diseño creativo. \n¡Las áreas STEAM es de tod@s y para tod@s!
URL:https://www.link.uma.es/event/3-013-02-first-lego-league-reunion-de-socios-2/
LOCATION:Salas 3.01 y 3.02 de Link by UMA
ATTACH;FMTTYPE=image/jpeg:https://www.link.uma.es/wp-content/uploads/2025/04/Portada_FLL_25.jpg
ORGANIZER;CN="Javier Butrague%C3%B1o. Asocaci%C3%B3n Ingenier%C3%ADa Soy":MAILTO:asociacion@ingeniera.soy
END:VEVENT
BEGIN:VEVENT
DTSTART;TZID=UTC:20251016T120000
DTEND;TZID=UTC:20251016T140000
DTSTAMP:20260424T191340
CREATED:20251014T095138Z
LAST-MODIFIED:20251014T095138Z
UID:61729-1760616000-1760623200@www.link.uma.es
SUMMARY:2.02. Tutoría Prácticas Erasmus+ 2025/2026 – GRADO\, MÁSTER y DOCTORADO
DESCRIPTION:Sala 2.02\, 2ª planta de Link by UMA\, de 12 a 14h \nTutoría Prácticas Erasmus+ 2025/2026 – GRADO\, MÁSTER y DOCTORADO
URL:https://www.link.uma.es/event/2-02-tutoria-practicas-erasmus-2025-2026-grado-master-y-doctorado-2/
LOCATION:Sala 2.02\, Segunda Planta\, Avenida Louis Pasteur\, 47\, Málaga\, Málaga\, 29010\, España
ATTACH;FMTTYPE=image/png:https://www.link.uma.es/wp-content/uploads/2025/06/es_cofinanciado_por_la_union_europea_pos_DWca0qq-scaled.png
ORGANIZER;CN="Alejandro Florido. Pr%C3%A1cticas Erasmus. UMA":MAILTO:florido@uma.es
END:VEVENT
BEGIN:VEVENT
DTSTART;TZID=UTC:20251017T093000
DTEND;TZID=UTC:20251017T140000
DTSTAMP:20260424T191340
CREATED:20250930T094703Z
LAST-MODIFIED:20250930T094703Z
UID:61572-1760693400-1760709600@www.link.uma.es
SUMMARY:2.01. Reunión Tribunal
DESCRIPTION:Sala 2.01\, 2ª planta\, de 9.30 a 12h \nTribunal de selección.
URL:https://www.link.uma.es/event/2-01-reunion-tribunal/
LOCATION:Sala 2.01\, Segunda Planta\, Avenida Louis Pasteur\, 47\, Málaga\, Málaga\, 29010\, España
END:VEVENT
BEGIN:VEVENT
DTSTART;TZID=UTC:20251017T160000
DTEND;TZID=UTC:20251017T200000
DTSTAMP:20260424T191340
CREATED:20250916T081659Z
LAST-MODIFIED:20250916T085735Z
UID:61402-1760716800-1760731200@www.link.uma.es
SUMMARY:CW y 3ª: CreativeLab
DESCRIPTION:Coworking y salas 3.01 y 3.02\, de 16 a 20h \nCurso intensivo sobre creatividad y metodología a través de transferencia de conocimientos\, casos demostrativos\, dinámicas de trabajo en grupo\, uso de herramientas creativas y exposiciones públicas para asumir nuevos retos profesionales. \nMÁS INFO: hola@laboratoriodecreatividad.es \n 
URL:https://www.link.uma.es/event/cw-y-3a-creativelab/
LOCATION:Coworking y Salas 3.01+3.02
ATTACH;FMTTYPE=image/png:https://www.link.uma.es/wp-content/uploads/2025/09/CreativeLab25.png
ORGANIZER;CN="Juan Aguilar. Creative Lab":MAILTO:jaguilar uma
END:VEVENT
BEGIN:VEVENT
DTSTART;TZID=UTC:20251020T113000
DTEND;TZID=UTC:20251020T130000
DTSTAMP:20260424T191340
CREATED:20250925T080936Z
LAST-MODIFIED:20250925T080936Z
UID:61534-1760959800-1760965200@www.link.uma.es
SUMMARY:2.02. Visita alumnado 4º CC. Gastronómicas y Gestión Hotelera
DESCRIPTION:Sala 2.02\, 2ª planta de Link by UMA\, de 11.30 a 13h \nVisita del alumnado de 4º del grado CC. Gastronómicas y Gestión Hotelera\, de la mano de su profesora Inmaculada Gallego quien imparte la asignatura «Gestión de producto y marca». \nBienvenid@s a Link by UMA!
URL:https://www.link.uma.es/event/2-02-visita-alumnado-4o-cc-gastronomicas-y-gestion-hotelera/
LOCATION:Sala 2.02\, 2ª planta
ATTACH;FMTTYPE=image/png:https://www.link.uma.es/wp-content/uploads/2020/09/Facultad-de-turismo.png
ORGANIZER;CN="Inmaculada Gallego Gal%C3%A1n. UMA":MAILTO:igallego@uma.es
END:VEVENT
BEGIN:VEVENT
DTSTART;TZID=UTC:20251020T143000
DTEND;TZID=UTC:20251020T163000
DTSTAMP:20260424T191340
CREATED:20250925T072154Z
LAST-MODIFIED:20250925T072154Z
UID:61526-1760970600-1760977800@www.link.uma.es
SUMMARY:3.02. Tupl: Comunicación a través del teatro
DESCRIPTION:Sala 3.02\, de 14.30 a 16.30h \nCurso comunicación a través del teatro para el día a día en el trabajo
URL:https://www.link.uma.es/event/3-02-tupl-comunicacion-a-traves-del-teatro-15/
LOCATION:Sala 3.02\, Tercera Planta\, Avenida Louis Pasteur\, 47\, Málaga\, Málaga\, 29010\, España
ATTACH;FMTTYPE=image/jpeg:https://www.link.uma.es/wp-content/uploads/2021/05/tupl.jpg
ORGANIZER;CN="Sara F%C3%A1brega. Tupl":MAILTO:sara.fabrega@tupl.com
END:VEVENT
BEGIN:VEVENT
DTSTART;TZID=UTC:20251021T090000
DTEND;TZID=UTC:20251021T113000
DTSTAMP:20260424T191340
CREATED:20250724T080539Z
LAST-MODIFIED:20250724T080539Z
UID:61282-1761037200-1761046200@www.link.uma.es
SUMMARY:CW. Visita alumnado Grado  Asia Oriental
DESCRIPTION:Coworking\, 4ª planta de Link by UMA\, de 9.30 a 11h \nVisita de alumnado de la asignatura Cultura Empresarial y Negociación en Corea del Grado de Estudios de Asia Oriental de la mano de su profesor Francisco Miguel Salguero Caparros \nBienvenid@s a Link by UMA! \n 
URL:https://www.link.uma.es/event/cw-visita-alumnado-grado-asia-oriental/
LOCATION:Coworking\, 4ª planta de Link by UMA
ATTACH;FMTTYPE=image/jpeg:https://www.link.uma.es/wp-content/uploads/2020/10/Grado-Asia-Oriental.jpg
ORGANIZER;CN="Francisco Salguero. UMA":MAILTO:fsalguero@uma.es
END:VEVENT
BEGIN:VEVENT
DTSTART;TZID=UTC:20251021T170000
DTEND;TZID=UTC:20251021T190000
DTSTAMP:20260424T191340
CREATED:20250916T102257Z
LAST-MODIFIED:20250916T102257Z
UID:61413-1761066000-1761073200@www.link.uma.es
SUMMARY:2.01. FARO: Formación para Spin-Off
DESCRIPTION:Sala 2.01\, 2ª planta de Link by UMA\, de 17 a 19h \nSesión 3. Desarrollo de producto \nEl objetivo del Concurso Spin-Off de la Universidad de Málaga es impulsar la actividad emprendedora de la comunidad universitaria\, promoviendo la concepción y consolidación de ideas con potencial para convertirse en empresas basadas en el conocimiento y en los avances científico-tecnológicos producidos en la Universidad\, para ello\, y como parte del premio Spin-Off\, la UMA ofrece formación específica y mentorización individualizada a los proyectos ganadores a través del Programa FARO. \nDurante su paso por el programa Spin-Off\, los ganadores recibirán una serie de sesiones formativas especializadas enfocadas en el impulso y aceleración de sus proyectos.
URL:https://www.link.uma.es/event/2-01-faro-formacion-para-spin-off-11/
LOCATION:Sala 2.01\, Segunda Planta\, Avenida Louis Pasteur\, 47\, Málaga\, Málaga\, 29010\, España
ATTACH;FMTTYPE=image/png:https://www.link.uma.es/wp-content/uploads/2024/10/Marca-Faro_cuadrado.png
ORGANIZER;CN="Laura Marcos. Empleabilidad y Emprendimiento UMA":MAILTO:lauramarcos@uma.es
END:VEVENT
BEGIN:VEVENT
DTSTART;TZID=UTC:20251022T100000
DTEND;TZID=UTC:20251022T120000
DTSTAMP:20260424T191340
CREATED:20251016T085122Z
LAST-MODIFIED:20251016T085122Z
UID:61733-1761127200-1761134400@www.link.uma.es
SUMMARY:3.01 Miércoles por la Orientación
DESCRIPTION:3.01\, 3ª planta – 10.00 a 12.00 h \nHoy tendremos la sesión presencial del alumnado que realiza los cursos sobre desarrollo de competencias: Enfoca tu futuro\, Soft & Digital Skills y Actitud Emprendedora \nLa sesión versará sobre Recursos de formación y Empleo dirigido al colectivo universitario
URL:https://www.link.uma.es/event/3-01-miercoles-por-la-orientacion-2/
LOCATION:Sala 3.01\, Tercera Planta\, Avenida Louis Pasteur\, 47\, Málaga\, Málaga\, 29010\, España
ATTACH;FMTTYPE=image/jpeg:https://www.link.uma.es/wp-content/uploads/2022/10/miercoles-pro-el-empleo.jpg
ORGANIZER;CN="Gema L%C3%B3pez Montiel. Empleabilidad y Emprendimiento UMA":MAILTO:glopez@uma.es
END:VEVENT
BEGIN:VEVENT
DTSTART;TZID=UTC:20251022T120000
DTEND;TZID=UTC:20251022T140000
DTSTAMP:20260424T191340
CREATED:20251016T094510Z
LAST-MODIFIED:20251016T094510Z
UID:61744-1761134400-1761141600@www.link.uma.es
SUMMARY:2.02. Tutoría Prácticas Erasmus+ 2025/2026 – GRADO\, MÁSTER y DOCTORADO
DESCRIPTION:Sala 2.02\, 2ª planta de Link by UMA\, de 12 a 14h \nTutoría Prácticas Erasmus+ 2025/2026 – GRADO\, MÁSTER y DOCTORADO
URL:https://www.link.uma.es/event/2-02-tutoria-practicas-erasmus-2025-2026-grado-master-y-doctorado-3/
LOCATION:Sala 2.02\, 2ª planta
ATTACH;FMTTYPE=image/png:https://www.link.uma.es/wp-content/uploads/2025/06/es_cofinanciado_por_la_union_europea_pos_DWca0qq-scaled.png
ORGANIZER;CN="Alejandro Florido. Pr%C3%A1cticas Erasmus. UMA":MAILTO:florido@uma.es
END:VEVENT
BEGIN:VEVENT
DTSTART;TZID=UTC:20251022T123000
DTEND;TZID=UTC:20251022T140000
DTSTAMP:20260424T191340
CREATED:20251016T100022Z
LAST-MODIFIED:20251022T060502Z
UID:61746-1761136200-1761141600@www.link.uma.es
SUMMARY:3.01. Presentación de Mentores Faro a proyectos Spin-Off
DESCRIPTION:Sala 3.01\, 3ª planta de Link by UMA\, de 12:30 a 14h \nPresentación de Mentores Faro a proyectos Spin-Off
URL:https://www.link.uma.es/event/3-02-presentacion-de-mentores-faro-a-proyectos-spin-off/
LOCATION:Sala 3.01\, Tercera Planta\, Avenida Louis Pasteur\, 47\, Málaga\, Málaga\, 29010\, España
ATTACH;FMTTYPE=image/png:https://www.link.uma.es/wp-content/uploads/2024/10/Marca-Faro_cuadrado.png
ORGANIZER;CN="Ana Mu%C3%B1iz. Coordinadora Unidad de Emprendimiento en Link by UMA":MAILTO:emprende@uma.es
END:VEVENT
BEGIN:VEVENT
DTSTART;TZID=UTC:20251022T190000
DTEND;TZID=UTC:20251022T203000
DTSTAMP:20260424T191340
CREATED:20251022T073433Z
LAST-MODIFIED:20251022T073433Z
UID:61793-1761159600-1761165000@www.link.uma.es
SUMMARY:2.01 Reunión AIESEC
DESCRIPTION:2.01\, 2ª planta – 19.00 a 20.30 h \nTendrá lugar una reunión de los miembros de la Asociación AIESEC. \nSe trata de una asociación de estudiantes enfocada en promover el liderazgo mediante experiencias de voluntariado en el extranjero. Vamos a contactar a estudiantes que ya rellenaron el formulario para hacer un voluntariado.
URL:https://www.link.uma.es/event/2-01-reunion-aiesec-13/
LOCATION:Sala 2.01\, Segunda Planta\, Avenida Louis Pasteur\, 47\, Málaga\, Málaga\, 29010\, España
ATTACH;FMTTYPE=image/png:https://www.link.uma.es/wp-content/uploads/2024/01/aiesec_logo.png
END:VEVENT
BEGIN:VEVENT
DTSTART;TZID=UTC:20251023T080000
DTEND;TZID=UTC:20251023T230000
DTSTAMP:20260424T191340
CREATED:20250915T115411Z
LAST-MODIFIED:20251006T093932Z
UID:61394-1761206400-1761260400@www.link.uma.es
SUMMARY:SA+3ª+CW: Flash Session Hackathon 8
DESCRIPTION:Salón de Actos\, Tercera Planta y Coworking de Link by UMA \nFlash Session Hackathon 8: Inscríbete aquí hasta el 16 de octubre https://flashsession.uma.es/ \nSi eres estudiante de Grado\, Posgrado o Enseñanzas Propias de la UMA de cualquier sector o área de conocimiento (con matrícula en el curso 25/26)\, te invitamos a que participes en la mayor experiencia de creación de ideas emprendedoras de la Universidad de Málaga. \nSólo tenemos 85 plazas disponibles\, no te quedes sin la tuya!!! https://flashsession.uma.es/ \n 
URL:https://www.link.uma.es/event/sa3acw-flash-session-hackathon-8/
LOCATION:Coworking+3.01+Salón de Actos
ATTACH;FMTTYPE=image/jpeg:https://www.link.uma.es/wp-content/uploads/2017/02/FS8_BotonLink-scaled.jpg
ORGANIZER;CN="Jes%C3%BAs Pedrero. Diverxia Consulting":MAILTO:emprende@diverxiaconsulting.com
END:VEVENT
BEGIN:VEVENT
DTSTART;TZID=UTC:20251024T080000
DTEND;TZID=UTC:20251024T190000
DTSTAMP:20260424T191340
CREATED:20250915T115709Z
LAST-MODIFIED:20251006T093937Z
UID:61396-1761292800-1761332400@www.link.uma.es
SUMMARY:SA+3ª+CW: Flash Session Hackathon 8
DESCRIPTION:Salón de Actos\, Tercera Planta y Coworking de Link by UMA \nFlash Session Hackathon 8: Inscríbete aquí hasta el 16 de octubre https://flashsession.uma.es/ \nSi eres estudiante de Grado\, Posgrado o Enseñanzas Propias de la UMA de cualquier sector o área de conocimiento (con matrícula en el curso 25/26)\, te invitamos a que participes en la mayor experiencia de creación de ideas emprendedoras de la Universidad de Málaga. \nSólo tenemos 85 plazas disponibles\, no te quedes sin la tuya!!! https://flashsession.uma.es/ \nga.
URL:https://www.link.uma.es/event/sa3acw-flash-session-hackathon-8-2/
LOCATION:Coworking+3.01+Salón de Actos
ORGANIZER;CN="Jes%C3%BAs Pedrero. Diverxia Consulting":MAILTO:emprende@diverxiaconsulting.com
END:VEVENT
BEGIN:VEVENT
DTSTART;TZID=UTC:20251027T143000
DTEND;TZID=UTC:20251027T163000
DTSTAMP:20260424T191340
CREATED:20250925T072651Z
LAST-MODIFIED:20250925T072651Z
UID:61528-1761575400-1761582600@www.link.uma.es
SUMMARY:3.02. Tupl: Comunicación a través del teatro
DESCRIPTION:Sala 3.02\, de 14.30 a 16.30h \nCurso comunicación a través del teatro para el día a día en el trabajo
URL:https://www.link.uma.es/event/3-02-tupl-comunicacion-a-traves-del-teatro-16/
LOCATION:Sala 3.02\, Tercera Planta\, Avenida Louis Pasteur\, 47\, Málaga\, Málaga\, 29010\, España
ATTACH;FMTTYPE=image/jpeg:https://www.link.uma.es/wp-content/uploads/2021/05/tupl.jpg
ORGANIZER;CN="Sara F%C3%A1brega. Tupl":MAILTO:sara.fabrega@tupl.com
END:VEVENT
BEGIN:VEVENT
DTSTART;TZID=UTC:20251028T113000
DTEND;TZID=UTC:20251028T133000
DTSTAMP:20260424T191340
CREATED:20251020T112806Z
LAST-MODIFIED:20251020T112806Z
UID:61776-1761651000-1761658200@www.link.uma.es
SUMMARY:2.01 Prueba de grabación podcast "Doctorando que no es poco"
DESCRIPTION:2.01\, 2ª planta – 11.30 a 13.30 h \nPrueba de grabación del pódcast ‘Doctorando que no es poco’.
URL:https://www.link.uma.es/event/2-01-prueba-de-grabacion-podcast-doctorando-que-no-es-poco/
LOCATION:Sala 2.01\, Segunda Planta\, Avenida Louis Pasteur\, 47\, Málaga\, Málaga\, 29010\, España
ATTACH;FMTTYPE=image/jpeg:https://www.link.uma.es/wp-content/uploads/2024/10/UMA_Horizontal.jpg
ORGANIZER;CN="Maria Inmaculada Montes Rodriguez. Biblioteca General UMA":MAILTO:imontes@uma.es
END:VEVENT
BEGIN:VEVENT
DTSTART;TZID=UTC:20251028T120000
DTEND;TZID=UTC:20251028T130000
DTSTAMP:20260424T191340
CREATED:20251009T081738Z
LAST-MODIFIED:20251009T081738Z
UID:61710-1761652800-1761656400@www.link.uma.es
SUMMARY:3.02. Reunión ViewNext
DESCRIPTION:Sala 3.02\, 3ª planta de Link by UMA\, de 12 a 13h \nReunión ViewNext \nViewnext es una empresa de Servicios de Consultoría Tecnológica y Tranformación Digital perteneciente al grupo IBM en España
URL:https://www.link.uma.es/event/3-02-reunion-viewnext-3/
LOCATION:Sala 3.02\, Tercera Planta\, Avenida Louis Pasteur\, 47\, Málaga\, Málaga\, 29010\, España
ATTACH;FMTTYPE=image/png:https://www.link.uma.es/wp-content/uploads/2024/03/logotipo_de_viewnext.png
ORGANIZER;CN="Fernando Baena. Director ViewNext M%C3%A1laga":MAILTO:fbaena@viewnext.com
END:VEVENT
BEGIN:VEVENT
DTSTART;TZID=UTC:20251028T133000
DTEND;TZID=UTC:20251028T153000
DTSTAMP:20260424T191340
CREATED:20250926T062928Z
LAST-MODIFIED:20250926T063138Z
UID:61541-1761658200-1761665400@www.link.uma.es
SUMMARY:3.01 Visita alumnado Fisioterapia
DESCRIPTION:Visita para conocer el espacio y programas y actividades que organiza LInk by UMA dentro de la asignatura de Fisioterapia comunitaria y Gestión en fisioterapia
URL:https://www.link.uma.es/event/3-01-visita-alumnado-fisioterapia-2/
LOCATION:Salas 3.01 y 3.02\, 3ª planta
END:VEVENT
BEGIN:VEVENT
DTSTART;TZID=UTC:20251028T170000
DTEND;TZID=UTC:20251028T190000
DTSTAMP:20260424T191340
CREATED:20250911T105941Z
LAST-MODIFIED:20250916T102535Z
UID:61365-1761670800-1761678000@www.link.uma.es
SUMMARY:2.01. FARO: Formación para Spin-Off
DESCRIPTION:Sala 2.01\, 2ª planta de Link by UMA\, de 17 a 19h \nSesión 4: Plan Económico-Financiero \nEl objetivo del Concurso Spin-Off de la Universidad de Málaga es impulsar la actividad emprendedora de la comunidad universitaria\, promoviendo la concepción y consolidación de ideas con potencial para convertirse en empresas basadas en el conocimiento y en los avances científico-tecnológicos producidos en la Universidad\, para ello\, y como parte del premio Spin-Off\, la UMA ofrece formación específica y mentorización individualizada a los proyectos ganadores a través del Programa FARO. \nDurante su paso por el programa Spin-Off\, los ganadores recibirán una serie de sesiones formativas especializadas enfocadas en el impulso y aceleración de sus proyectos.
URL:https://www.link.uma.es/event/2-01-faro-formacion-para-spin-off/
LOCATION:Sala 2.01\, Segunda Planta\, Avenida Louis Pasteur\, 47\, Málaga\, Málaga\, 29010\, España
ATTACH;FMTTYPE=image/png:https://www.link.uma.es/wp-content/uploads/2024/10/Marca-Faro_cuadrado.png
ORGANIZER;CN="Laura Marcos. Empleabilidad y Emprendimiento UMA":MAILTO:lauramarcos@uma.es
END:VEVENT
BEGIN:VEVENT
DTSTART;TZID=UTC:20251029T090000
DTEND;TZID=UTC:20251029T180000
DTSTAMP:20260424T191340
CREATED:20251022T072436Z
LAST-MODIFIED:20251022T073952Z
UID:61790-1761728400-1761760800@www.link.uma.es
SUMMARY:3.02 Workshop Viewnext
DESCRIPTION:3.02\, 3ª planta – 09.00 a 18.00 h \nTendrá lugar un workshop a cargo de la empresa Viewnext
URL:https://www.link.uma.es/event/3-01-workshop-viewnext-2/
LOCATION:Sala 3.02\, Tercera Planta\, Avenida Louis Pasteur\, 47\, Málaga\, Málaga\, 29010\, España
ATTACH;FMTTYPE=image/png:https://www.link.uma.es/wp-content/uploads/2024/03/logotipo_de_viewnext.png
ORGANIZER;CN="Leonor Jim%C3%A9nez. ViewNext":MAILTO:mljimenez@viewnext.com
END:VEVENT
BEGIN:VEVENT
DTSTART;TZID=UTC:20251029T120000
DTEND;TZID=UTC:20251029T140000
DTSTAMP:20260424T191340
CREATED:20251020T104030Z
LAST-MODIFIED:20251020T104030Z
UID:61765-1761739200-1761746400@www.link.uma.es
SUMMARY:2.02 Tutoría Prácticas Erasmus+ 2025/2026 - Grado\, Máster y Doctorado
DESCRIPTION:2.02\, 2ª planta – 12.00 a 14.00 h \nTendrá lugar una tutoría de prácticas Erasmus + 2025/2026
URL:https://www.link.uma.es/event/2-02-tutoria-practicas-erasmus-2025-2026-grado-master-y-doctorado-4/
LOCATION:Sala 2.02\, 2ª planta
ATTACH;FMTTYPE=image/jpeg:https://www.link.uma.es/wp-content/uploads/2021/06/erasmus.jpg
ORGANIZER;CN="Alejandro Florido - Servicio de Relaciones Internacionales y Cooperaci%C3%B3n":MAILTO:practicaserasmus@uma.es
END:VEVENT
END:VCALENDAR