BEGIN:VCALENDAR
VERSION:2.0
PRODID:-//LINK by UMA-ATech - ECPv6.15.20//NONSGML v1.0//EN
CALSCALE:GREGORIAN
METHOD:PUBLISH
X-WR-CALNAME:LINK by UMA-ATech
X-ORIGINAL-URL:https://www.link.uma.es
X-WR-CALDESC:Eventos para LINK by UMA-ATech
REFRESH-INTERVAL;VALUE=DURATION:PT1H
X-Robots-Tag:noindex
X-PUBLISHED-TTL:PT1H
BEGIN:VTIMEZONE
TZID:UTC
BEGIN:STANDARD
TZOFFSETFROM:+0000
TZOFFSETTO:+0000
TZNAME:UTC
DTSTART:20230101T000000
END:STANDARD
END:VTIMEZONE
BEGIN:VEVENT
DTSTART;TZID=UTC:20241018T150000
DTEND;TZID=UTC:20241018T200000
DTSTAMP:20260424T164502
CREATED:20240926T121904Z
LAST-MODIFIED:20240926T121904Z
UID:59264-1729263600-1729281600@www.link.uma.es
SUMMARY:2.02 Reunión AIESEC
DESCRIPTION:Reunión interna
URL:https://www.link.uma.es/event/2-02-reunion-aiesec-2/
LOCATION:Sala 2.02\, 2ª planta
END:VEVENT
BEGIN:VEVENT
DTSTART;TZID=UTC:20241018T160000
DTEND;TZID=UTC:20241018T200000
DTSTAMP:20260424T164502
CREATED:20240724T092605Z
LAST-MODIFIED:20240724T092647Z
UID:59020-1729267200-1729281600@www.link.uma.es
SUMMARY:3.01. Proyecto Roma: Jornadas familia\, mediación y profesorado
DESCRIPTION:Sala 3.01\, 3ª planta de Link by UMA\, de 16 a 20h \nEl Proyecto Roma nace en 1990 como un proyecto europeo de investigación en el que intervienen la Universidad de Málaga\, desde España\, y la Universidad de Bolonia y el Servicio Neuropsicopedagógico del Hospital Bambino Gesú de Roma\, en Italia. Iniciado por el Profesor Dr. Miguel LÓPEZ MELERO\, catedrático e investigador de la Universidad de Málaga\, junto con los doctores Nicola CUOMO\, Giorgio ALBERTINI\, Gianni BIONDI\, ha sido desarrollado hasta la fecha como un trabajo de investigación grupal por familias\, investigadores y profesionales de la docencia. El nombre de Proyecto Roma surge de este origen\, en reconocimiento a la ciudad italiana que vio su nacimiento. Por contra\, es conocido en Italia como Proyecto Málaga. \nLa Asociación Proyecto Roma nace como una institución con carácter cultural\, docente e investigador para seguir trabajando de manera comprometida en la construcción de un modelo educativo inclusivo que mejore los contextos familiares\, escolares y sociales.
URL:https://www.link.uma.es/event/3-01-proyecto-roma-jornadas-familia-mediacion-y-profesorado/
LOCATION:Sala 3.01\, Tercera Planta\, Avenida Louis Pasteur\, 47\, Málaga\, Málaga\, 29010\, España
ATTACH;FMTTYPE=image/png:https://www.link.uma.es/wp-content/uploads/2024/07/Proyecto-Roma.png
ORGANIZER;CN="Jose Serrano Barrientos. Coordinador Proyecto Roma":MAILTO:0619978616@uma.es
END:VEVENT
BEGIN:VEVENT
DTSTART;TZID=UTC:20241021T143000
DTEND;TZID=UTC:20241021T160000
DTSTAMP:20260424T164502
CREATED:20241016T122340Z
LAST-MODIFIED:20241016T122340Z
UID:59428-1729521000-1729526400@www.link.uma.es
SUMMARY:3.02. Tupl: formación interna
DESCRIPTION:Sala 3.02\, 3ª planta de Link by UMA\, de 14:30 a 16h \nFormación interna de la empresa Tupl. \nTupl provides a Low-code MLOps framework to develop hyperautomation applications with a fast time to market.
URL:https://www.link.uma.es/event/3-02-tupl-formacion-interna/
LOCATION:Sala 3.02\, Tercera Planta\, Avenida Louis Pasteur\, 47\, Málaga\, Málaga\, 29010\, España
ATTACH;FMTTYPE=image/png:https://www.link.uma.es/wp-content/uploads/2019/07/Tupl.png
ORGANIZER;CN="Beatriz Garc%C3%ADa Terrones. Tupl":MAILTO:beatriz.garcia@tupl.com
END:VEVENT
BEGIN:VEVENT
DTSTART;TZID=UTC:20241022T093000
DTEND;TZID=UTC:20241022T110000
DTSTAMP:20260424T164502
CREATED:20240923T102554Z
LAST-MODIFIED:20240923T102554Z
UID:59216-1729589400-1729594800@www.link.uma.es
SUMMARY:3.01. Visita alumnado Grado Estudios de Asia Oriental
DESCRIPTION:Sala 3.01\, 3ª planta de Link by UMA\, de 9.30 a 11h. \nEl alumnado del grado Estudios de Asia Oriental\, concretamente de la asignatura «Cultura empresarial y negoción en Corea» impartida por Francisco Salguero\, viene a Link by UMA para conocer actividades de Empleabilidad y Emprendimiento que ofrece el servicio.
URL:https://www.link.uma.es/event/3-01-visita-alumnado-grado-estudios-de-asia-oriental/
LOCATION:Sala 3.01\, Tercera Planta\, Avenida Louis Pasteur\, 47\, Málaga\, Málaga\, 29010\, España
ATTACH;FMTTYPE=image/png:https://www.link.uma.es/wp-content/uploads/2024/09/IMAGEN_ASIGNATURA.png
ORGANIZER;CN="Francisco Salguero. UMA":MAILTO:fsalguero@uma.es
END:VEVENT
BEGIN:VEVENT
DTSTART;TZID=UTC:20241023T080000
DTEND;TZID=UTC:20241023T080000
DTSTAMP:20260424T164502
CREATED:20240517T072926Z
LAST-MODIFIED:20240517T073409Z
UID:58819-1729670400-1729670400@www.link.uma.es
SUMMARY:3.01+3.02. First Lego League España: Reunión de equipo
DESCRIPTION:Salas 3.01+3.02\, 3ª planta de Link by UMA\, de 8 a 18h \nFIRST LEGO LEAGUE es un programa educativo pre-universitario basado en investigación y robótica educativa. Se desarrolla desde hace 25 años en más de 100 países del mundo y en España es impulsado por Ingeniera Soy\, asociación nacional sin ánimo de lucro con sede en Málaga. \nCon un alcance de más de 34 territorios en toda España y Andorra\, el modelo del programa se basa en la colaboración de hasta 30 socios locales\, la mayoría de ellos universidades públicas y privadas españolas. (incluida la UMA). Todos los años se realiza un encuentro con estos representantes de los socios locales\, técnicos y/o vicerrectores de universidades.
URL:https://www.link.uma.es/event/3-013-02-first-lego-league-espana-reunion-de-equipo/
LOCATION:Salas 3.01 y 3.02 de Link by UMA
ATTACH;FMTTYPE=image/jpeg:https://www.link.uma.es/wp-content/uploads/2024/05/First-Lego-League.jpg
ORGANIZER;CN="Javier Butrague%C3%B1o. Asocaci%C3%B3n Ingenier%C3%ADa Soy":MAILTO:asociacion@ingeniera.soy
END:VEVENT
BEGIN:VEVENT
DTSTART;TZID=UTC:20241023T100000
DTEND;TZID=UTC:20241023T120000
DTSTAMP:20260424T164502
CREATED:20240829T101723Z
LAST-MODIFIED:20241021T102207Z
UID:59047-1729677600-1729684800@www.link.uma.es
SUMMARY:CW Miércoles x la Orientación
DESCRIPTION:Coworking\, 4ª planta – 10.00 a 12.00 h \nSesión presencial dirigida al alumnado de los Cursos Online  de Formación en Competencias: \n1. Enfoca tu futuro 2. Actitud Emprendedora 3. Soft&Digital Skills \nSi ya eres alumno/a es necesario inscripción previa a través de Campus Virtual https://empleabilidad.cv.uma.es/mod/scheduler/view.php?id=4285 \nPara ello\, entra en tu curso y sigue estos pasos: 1. Pincha en la pestaña Evaluación 2. Pincha Sesión presencial («Compartiendo lo aprendido») 3. Inscríbete el miércoles que más te interese \nOBJETIVO DE LA SESIÓN: \nTe rodean múltiples recursos para ayudarte a conseguir el puesto de trabajo que te interesa o para poner en marcha tu proyecto empresarial\, ¿los conoces? En este taller te mostraremos el amplio abanico que tanto tu universidad como otras entidades malagueñas y andaluzas te pueden ofrecer \nCONTENIDOS: \nRecursos formativos. \nProgramas de prácticas en empresas a nivel nacional e internacional. \nProgramas de acceso al empleo dirigido a jóvenes. \nHorario: 10:00-12:00 h \n¿Dónde? CW (Cuarta Planta) Edif. The Green Ray\, Avenida Louis Pasteur\, 4\, 29010 Málaga \n(Campus: Extensión Teatinos)
URL:https://www.link.uma.es/event/2-02-miercoles-x-la-orientacion/
LOCATION:Coworking\, Cuarta Planta\, Avenida Louis Pasteur\, 47\, Málaga\, Málaga\, 29010\, España
ATTACH;FMTTYPE=image/jpeg:https://www.link.uma.es/wp-content/uploads/2022/10/miercoles-pro-el-empleo.jpg
ORGANIZER;CN="Laura Marcos. Orientaci%C3%B3n UMA":MAILTO:lauramarcos@uma.es
END:VEVENT
BEGIN:VEVENT
DTSTART;TZID=UTC:20241023T120000
DTEND;TZID=UTC:20241023T140000
DTSTAMP:20260424T164502
CREATED:20241022T102424Z
LAST-MODIFIED:20241022T102433Z
UID:59499-1729684800-1729692000@www.link.uma.es
SUMMARY:2.02. Visita profesorado con Diverxia Consulting
DESCRIPTION:Sala 2.02\, 2ª planta de Link by UMA\, de 12 a 14h \nUn grupo de profesores de FP vienen a visitar Link by UMA de la mano de Diverxia Consulting. Bienvenid@s!!!
URL:https://www.link.uma.es/event/2-02-visita-profesorado-con-diverxia-consulting/
LOCATION:Sala 2.02\, 2ª planta
ATTACH;FMTTYPE=image/png:https://www.link.uma.es/wp-content/uploads/2023/08/Diverxia.png
ORGANIZER;CN="Jes%C3%BAs Pedrero.":MAILTO:jesus@jesuspedrero.com
END:VEVENT
BEGIN:VEVENT
DTSTART;TZID=UTC:20241023T163000
DTEND;TZID=UTC:20241023T200000
DTSTAMP:20260424T164502
CREATED:20241022T065525Z
LAST-MODIFIED:20241022T065525Z
UID:59487-1729701000-1729713600@www.link.uma.es
SUMMARY:CW. Cultura Asiática y Sociedad Digital
DESCRIPTION:Coworking\, 4ª planta de Link by UMA\, de 16.30 a 20h \nLa profesora Nuria Rodríguez imparte hoy la asignatura «Cultura artística y sociedad posdigital»\, perteneciente al máster en Desarrollos Sociales de la Cultura Artística. \nBienvenid@s a Link by UMA! \nEl arte y las artes —en el amplio espectro de sus consideraciones—  son objeto y sujeto no ya del propio mundo académico o de las mediaciones de la llamada Institución Arte\, sino de la industria del ocio\, del turismo\, de la industria de los medios de comunicación\, del mercado de objetos de estatuto especial\, de la inversión en valores de rentabilidad económica\, de formas especiales de tratamiento terapéutico médico o psicológico\, de la expresión de valores simbólicos identitarios o religiosos\, etc.
URL:https://www.link.uma.es/event/cw-cultura-asiatica-y-sociedad-digital/
LOCATION:Coworking\, Cuarta Planta\, Avenida Louis Pasteur\, 47\, Málaga\, Málaga\, 29010\, España
ATTACH;FMTTYPE=image/png:https://www.link.uma.es/wp-content/uploads/2024/10/MDSCA-logo-2018-1.png
ORGANIZER;CN="Nuria Rodr%C3%ADguez Ortega.  Professor and Chair%2C Art History Department University of M%C3%A1laga":MAILTO:nro@uma.es
END:VEVENT
BEGIN:VEVENT
DTSTART;TZID=UTC:20241024T080000
DTEND;TZID=UTC:20241024T150000
DTSTAMP:20260424T164502
CREATED:20240517T073700Z
LAST-MODIFIED:20241015T074027Z
UID:58825-1729756800-1729782000@www.link.uma.es
SUMMARY:3.01+3.02. First Lego League España: Reunión de equipo
DESCRIPTION:Salas 3.01+3.02\, 3ª planta de Link by UMA\, de 8 a 15h \nFIRST LEGO LEAGUE es un programa educativo pre-universitario basado en investigación y robótica educativa. Se desarrolla desde hace 25 años en más de 100 países del mundo y en España es impulsado por Ingeniera Soy\, asociación nacional sin ánimo de lucro con sede en Málaga. \nCon un alcance de más de 34 territorios en toda España y Andorra\, el modelo del programa se basa en la colaboración de hasta 30 socios locales\, la mayoría de ellos universidades públicas y privadas españolas. (incluida la UMA). Todos los años se realiza un encuentro con estos representantes de los socios locales\, técnicos y/o vicerrectores de universidades.
URL:https://www.link.uma.es/event/3-013-02-first-lego-league-espana-reunion-de-equipo-2/
LOCATION:Salas 3.01 y 3.02 de Link by UMA
ATTACH;FMTTYPE=image/jpeg:https://www.link.uma.es/wp-content/uploads/2024/05/First-Lego-League.jpg
ORGANIZER;CN="Javier Butrague%C3%B1o. Asocaci%C3%B3n Ingenier%C3%ADa Soy":MAILTO:asociacion@ingeniera.soy
END:VEVENT
BEGIN:VEVENT
DTSTART;TZID=UTC:20241024T080000
DTEND;TZID=UTC:20241024T170000
DTSTAMP:20260424T164502
CREATED:20240730T112535Z
LAST-MODIFIED:20240924T061039Z
UID:59036-1729756800-1729789200@www.link.uma.es
SUMMARY:CW. SMARTDEC Transnational Project Management Meeting
DESCRIPTION:Jornada de  reunión de coordinación del proyecto europeo SMARTDEC
URL:https://www.link.uma.es/event/2-01-smartdec-transnational-project-management-meeting/
LOCATION:Coworking\, 4ª planta de Link by UMA
ATTACH;FMTTYPE=image/png:https://www.link.uma.es/wp-content/uploads/2024/07/SMARTDEC_Logo.png
ORGANIZER;CN="Elizabeth Dom%C3%ADnguez Chapman":MAILTO:internationalprojects@cmma.eu
END:VEVENT
BEGIN:VEVENT
DTSTART;TZID=UTC:20241024T160000
DTEND;TZID=UTC:20241024T210000
DTSTAMP:20260424T164502
CREATED:20241008T062146Z
LAST-MODIFIED:20241015T074106Z
UID:59367-1729785600-1729803600@www.link.uma.es
SUMMARY:3.01. Máster MBA
DESCRIPTION:Sala 3.01\, 3ª planta de Link by UMA\, de 16 a 21h \nClases del Máster MBA con Rafael Ventura. \nMaster MBA UMA\, Máster oficial en Dirección y Administración de Empresas de la Universidad de Málaga.
URL:https://www.link.uma.es/event/3-01-master-mba/
LOCATION:Sala 3.01\, Tercera Planta\, Avenida Louis Pasteur\, 47\, Málaga\, Málaga\, 29010\, España
ATTACH;FMTTYPE=image/jpeg:https://www.link.uma.es/wp-content/uploads/2024/10/Master-MBA.jpg
END:VEVENT
BEGIN:VEVENT
DTSTART;TZID=UTC:20241024T170000
DTEND;TZID=UTC:20241024T190000
DTSTAMP:20260424T164502
CREATED:20240924T065811Z
LAST-MODIFIED:20240924T065811Z
UID:59224-1729789200-1729796400@www.link.uma.es
SUMMARY:2.01. FARO: El producto: propiedad intelectual/industrial
DESCRIPTION:Sala 2.01\, 2ª planta de Link by  UMA\, de 17 a 19h \nFARO- Formación y Mentorización para Spin-Off: El producto: propiedad intelectual/industrial
URL:https://www.link.uma.es/event/2-01-faro-el-producto-propiedad-intelectual-industrial/
LOCATION:Sala 2.01\, Segunda Planta\, Avenida Louis Pasteur\, 47\, Málaga\, Málaga\, 29010\, España
ORGANIZER;CN="Antonio Pe%C3%B1afiel. Director Servicio Empleabilidad y Emprendimiento.":MAILTO:apenafiel@uma.es
END:VEVENT
BEGIN:VEVENT
DTSTART;TZID=UTC:20241024T170000
DTEND;TZID=UTC:20241024T203000
DTSTAMP:20260424T164502
CREATED:20241014T113147Z
LAST-MODIFIED:20241015T074449Z
UID:59407-1729789200-1729801800@www.link.uma.es
SUMMARY:2.02. Acelera Startups con Jesús Pedrero
DESCRIPTION:Sala 2.02\, 2ª planta de Link by UMA\, de 17 a 20.30h \n6ª edición de Acelera Startups \nDesarrollo Comercial II: Ventas\nFecha: 24/10/2024\nHora: 17h a 20:30h\nFormador: Jesús Pedrero \nEl programa Acelera Startups proporciona a todo emprendedor la posibilidad de acceder a expertos de distintos ámbitos a través de talleres y mentorías personalizadas.
URL:https://www.link.uma.es/event/2-01-acelera-startups-con-jesus-pedrero-3/
LOCATION:Sala 2.02\, 2ª planta
ATTACH;FMTTYPE=image/jpeg:https://www.link.uma.es/wp-content/uploads/2024/02/logo-acelera-startups.jpg
ORGANIZER;CN="Nacho Mart%C3%ADn. Impact Hub M%C3%A1laga.":MAILTO:nacho.martin@impacthub.net
END:VEVENT
BEGIN:VEVENT
DTSTART;TZID=UTC:20241025T090000
DTEND;TZID=UTC:20241025T143000
DTSTAMP:20260424T164502
CREATED:20241004T114314Z
LAST-MODIFIED:20241004T114314Z
UID:59334-1729846800-1729866600@www.link.uma.es
SUMMARY:CW +Salón Actos_“Equilibrios en la carrera académica y tareas generizadas. ¿Cómo (no) competir y avanzar?”
DESCRIPTION:Evento del Vicerrectorado de Igualdad sobre el equilibrio entre la Carrera Académica y las Tareas Generizadas \nEl objetivo es analizar cómo es el reparto del tiempo entre el colectivo docente e investigador mediante una catalogación de tareas\, tanto en el ámbito laboral como en el privado\, con la idea de establecer patrones de funcionamiento que se intuyen generizados. Para ello\, se diseñará una aplicación móvil en la que las personas participantes puedan realizar sus registros de actividades diarias\, para proceder posteriormente a su análisis cuantitativo\, sin menoscabo de aplicarle\, igualmente\, un análisis cualitativo. Por otro lado\, se realizarán entrevistas semiestructuradas para poder obtener información más personalizada y desde una perspectiva experiencial\, de las personas sujetas a estudio\, y hacer un posterior análisis cualitativo.\nEse mismo día de la presentación se harán 3 formaciones\, una sobre dinamización\, otra sobre mentoría y otra sobre categorización
URL:https://www.link.uma.es/event/cw-salon-actos_equilibrios-en-la-carrera-academica-y-tareas-generizadas-como-no-competir-y-avanzar/
LOCATION:Coworking + Salón de Actos
ORGANIZER;CN="Mar%C3%ADa Victoria Miranda Romero":MAILTO:miranda@uma.es
END:VEVENT
BEGIN:VEVENT
DTSTART;TZID=UTC:20241028T120000
DTEND;TZID=UTC:20241028T140000
DTSTAMP:20260424T164502
CREATED:20241025T123144Z
LAST-MODIFIED:20241025T123144Z
UID:59527-1730116800-1730124000@www.link.uma.es
SUMMARY:2.02. Reunión equipo Servicio de Empleabilidad y Emprendimiento
DESCRIPTION:Sala 2.02\, 2ª planta\, de 12 a 14h \nReunión equipo Servicio de Empleabilidad y Emprendimiento
URL:https://www.link.uma.es/event/2-02-reunion-equipo-servicio-de-empleabilidad-y-emprendimiento/
LOCATION:Sala 2.02\, 2ª planta
ORGANIZER;CN="Antonio Pe%C3%B1afiel. Director Servicio Empleabilidad y Emprendimiento.":MAILTO:apenafiel@uma.es
END:VEVENT
BEGIN:VEVENT
DTSTART;TZID=UTC:20241028T140000
DTEND;TZID=UTC:20241028T150000
DTSTAMP:20260424T164502
CREATED:20240913T084424Z
LAST-MODIFIED:20241028T123930Z
UID:59103-1730124000-1730127600@www.link.uma.es
SUMMARY:2.01. Visita Delegación del Gobierno de Andorra
DESCRIPTION:2.01\, 2ª planta de Link by UMA\, de 17:30-18:30h \nVisita de una Delegación del Gobierno de Andorra junto con personal de Málaga Tech Park. La Delegación que nos visitará es la siguiente: \n\n\n\nConxita Marsol\, Ministra de Presidencia\, Economía\, Trabajo y Vivienda.\nMarc Saura\, Secretario de Estado de Empresa\, Diversificación Económica e Innovación.\nVanesa Arroyo\, Gerenta de Andorra Recercá e Innovació.\n\n\nAurora Crespo\, Coordinadora de Innovación en Andorra Recercá e Innovació.\n\n\n\nBienvenidos a Link by UMA!
URL:https://www.link.uma.es/event/cw-visita-delegacion-del-gobierno-de-andorra/
LOCATION:Sala 2.01\, Segunda Planta\, Avenida Louis Pasteur\, 47\, Málaga\, Málaga\, 29010\, España
ATTACH;FMTTYPE=image/png:https://www.link.uma.es/wp-content/uploads/2020/10/Málaga-Tech-Park.png
ORGANIZER;CN="Andrea Navarro. M%C3%A1laga Tech Park":MAILTO:areainternacional@pta.es
END:VEVENT
BEGIN:VEVENT
DTSTART;TZID=UTC:20241028T143000
DTEND;TZID=UTC:20241028T160000
DTSTAMP:20260424T164502
CREATED:20241016T122623Z
LAST-MODIFIED:20241016T122623Z
UID:59431-1730125800-1730131200@www.link.uma.es
SUMMARY:3.02. Tupl: formación interna
DESCRIPTION:Sala 3.02\, 3ª planta de Link by UMA\, de 14:30 a 16h \nFormación interna de la empresa Tupl. \nTupl provides a Low-code MLOps framework to develop hyperautomation applications with a fast time to market.
URL:https://www.link.uma.es/event/3-02-tupl-formacion-interna-2/
LOCATION:Sala 3.02\, Tercera Planta\, Avenida Louis Pasteur\, 47\, Málaga\, Málaga\, 29010\, España
ATTACH;FMTTYPE=image/png:https://www.link.uma.es/wp-content/uploads/2019/07/Tupl.png
ORGANIZER;CN="Beatriz Garc%C3%ADa Terrones. Tupl":MAILTO:beatriz.garcia@tupl.com
END:VEVENT
BEGIN:VEVENT
DTSTART;TZID=UTC:20241029T100000
DTEND;TZID=UTC:20241029T180000
DTSTAMP:20260424T164502
CREATED:20240912T110527Z
LAST-MODIFIED:20240912T110638Z
UID:59090-1730196000-1730224800@www.link.uma.es
SUMMARY:S.A + CW. CGI Anual Tour
DESCRIPTION:Salón de Actos\, de 10 a 18h + CW de 13 a 16h \nEvento anual corporativo de la empresa CGI. \nFundada en 1976\, CGI se encuentra entre las mayores firmas independientes de servicios TI y consultoría de negocio del mundo. Nos basamos en conocimientos y resultados para ayudar a acelerar el rendimiento de tus inversiones. \n 
URL:https://www.link.uma.es/event/s-a-cw-cgi-anual-tour/
LOCATION:Salón de Actos + Coworking
ATTACH;FMTTYPE=image/png:https://www.link.uma.es/wp-content/uploads/2024/09/CGI_logo_color_rgb.png
ORGANIZER;CN="Antonio Delgado. HR Consultant. CGI":MAILTO:antonio.delgadolauret@cgi.com
END:VEVENT
BEGIN:VEVENT
DTSTART;TZID=UTC:20241029T133000
DTEND;TZID=UTC:20241029T143000
DTSTAMP:20260424T164502
CREATED:20240920T095723Z
LAST-MODIFIED:20240930T114313Z
UID:59207-1730208600-1730212200@www.link.uma.es
SUMMARY:3.01. Visita alumnado fisioterapia
DESCRIPTION:Sala 3.01\, 3ª planta de Link by UMA\, de 13.30 a 14.30h \nVisita de alumnado de 3º de fisioterapia\, de la mano de su profesora Rita Romero\, para conocer todo lo que les puede ofrecer el Servicio de Empleabilidad y Emprendimiento de la UMA. Bienvenidos a Link by UMA!
URL:https://www.link.uma.es/event/3-01-visita-alumnado-fisioterapia/
LOCATION:Sala 3.01\, Tercera Planta\, Avenida Louis Pasteur\, 47\, Málaga\, Málaga\, 29010\, España
ATTACH;FMTTYPE=image/png:https://www.link.uma.es/wp-content/uploads/2024/09/images.png
END:VEVENT
BEGIN:VEVENT
DTSTART;TZID=UTC:20241029T160000
DTEND;TZID=UTC:20241029T210000
DTSTAMP:20260424T164502
CREATED:20241008T062543Z
LAST-MODIFIED:20241008T062543Z
UID:59372-1730217600-1730235600@www.link.uma.es
SUMMARY:3.01. Máster MBA
DESCRIPTION:Sala 3.01\, 3ª planta de Link by UMA\, de 16 a 21h \nClases del Máster MBA con Rafael Ventura. \nMaster MBA UMA\, Máster oficial en Dirección y Administración de Empresas de la Universidad de Málaga.
URL:https://www.link.uma.es/event/3-01-master-mba-2/
LOCATION:Sala 3.01\, Tercera Planta\, Avenida Louis Pasteur\, 47\, Málaga\, Málaga\, 29010\, España
ATTACH;FMTTYPE=image/jpeg:https://www.link.uma.es/wp-content/uploads/2024/10/Master-MBA.jpg
END:VEVENT
BEGIN:VEVENT
DTSTART;TZID=UTC:20241029T170000
DTEND;TZID=UTC:20241029T203000
DTSTAMP:20260424T164502
CREATED:20241014T113650Z
LAST-MODIFIED:20241014T113650Z
UID:59411-1730221200-1730233800@www.link.uma.es
SUMMARY:2.01. Acelera Startups con Rubén Vázquez Romero
DESCRIPTION:Sala 2.01\, 2ª planta de Link by UMA\, de 17 a 20.30h \n6ª edición de Acelera Startups \nAspectos legales y fiscales clave para empresas en crecimiento\nFecha: 29/10/2024\nHora: 17h a 20:30h\nFormador: Rubén Vázquez Romero \nEl programa Acelera Startups proporciona a todo emprendedor la posibilidad de acceder a expertos de distintos ámbitos a través de talleres y mentorías personalizadas.
URL:https://www.link.uma.es/event/2-01-acelera-startups-con-ruben-vazquez-romero-2/
LOCATION:Sala 2.01\, Segunda Planta\, Avenida Louis Pasteur\, 47\, Málaga\, Málaga\, 29010\, España
ATTACH;FMTTYPE=image/jpeg:https://www.link.uma.es/wp-content/uploads/2024/02/logo-acelera-startups.jpg
ORGANIZER;CN="Nacho Mart%C3%ADn. Impact Hub M%C3%A1laga.":MAILTO:nacho.martin@impacthub.net
END:VEVENT
BEGIN:VEVENT
DTSTART;TZID=UTC:20241030T100000
DTEND;TZID=UTC:20241030T180000
DTSTAMP:20260424T164502
CREATED:20240912T110840Z
LAST-MODIFIED:20240912T110840Z
UID:59093-1730282400-1730311200@www.link.uma.es
SUMMARY:S.A + CW. CGI Anual Tour
DESCRIPTION:Salón de Actos\, de 10 a 18h + CW de 13 a 16h \nEvento anual corporativo de la empresa CGI. \nFundada en 1976\, CGI se encuentra entre las mayores firmas independientes de servicios TI y consultoría de negocio del mundo. Nos basamos en conocimientos y resultados para ayudar a acelerar el rendimiento de tus inversiones.
URL:https://www.link.uma.es/event/s-a-cw-cgi-anual-tour-2/
LOCATION:Salón de Actos y Coworking
ATTACH;FMTTYPE=image/png:https://www.link.uma.es/wp-content/uploads/2024/09/CGI_logo_color_rgb.png
ORGANIZER;CN="Antonio Delgado. HR Consultant. CGI":MAILTO:antonio.delgadolauret@cgi.com
END:VEVENT
BEGIN:VEVENT
DTSTART;TZID=UTC:20241030T163000
DTEND;TZID=UTC:20241030T200000
DTSTAMP:20260424T164502
CREATED:20241022T065731Z
LAST-MODIFIED:20241022T065731Z
UID:59490-1730305800-1730318400@www.link.uma.es
SUMMARY:3.01. Cultura Asiática y Sociedad Digital
DESCRIPTION:Sala 3.01\, 3ª planta de Link by UMA\, de 16.30 a 20h \nLa profesora Nuria Rodríguez imparte hoy la asignatura «Cultura artística y sociedad posdigital»\, perteneciente al máster en Desarrollos Sociales de la Cultura Artística. \nBienvenid@s a Link by UMA! \nEl arte y las artes —en el amplio espectro de sus consideraciones—  son objeto y sujeto no ya del propio mundo académico o de las mediaciones de la llamada Institución Arte\, sino de la industria del ocio\, del turismo\, de la industria de los medios de comunicación\, del mercado de objetos de estatuto especial\, de la inversión en valores de rentabilidad económica\, de formas especiales de tratamiento terapéutico médico o psicológico\, de la expresión de valores simbólicos identitarios o religiosos\, etc.
URL:https://www.link.uma.es/event/3-01-cultura-asiatica-y-sociedad-digital/
LOCATION:Sala 3.01\, Tercera Planta\, Avenida Louis Pasteur\, 47\, Málaga\, Málaga\, 29010\, España
ORGANIZER;CN="Nuria Rodr%C3%ADguez Ortega.  Professor and Chair%2C Art History Department University of M%C3%A1laga":MAILTO:nro@uma.es
END:VEVENT
BEGIN:VEVENT
DTSTART;TZID=UTC:20241030T170000
DTEND;TZID=UTC:20241030T203000
DTSTAMP:20260424T164502
CREATED:20241014T113839Z
LAST-MODIFIED:20241014T113839Z
UID:59413-1730307600-1730320200@www.link.uma.es
SUMMARY:2.01. Acelera Startups con Darío Benítez Casado
DESCRIPTION:Sala 2.01\, 2ª planta de Link by UMA\, de 17 a 20.30h \n6ª edición de Acelera Startups \nLiderazgo y gestión de equipos de trabajo\nFecha: 30/10/2024\nHora: 17h a 20:30h\nFormador: Darío Benítez Casado \nEl programa Acelera Startups proporciona a todo emprendedor la posibilidad de acceder a expertos de distintos ámbitos a través de talleres y mentorías personalizadas.
URL:https://www.link.uma.es/event/2-01-acelera-startups-con-dario-benitez-casado-3/
LOCATION:Sala 2.01\, Segunda Planta\, Avenida Louis Pasteur\, 47\, Málaga\, Málaga\, 29010\, España
ATTACH;FMTTYPE=image/jpeg:https://www.link.uma.es/wp-content/uploads/2024/02/logo-acelera-startups.jpg
ORGANIZER;CN="Nacho Mart%C3%ADn. Impact Hub M%C3%A1laga.":MAILTO:nacho.martin@impacthub.net
END:VEVENT
BEGIN:VEVENT
DTSTART;TZID=UTC:20241031T093000
DTEND;TZID=UTC:20241031T103000
DTSTAMP:20260424T164502
CREATED:20241023T122609Z
LAST-MODIFIED:20241023T122609Z
UID:59501-1730367000-1730370600@www.link.uma.es
SUMMARY:3.01. Visita Green Globe y delegación Saudí
DESCRIPTION:Sala 3.01\, de 9.30 a 10.30 h \nVisita de la empresa Green Globe con una delegación del Ministerio de Medio Ambiente Saudí. \nBienvenidos a Link by UMA!
URL:https://www.link.uma.es/event/3-01-visita-green-globe-y-delegacion-saudi/
LOCATION:Sala 3.01\, Tercera Planta\, Avenida Louis Pasteur\, 47\, Málaga\, Málaga\, 29010\, España
ATTACH;FMTTYPE=image/jpeg:https://www.link.uma.es/wp-content/uploads/2024/10/Green-Globe.jpg
ORGANIZER;CN="Javier Pedraza. Green Globe":MAILTO:javierpedraza@greenglobe.es
END:VEVENT
BEGIN:VEVENT
DTSTART;TZID=UTC:20241031T093000
DTEND;TZID=UTC:20241031T110000
DTSTAMP:20260424T164502
CREATED:20241024T122806Z
LAST-MODIFIED:20241024T122806Z
UID:59523-1730367000-1730372400@www.link.uma.es
SUMMARY:CW. Presentación Estrategia Empleabilidad y Emprendimiento a Empresas
DESCRIPTION:Coworking\, 4ª planta de Link by UMA\, de 9.30 a 11h. \nPresentación Estrategia Empleabilidad y Emprendimiento a Empresas
URL:https://www.link.uma.es/event/cw-presentacion-estrategia-empleabilidad-y-emprendimiento-a-empresas/
LOCATION:Coworking\, 4ª planta de Link by UMA
ATTACH;FMTTYPE=image/png:https://www.link.uma.es/wp-content/uploads/2022/02/UMA.png
ORGANIZER;CN="Antonio Pe%C3%B1afiel. Director Servicio Empleabilidad y Emprendimiento.":MAILTO:apenafiel@uma.es
END:VEVENT
BEGIN:VEVENT
DTSTART;TZID=UTC:20241031T113000
DTEND;TZID=UTC:20241031T133000
DTSTAMP:20260424T164502
CREATED:20241021T101255Z
LAST-MODIFIED:20241021T101255Z
UID:59463-1730374200-1730381400@www.link.uma.es
SUMMARY:3.01. Taller Hablar en público
DESCRIPTION:Sala 3.01\, 3ª planta de Link by UMA\, de 11:30 a 13:30h \nTaller de técnicas para hablar en público y autoconocimiento pare el alumnado del programa de empleo y formación de jardinería\, viveros y floristería del Jardín Botánico de la UMA.
URL:https://www.link.uma.es/event/3-01-taller-hablar-en-publico/
LOCATION:Sala 3.01\, Tercera Planta\, Avenida Louis Pasteur\, 47\, Málaga\, Málaga\, 29010\, España
ATTACH;FMTTYPE=image/png:https://www.link.uma.es/wp-content/uploads/2024/10/Logotipo-Jardi╠un-Bota╠unico.png
ORGANIZER;CN="Sarai Pozo. Programa de Empleo y Formaci%C3%B3n UMA":MAILTO:saraipozorubio@uma.es
END:VEVENT
BEGIN:VEVENT
DTSTART;TZID=UTC:20241104T143000
DTEND;TZID=UTC:20241104T160000
DTSTAMP:20260424T164502
CREATED:20241016T123156Z
LAST-MODIFIED:20241016T123156Z
UID:59434-1730730600-1730736000@www.link.uma.es
SUMMARY:3.02. Tupl: formación interna
DESCRIPTION:Sala 3.02\, 3ª planta de Link by UMA\, de 14:30 a 16h \nFormación interna de la empresa Tupl. \nTupl provides a Low-code MLOps framework to develop hyperautomation applications with a fast time to market.
URL:https://www.link.uma.es/event/3-02-tupl-formacion-interna-3/
LOCATION:Sala 3.02\, Tercera Planta\, Avenida Louis Pasteur\, 47\, Málaga\, Málaga\, 29010\, España
ATTACH;FMTTYPE=image/png:https://www.link.uma.es/wp-content/uploads/2019/07/Tupl.png
ORGANIZER;CN="Beatriz Garc%C3%ADa Terrones. Tupl":MAILTO:beatriz.garcia@tupl.com
END:VEVENT
BEGIN:VEVENT
DTSTART;TZID=UTC:20241105T090000
DTEND;TZID=UTC:20241105T180000
DTSTAMP:20260424T164502
CREATED:20241024T104343Z
LAST-MODIFIED:20241024T104359Z
UID:59511-1730797200-1730829600@www.link.uma.es
SUMMARY:2.01. Opplus: Planificación Formación 24-25
DESCRIPTION:Sala 2.01\, 2ª planta de Link by UMA\, de 9 a 18h \nReunión de planificación de formación 24-25. \nOPPLUS nació hace más de 16 años\, llegando a convertirse en la compañía líder de Málaga en el sector de la consultoría y optimización de procesos de negocio (BPO).
URL:https://www.link.uma.es/event/2-01-opplus-planificacion-formacion-24-25-2/
LOCATION:Sala 2.01\, Segunda Planta\, Avenida Louis Pasteur\, 47\, Málaga\, Málaga\, 29010\, España
ATTACH;FMTTYPE=image/png:https://www.link.uma.es/wp-content/uploads/2023/10/Logotipo_Grupo_Opplus_Descriptivo.png
ORGANIZER;CN="Nicol%C3%A1s Gelabert. Opplus":MAILTO:nicolas.gelabert@opplus.bbva.com
END:VEVENT
BEGIN:VEVENT
DTSTART;TZID=UTC:20241105T093000
DTEND;TZID=UTC:20241105T120000
DTSTAMP:20260424T164502
CREATED:20241029T114732Z
LAST-MODIFIED:20241029T114732Z
UID:59535-1730799000-1730808000@www.link.uma.es
SUMMARY:2.02 Reunión Tribunal UTG UMA
DESCRIPTION:2.02\, 2ª planta – 09.30 a 12.00 h \nTendrá lugar una reunión privada del tribunal de una plaza de UTG \n 
URL:https://www.link.uma.es/event/2-02-reunion-tribunal-utg-uma/
LOCATION:Sala 2.02\, 2ª planta
ATTACH;FMTTYPE=image/jpeg:https://www.link.uma.es/wp-content/uploads/2023/03/UMA-PALOMA-vertical.jpg
END:VEVENT
END:VCALENDAR