BEGIN:VCALENDAR
VERSION:2.0
PRODID:-//LINK by UMA-ATech - ECPv6.15.20//NONSGML v1.0//EN
CALSCALE:GREGORIAN
METHOD:PUBLISH
X-WR-CALNAME:LINK by UMA-ATech
X-ORIGINAL-URL:https://www.link.uma.es
X-WR-CALDESC:Eventos para LINK by UMA-ATech
REFRESH-INTERVAL;VALUE=DURATION:PT1H
X-Robots-Tag:noindex
X-PUBLISHED-TTL:PT1H
BEGIN:VTIMEZONE
TZID:UTC
BEGIN:STANDARD
TZOFFSETFROM:+0000
TZOFFSETTO:+0000
TZNAME:UTC
DTSTART:20230101T000000
END:STANDARD
END:VTIMEZONE
BEGIN:VEVENT
DTSTART;TZID=UTC:20240916T170000
DTEND;TZID=UTC:20240916T203000
DTSTAMP:20260424T200646
CREATED:20240913T091643Z
LAST-MODIFIED:20240913T091643Z
UID:59112-1726506000-1726518600@www.link.uma.es
SUMMARY:Impact Hub. Acelera Startups con Diego Ordoñez
DESCRIPTION:Impact Hub Málaga (Callejones del Perchel\, 8\, Distrito Centro\, 29002 Málaga)\, de 17 a 20.30h \nEntorno Digital y Estrategia II: Desarrollo de productos digitales y cambios en personas\, tecnologías y negocios\nFecha: 16/09/2024\nHora: 17h a 20:30h\nFormador: Diego Ordoñez \nEl programa Acelera Startups proporciona a todo emprendedor la posibilidad de acceder a expertos de distintos ámbitos a través de talleres y mentorías personalizadas.
URL:https://www.link.uma.es/event/impact-hub-acelera-startups-con-diego-ordonez/
LOCATION:Impact Hub Málaga\, Impact Hub Málaga (Callejones del Perchel\, 8\, Distrito Centro)\, Málaga\, Málaga\, 29002\, Spain
ATTACH;FMTTYPE=image/jpeg:https://www.link.uma.es/wp-content/uploads/2024/02/logo-acelera-startups.jpg
ORGANIZER;CN="Nacho Mart%C3%ADn. Impact Hub M%C3%A1laga.":MAILTO:nacho.martin@impacthub.net
END:VEVENT
BEGIN:VEVENT
DTSTART;TZID=UTC:20240917T090000
DTEND;TZID=UTC:20240917T100000
DTSTAMP:20260424T200646
CREATED:20240916T110613Z
LAST-MODIFIED:20240916T110613Z
UID:59164-1726563600-1726567200@www.link.uma.es
SUMMARY:2.01. Reunión equipo emprendimiento.
DESCRIPTION:Sala 2.01\, 2ª planta de Link by UMA\, de 9 a 10h \nReunión del equipo de emprendimiento del Servicio de Empleabilidad y Emprendimiento de la UMA.
URL:https://www.link.uma.es/event/2-01-reunion-equipo-emprendimiento/
LOCATION:Sala 2.01\, Segunda Planta\, Avenida Louis Pasteur\, 47\, Málaga\, Málaga\, 29010\, España
ATTACH;FMTTYPE=image/jpeg:https://www.link.uma.es/wp-content/uploads/2023/03/UMA-PALOMA-vertical.jpg
ORGANIZER;CN="Antonio Pe%C3%B1afiel. Director Servicio Empleabilidad y Emprendimiento.":MAILTO:apenafiel@uma.es
END:VEVENT
BEGIN:VEVENT
DTSTART;TZID=UTC:20240917T113000
DTEND;TZID=UTC:20240917T130000
DTSTAMP:20260424T200646
CREATED:20240916T082158Z
LAST-MODIFIED:20240916T082158Z
UID:59154-1726572600-1726578000@www.link.uma.es
SUMMARY:3.02 Reunión con Diverxia Consulting
DESCRIPTION:3.02\, 3ª planta – 11.30 a 13.00 h \nTendrá lugar una reunión privada con la empresa Diverxia Consulting
URL:https://www.link.uma.es/event/3-02-reunion-con-diverxia-consulting/
LOCATION:Sala 3.02\, Tercera Planta\, Avenida Louis Pasteur\, 47\, Málaga\, Málaga\, 29010\, España
ATTACH;FMTTYPE=image/jpeg:https://www.link.uma.es/wp-content/uploads/2023/03/UMA-PALOMA-vertical.jpg
ORGANIZER;CN="Isabel Abad. Vicerrectora Adjunta de Empleabilidad.":MAILTO:vra.empleabilidad@uma.es
END:VEVENT
BEGIN:VEVENT
DTSTART;TZID=UTC:20240917T170000
DTEND;TZID=UTC:20240917T203000
DTSTAMP:20260424T200646
CREATED:20240913T091953Z
LAST-MODIFIED:20240913T091953Z
UID:59114-1726592400-1726605000@www.link.uma.es
SUMMARY:Impact Hub. Acelera Startups con Jose Manuel Robles Hermoso
DESCRIPTION:Impact Hub Málaga (Callejones del Perchel\, 8\, Distrito Centro\, 29002 Málaga)\, de 17 a 20.30h \nTecnologías para la innovación y los negocios digitales\nFecha: 17/09/2024\nHora: 17h a 20:30h\nFormador: Jose Manuel Robles Hermoso \nEl programa Acelera Startups proporciona a todo emprendedor la posibilidad de acceder a expertos de distintos ámbitos a través de talleres y mentorías personalizadas.
URL:https://www.link.uma.es/event/impact-hub-acelera-startups-con-jose-manuel-robles-hermoso/
LOCATION:Impact Hub Málaga\, Impact Hub Málaga (Callejones del Perchel\, 8\, Distrito Centro)\, Málaga\, Málaga\, 29002\, Spain
ATTACH;FMTTYPE=image/jpeg:https://www.link.uma.es/wp-content/uploads/2024/02/logo-acelera-startups.jpg
ORGANIZER;CN="Nacho Mart%C3%ADn. Impact Hub M%C3%A1laga.":MAILTO:nacho.martin@impacthub.net
END:VEVENT
BEGIN:VEVENT
DTSTART;TZID=UTC:20240917T183000
DTEND;TZID=UTC:20240917T203000
DTSTAMP:20260424T200646
CREATED:20240910T113312Z
LAST-MODIFIED:20240910T113312Z
UID:59081-1726597800-1726605000@www.link.uma.es
SUMMARY:CW. Angular Málaga
DESCRIPTION:Coworking\, 4ª planta de Link by UMA\, de 18.30h a 20.30h \nLos mundos de Angular y Django pueden parecer muy dispares\, pero ambos comparten lo que les define: su filosofía. Tanto Angular como Django son frameworks todo en uno\, incluyendo todo lo necesario para el desarrollo. Veremos cómo estrechar ambos mundos a través de Django Rest Framework\, y todo lo bueno que puede traer Django al desarrollador de Angular. \nÚnete a la comunidad de Angular Málaga para seguir aprendiendo sobre tecnología. \nEl evento estará disponible desde meetup: https://www.meetup.com/es-ES/angular-malaga/ \n  \n 
URL:https://www.link.uma.es/event/cw-angular-malaga-2/
LOCATION:Coworking\, 4ª planta de Link by UMA
ATTACH;FMTTYPE=image/png:https://www.link.uma.es/wp-content/uploads/2020/01/Angular-Malaga.png
ORGANIZER;CN="Elena Guzm%C3%A1n. Angular M%C3%A1laga":MAILTO:elena.guzbla@gmail.com
END:VEVENT
BEGIN:VEVENT
DTSTART;TZID=UTC:20240918T170000
DTEND;TZID=UTC:20240918T203000
DTSTAMP:20260424T200646
CREATED:20240913T092248Z
LAST-MODIFIED:20240913T094556Z
UID:59116-1726678800-1726691400@www.link.uma.es
SUMMARY:Impact Hub. Acelera Startups con León Lassovsky
DESCRIPTION:Impact Hub Málaga (Callejones del Perchel\, 8\, Distrito Centro\, 29002 Málaga)\, de 17 a 20.30h \nDesarrollo comercial I: Estrategia de marketing y gestión comercial\nFecha: 18/09/2024\nHora: 17h a 20:30h\nFormador: León Lassovsky \nEl programa Acelera Startups proporciona a todo emprendedor la posibilidad de acceder a expertos de distintos ámbitos a través de talleres y mentorías personalizadas.
URL:https://www.link.uma.es/event/impact-hub-acelera-startups-con-leon-lassovsky/
LOCATION:Impact Hub Málaga\, Impact Hub Málaga (Callejones del Perchel\, 8\, Distrito Centro)\, Málaga\, Málaga\, 29002\, Spain
ATTACH;FMTTYPE=image/jpeg:https://www.link.uma.es/wp-content/uploads/2024/02/logo-acelera-startups.jpg
END:VEVENT
BEGIN:VEVENT
DTSTART;TZID=UTC:20240919T120000
DTEND;TZID=UTC:20240919T140000
DTSTAMP:20260424T200646
CREATED:20240916T082358Z
LAST-MODIFIED:20240916T082358Z
UID:59152-1726747200-1726754400@www.link.uma.es
SUMMARY:CW. Reunión de Bienvenida a proyectos Spin-Off
DESCRIPTION:Coworking\, 4ª planta de Link by UMA\, de 12h a 14h \nReunión de Bienvenida a los nuevos proyectos Spin-Off de la UMA. \nhttps://www.link.uma.es/spin-off-ganadores2024/
URL:https://www.link.uma.es/event/cw-reunion-de-bienvenida-a-proyectos-spin-off/
LOCATION:Coworking\, 4ª planta de Link by UMA
ATTACH;FMTTYPE=image/png:https://www.link.uma.es/wp-content/uploads/2024/05/BOTON-spin-offXXVIII-1.png
ORGANIZER;CN="Antonio Pe%C3%B1afiel. Director Servicio Empleabilidad y Emprendimiento.":MAILTO:apenafiel@uma.es
END:VEVENT
BEGIN:VEVENT
DTSTART;TZID=UTC:20240919T170000
DTEND;TZID=UTC:20240919T200000
DTSTAMP:20260424T200646
CREATED:20240918T120515Z
LAST-MODIFIED:20240919T125900Z
UID:59183-1726765200-1726776000@www.link.uma.es
SUMMARY:3.02. Reunión interna AIESEC
DESCRIPTION:3.02. Reunión interna de equipo AIESEC
URL:https://www.link.uma.es/event/reunion-interna-aiesec/
LOCATION:Sala 3.02\, Tercera Planta\, Avenida Louis Pasteur\, 47\, Málaga\, Málaga\, 29010\, España
ORGANIZER;CN="Luc%C3%ADa V%C3%A1zquez P%C3%A9rez":MAILTO:lu.vazquez.perez@gmail.com
END:VEVENT
BEGIN:VEVENT
DTSTART;TZID=UTC:20240919T170000
DTEND;TZID=UTC:20240919T203000
DTSTAMP:20260424T200646
CREATED:20240913T094756Z
LAST-MODIFIED:20240913T094756Z
UID:59118-1726765200-1726777800@www.link.uma.es
SUMMARY:Impact Hub. Acelera Startups con Jesús Pedrero
DESCRIPTION:Impact Hub Málaga (Callejones del Perchel\, 8\, Distrito Centro\, 29002 Málaga)\, de 17 a 20.30h \nDesarrollo Comercial II: Ventas\nFecha: 19/09/2024\nHora: 17h a 20:30h\nFormador: Jesús Pedrero \nEl programa Acelera Startups proporciona a todo emprendedor la posibilidad de acceder a expertos de distintos ámbitos a través de talleres y mentorías personalizadas.
URL:https://www.link.uma.es/event/impact-hub-acelera-startups-con-jesus-pedrero/
LOCATION:Impact Hub Málaga\, Impact Hub Málaga (Callejones del Perchel\, 8\, Distrito Centro)\, Málaga\, Málaga\, 29002\, Spain
ATTACH;FMTTYPE=image/jpeg:https://www.link.uma.es/wp-content/uploads/2024/02/logo-acelera-startups.jpg
ORGANIZER;CN="Nacho Mart%C3%ADn. Impact Hub M%C3%A1laga.":MAILTO:nacho.martin@impacthub.net
END:VEVENT
BEGIN:VEVENT
DTSTART;TZID=UTC:20240920T100000
DTEND;TZID=UTC:20240920T120000
DTSTAMP:20260424T200646
CREATED:20240910T113535Z
LAST-MODIFIED:20240918T120740Z
UID:59083-1726826400-1726833600@www.link.uma.es
SUMMARY:Presentación Servicio Empleabilidad y Emprendimiento Online
DESCRIPTION:Hoy daremos a conocer vía online los recursos y actividades que ofrece el Servicio de Empleabilidad y Emprendimiento de la Universidad de Málaga a las alumnas y alumnos de nuevo ingreso de la Facultad de Filosofía y Letras
URL:https://www.link.uma.es/event/presentacion-servicio-empleabilidad-y-emprendimiento-online/
LOCATION:Sala 2.01
ORGANIZER;CN="Susana Hermoso. Servicio Empleabilidad y Emprendimiento UMA.":MAILTO:susanaha@uma.es
END:VEVENT
BEGIN:VEVENT
DTSTART;TZID=UTC:20240923T170000
DTEND;TZID=UTC:20240923T203000
DTSTAMP:20260424T200646
CREATED:20240913T095316Z
LAST-MODIFIED:20240913T095316Z
UID:59120-1727110800-1727123400@www.link.uma.es
SUMMARY:CW: Acelera Startups con Laura Melgar Otero
DESCRIPTION:Coworking\, 4ª planta de Link by UMA\, de 17 a 20.30h \nProcesos digitales en los negocios\nFecha: 23/09/2024\nHora: 17h a 20:30h\nFormador: Laura Melgar Otero \nEl programa Acelera Startups proporciona a todo emprendedor la posibilidad de acceder a expertos de distintos ámbitos a través de talleres y mentorías personalizadas.
URL:https://www.link.uma.es/event/cw-acelera-startups-con-laura-melgar-otero/
LOCATION:Coworking\, Cuarta Planta\, Avenida Louis Pasteur\, 47\, Málaga\, Málaga\, 29010\, España
ATTACH;FMTTYPE=image/jpeg:https://www.link.uma.es/wp-content/uploads/2024/02/logo-acelera-startups.jpg
ORGANIZER;CN="Nacho Mart%C3%ADn. Impact Hub M%C3%A1laga.":MAILTO:nacho.martin@impacthub.net
END:VEVENT
BEGIN:VEVENT
DTSTART;TZID=UTC:20240924T170000
DTEND;TZID=UTC:20240924T203000
DTSTAMP:20260424T200646
CREATED:20240913T095529Z
LAST-MODIFIED:20240913T095529Z
UID:59122-1727197200-1727209800@www.link.uma.es
SUMMARY:CW: Acelera Startups con Rubén Vázquez Romero
DESCRIPTION:Coworking\, 4ª planta de Link by UMA\, de 17 a 20.30h \nAspectos legales y fiscales clave para empresas en crecimiento\nFecha: 24/09/2024\nHora: 17h a 20:30h\nFormador: Rubén Vázquez Romero \nEl programa Acelera Startups proporciona a todo emprendedor la posibilidad de acceder a expertos de distintos ámbitos a través de talleres y mentorías personalizadas.
URL:https://www.link.uma.es/event/cw-acelera-startups-con-ruben-vazquez-romero/
LOCATION:Coworking\, 4ª planta de Link by UMA
ATTACH;FMTTYPE=image/jpeg:https://www.link.uma.es/wp-content/uploads/2024/02/logo-acelera-startups.jpg
ORGANIZER;CN="Nacho Mart%C3%ADn. Impact Hub M%C3%A1laga.":MAILTO:nacho.martin@impacthub.net
END:VEVENT
BEGIN:VEVENT
DTSTART;TZID=UTC:20240925T080000
DTEND;TZID=UTC:20240925T140000
DTSTAMP:20260424T200646
CREATED:20240920T064706Z
LAST-MODIFIED:20240920T064714Z
UID:59200-1727251200-1727272800@www.link.uma.es
SUMMARY:2.02. OPPLUS: Reunión de equipo
DESCRIPTION:Sala 2.02\, 2ª planta de  Link by UMA\, de 8 a 14 \nReunión de equipo OPPLUS. \nOPPLUS es una empresa líder en consultoría y optimización de procesos de negocio (BPO) que ofrece soluciones innovadoras y personalizadas a sus clientes.
URL:https://www.link.uma.es/event/2-02-opplus-reunion-de-equipo/
LOCATION:Sala 2.02\, 2ª planta
ATTACH;FMTTYPE=image/png:https://www.link.uma.es/wp-content/uploads/2022/07/Opplus.png
ORGANIZER;CN="Luna D%C3%ADaz. Manager OPPLUS.":MAILTO:luna.diaz@opplus.bbva.com
END:VEVENT
BEGIN:VEVENT
DTSTART;TZID=UTC:20240925T170000
DTEND;TZID=UTC:20240925T203000
DTSTAMP:20260424T200646
CREATED:20240913T095808Z
LAST-MODIFIED:20240913T095808Z
UID:59124-1727283600-1727296200@www.link.uma.es
SUMMARY:CW: Acelera Startups con Darío Benítez Casado
DESCRIPTION:Coworking\, 4ª planta de Link by UMA\, de 17 a 20.30h \nLiderazgo y gestión de equipos de trabajo\nFecha: 25/09/2024\nHora: 17h a 20:30h\nFormador: Darío Benítez Casado \nEl programa Acelera Startups proporciona a todo emprendedor la posibilidad de acceder a expertos de distintos ámbitos a través de talleres y mentorías personalizadas.
URL:https://www.link.uma.es/event/cw-acelera-startups-con-dario-benitez-casado/
LOCATION:Coworking\, 4ª planta de Link by UMA
ATTACH;FMTTYPE=image/jpeg:https://www.link.uma.es/wp-content/uploads/2024/02/logo-acelera-startups.jpg
ORGANIZER;CN="Nacho Mart%C3%ADn. Impact Hub M%C3%A1laga.":MAILTO:nacho.martin@impacthub.net
END:VEVENT
BEGIN:VEVENT
DTSTART;TZID=UTC:20240926T090000
DTEND;TZID=UTC:20240926T150000
DTSTAMP:20260424T200646
CREATED:20240730T110623Z
LAST-MODIFIED:20240730T110623Z
UID:59032-1727341200-1727362800@www.link.uma.es
SUMMARY:3.01/3.02 Fundación Esplai: Exposición proyectos finales
DESCRIPTION:Desde Fundación Esplai se expondrán los proyectos finales del alumnado asistente al Bootcamp de programación JAVA. Para ello acudirán varias empresas y  tendrán un espacio de Networking con un aperitivo. \n 
URL:https://www.link.uma.es/event/3-01-3-02-fundacion-esplai-exposicion-proyectos-finales/
LOCATION:Sala 3.01 y 3.02\, 3ª planta de Link
ORGANIZER;CN="Esperanza Rub%C3%AD":MAILTO:esperanza.rubi@fundacionesplai.org
END:VEVENT
BEGIN:VEVENT
DTSTART;TZID=UTC:20240926T120000
DTEND;TZID=UTC:20240926T140000
DTSTAMP:20260424T200646
CREATED:20240913T102454Z
LAST-MODIFIED:20240917T062659Z
UID:59136-1727352000-1727359200@www.link.uma.es
SUMMARY:CW. Coderland Networking
DESCRIPTION:Coworking\, 4ª planta de Link by UMA\, de 12 a 14h \nEn Coderland\, queremos ofrecerte una oportunidad para conocernos\, compartir experiencias con otras empresas y explorar nuevas tendencias y oportunidades de colaboración. Como especialistas en soluciones IT\, estamos comprometidos en conectar con otros profesionales para avanzar juntos en el mundo digital. \nNos encantaría que te unas a nosotros para disfrutar de un espacio de networking enriquecedor. \nPara hacer de este encuentro una experiencia aún más agradable\, ofreceremos bebidas y algo de picar. ¡Esperamos verte allí!
URL:https://www.link.uma.es/event/cw-coderland-networking/
LOCATION:Coworking\, 4ª planta de Link by UMA
ATTACH;FMTTYPE=image/png:https://www.link.uma.es/wp-content/uploads/2024/09/logo_coderland_transparente.png
ORGANIZER;CN="Adriana Cort%C3%A9s. Coderland":MAILTO:adriana.cortes@coderland.com
END:VEVENT
BEGIN:VEVENT
DTSTART;TZID=UTC:20240926T160000
DTEND;TZID=UTC:20240926T200000
DTSTAMP:20260424T200646
CREATED:20240926T121146Z
LAST-MODIFIED:20240926T121313Z
UID:59260-1727366400-1727380800@www.link.uma.es
SUMMARY:3.02 Reunión AIESEC
DESCRIPTION:Reunión interna AIESEC
URL:https://www.link.uma.es/event/3-02-reunion-aiesec/
LOCATION:Sala 3.02\, Tercera Planta\, Avenida Louis Pasteur\, 47\, Málaga\, Málaga\, 29010\, España
END:VEVENT
BEGIN:VEVENT
DTSTART;TZID=UTC:20240926T170000
DTEND;TZID=UTC:20240926T203000
DTSTAMP:20260424T200646
CREATED:20240913T100053Z
LAST-MODIFIED:20240917T063229Z
UID:59126-1727370000-1727382600@www.link.uma.es
SUMMARY:CW: Acelera Startups con Daniela Elster
DESCRIPTION:Coworking\, 4ª planta de Link by UMA\, de 17 a 20.30h \nImpacto social y ambiental en las startups\nFecha: 26/09/2024\nHora: 17h a 20:30h\nFormador: Daniela Elster \nEl programa Acelera Startups proporciona a todo emprendedor la posibilidad de acceder a expertos de distintos ámbitos a través de talleres y mentorías personalizadas.
URL:https://www.link.uma.es/event/cw-acelera-startups-con-daniela-elster/
LOCATION:Coworking\, 4ª planta de Link by UMA
ATTACH;FMTTYPE=image/jpeg:https://www.link.uma.es/wp-content/uploads/2024/02/logo-acelera-startups.jpg
ORGANIZER;CN="Nacho Mart%C3%ADn. Impact Hub M%C3%A1laga.":MAILTO:nacho.martin@impacthub.net
END:VEVENT
BEGIN:VEVENT
DTSTART;TZID=UTC:20240930T100000
DTEND;TZID=UTC:20240930T120000
DTSTAMP:20260424T200646
CREATED:20240924T111246Z
LAST-MODIFIED:20240924T112538Z
UID:59245-1727690400-1727697600@www.link.uma.es
SUMMARY:3.01 Taller "Prácticas en Empresa: tu oportunidad"
DESCRIPTION:¿Tienes dudas sobre las prácticas extracurriculares? \nSi eres estudiante de Grado\, con más del 50% de los créditos de tu titulación\, o estás cursando un Máster o Titulación Propia de la Universidad de Málaga\, en el taller «Prácticas en Empresas: Tu Oportunidad» podemos resolver todas tus dudas sobre acceso\, manejo de la plataforma Ícaro y proceso de selección\, entre otras. \n👉 ¡Te esperamos el 30/SEP a las 10h.\, en la sala 3.01 de LINK by UMA-Atech! \nInscríbete aquí ¡plazas limitadas! \n 📝 https://empleabilidad.cv.uma.es/mod/questionnaire/view.php?id=6860 \n  \n 
URL:https://www.link.uma.es/event/3-01-taller-practicas-en-empresa-tu-oportunidad/
LOCATION:Sala 3.01\, Tercera Planta\, Avenida Louis Pasteur\, 47\, Málaga\, Málaga\, 29010\, España
ORGANIZER;CN="Susana Hermoso. Servicio Empleabilidad y Emprendimiento UMA.":MAILTO:susanaha@uma.es
END:VEVENT
BEGIN:VEVENT
DTSTART;TZID=UTC:20240930T170000
DTEND;TZID=UTC:20240930T203000
DTSTAMP:20260424T200646
CREATED:20240913T100301Z
LAST-MODIFIED:20240913T100301Z
UID:59128-1727715600-1727728200@www.link.uma.es
SUMMARY:CW: Acelera Startups con Nacho Martín 
DESCRIPTION:Coworking\, 4ª planta de Link by UMA\, de 17 a 20.30h \nPlan de negocios: discurso\, cohesión y herramientas de apoyo\nFecha: 30/09/2024\nHora: 17h a 20:30h\nFormador: Nacho Martín \nEl programa Acelera Startups proporciona a todo emprendedor la posibilidad de acceder a expertos de distintos ámbitos a través de talleres y mentorías personalizadas.
URL:https://www.link.uma.es/event/cw-acelera-startups-con-nacho-martin/
LOCATION:Coworking\, 4ª planta de Link by UMA
ATTACH;FMTTYPE=image/jpeg:https://www.link.uma.es/wp-content/uploads/2024/02/logo-acelera-startups.jpg
ORGANIZER;CN="Nacho Mart%C3%ADn. Impact Hub M%C3%A1laga.":MAILTO:nacho.martin@impacthub.net
END:VEVENT
BEGIN:VEVENT
DTSTART;TZID=UTC:20241001T170000
DTEND;TZID=UTC:20241001T203000
DTSTAMP:20260424T200646
CREATED:20240913T100758Z
LAST-MODIFIED:20240913T100758Z
UID:59132-1727802000-1727814600@www.link.uma.es
SUMMARY:CW: Acelera Startups con Raúl Ruiz Arias
DESCRIPTION:Coworking\, 4ª planta de Link by UMA\, de 17 a 20.30h \nEstrategias de financiación e inversión I: Finanza y financiación\nFecha: 01/10/2024\nHora: 17h a 20:30h\nFormador: Raúl Ruiz Arias \nEl programa Acelera Startups proporciona a todo emprendedor la posibilidad de acceder a expertos de distintos ámbitos a través de talleres y mentorías personalizadas.
URL:https://www.link.uma.es/event/cw-acelera-startups-con-raul-ruiz-arias/
LOCATION:Coworking\, 4ª planta de Link by UMA
ATTACH;FMTTYPE=image/jpeg:https://www.link.uma.es/wp-content/uploads/2024/02/logo-acelera-startups.jpg
ORGANIZER;CN="Nacho Mart%C3%ADn. Impact Hub M%C3%A1laga.":MAILTO:nacho.martin@impacthub.net
END:VEVENT
BEGIN:VEVENT
DTSTART;TZID=UTC:20241002T080000
DTEND;TZID=UTC:20241002T200000
DTSTAMP:20260424T200646
CREATED:20240722T081618Z
LAST-MODIFIED:20240724T094509Z
UID:59017-1727856000-1727899200@www.link.uma.es
SUMMARY:* Talent & Job - Hackathon
DESCRIPTION:Si quieres vivir una experiencia única que te preparará ante tu inminente inmersión en el mercado laboral\, adquiriendo y trabajando de forma simulada los conocimientos necesarios para ese futuro profesional que tanto deseas ¡este es tu hackathon! \nUn Meeting Point interactivo de empleabilidad y de orientación profesional\, con el objetivo de conectar la formación y el talento del estudiantado de la Universidad de Málaga con su futura inserción laboral y su desarrollo profesional. \nBasado en Metodologías Activas como el ABRetos\, Simulación y Gamificación\, con el objetivo de obtener lo mejor de quienes participen\, potenciando su talento y poniéndolo en común de una manera colaborativa. \nSe crearán equipos multidisciplinares cuyo fin no será otro que erradicar y buscar nuevas soluciones de cara a afrontar los retos que las empresas solicitan actualmente\, trabajando las Competencias Transversales. \nEs una apuesta por algo disruptivo y diferente en lo que a la formación\, búsqueda de empleo y orientación profesional se refiere.
URL:https://www.link.uma.es/event/talent-job-hackathon/
LOCATION:Salón de Actos + Salas 2.01\, 2.02\, 3.01 y 3.02 + Coworking\, Avenida Louis Pasteur\, 47\, Málaga\, Málaga\, 29010
ORGANIZER;CN="Isabel Abad. Vicerrectora Adjunta de Empleabilidad.":MAILTO:vra.empleabilidad@uma.es
END:VEVENT
BEGIN:VEVENT
DTSTART;TZID=UTC:20241002T170000
DTEND;TZID=UTC:20241002T203000
DTSTAMP:20260424T200646
CREATED:20240913T100607Z
LAST-MODIFIED:20240913T100607Z
UID:59130-1727888400-1727901000@www.link.uma.es
SUMMARY:2.01: Acelera Startups con Rubén Vázquez Romero
DESCRIPTION:2.01\, 2ª planta de Link by UMA\, de 17 a 20.30h \nEstrategias de financiación e inversión II: Ecosistema inversor y alternativas de financiamiento\nFecha: 02/10/2024\nHora: 17h a 20:30h\nFormador: Azahara Vera \nEl programa Acelera Startups proporciona a todo emprendedor la posibilidad de acceder a expertos de distintos ámbitos a través de talleres y mentorías personalizadas.
URL:https://www.link.uma.es/event/2-01-acelera-startups-con-ruben-vazquez-romero/
LOCATION:Sala 2.01\, Segunda Planta\, Avenida Louis Pasteur\, 47\, Málaga\, Málaga\, 29010\, España
ATTACH;FMTTYPE=image/jpeg:https://www.link.uma.es/wp-content/uploads/2024/02/logo-acelera-startups.jpg
ORGANIZER;CN="Nacho Mart%C3%ADn. Impact Hub M%C3%A1laga.":MAILTO:nacho.martin@impacthub.net
END:VEVENT
BEGIN:VEVENT
DTSTART;TZID=UTC:20241003T083000
DTEND;TZID=UTC:20241003T173000
DTSTAMP:20260424T200646
CREATED:20240912T111924Z
LAST-MODIFIED:20240912T111924Z
UID:59095-1727944200-1727976600@www.link.uma.es
SUMMARY:3.01+3.02: Masive AI for the Open Radio b5G/6G Network
DESCRIPTION:Salas 3.01 y 3.02\, 3ª planta de Link by UMA\, de 8.30 a 17.30h \nReunión cara a cara con diferentes participantes de diferentes empresas.
URL:https://www.link.uma.es/event/3-013-02-masive-ai-for-the-open-radio-b5g-6g-network/
LOCATION:Salas 3.01 y 3.02\, 3ª planta
ATTACH;FMTTYPE=image/jpeg:https://www.link.uma.es/wp-content/uploads/2024/09/Logotipo-scaled.jpg
ORGANIZER;CN="Carlos Sim%C3%B3n %C3%81lvarez. UMA":MAILTO:carlosalvarezmerino@uma.es
END:VEVENT
BEGIN:VEVENT
DTSTART;TZID=UTC:20241003T160000
DTEND;TZID=UTC:20241003T203000
DTSTAMP:20260424T200646
CREATED:20240913T101008Z
LAST-MODIFIED:20240913T101024Z
UID:59134-1727971200-1727987400@www.link.uma.es
SUMMARY:CW: Acelera Startups con Cristina Lafuente González
DESCRIPTION:Coworking\, 4ª planta de Link by UMA\, de 17 a 20.30h \nEstrategias de financiación e inversión III: Comunicación y presentación ante inversores\nFecha: 03/10/2024\nHora: 17h a 20:30h\nFormador: Cristina Lafuente González \nEl programa Acelera Startups proporciona a todo emprendedor la posibilidad de acceder a expertos de distintos ámbitos a través de talleres y mentorías personalizadas.
URL:https://www.link.uma.es/event/cw-acelera-startups-con-cristina-lafuente-gonzalez/
LOCATION:Coworking\, 4ª planta de Link by UMA
ATTACH;FMTTYPE=image/jpeg:https://www.link.uma.es/wp-content/uploads/2024/02/logo-acelera-startups.jpg
ORGANIZER;CN="Nacho Mart%C3%ADn. Impact Hub M%C3%A1laga.":MAILTO:nacho.martin@impacthub.net
END:VEVENT
BEGIN:VEVENT
DTSTART;TZID=UTC:20241004T090000
DTEND;TZID=UTC:20241004T120000
DTSTAMP:20260424T200646
CREATED:20240926T115859Z
LAST-MODIFIED:20240926T115944Z
UID:59256-1728032400-1728043200@www.link.uma.es
SUMMARY:Salón de Actos_ Seminario IHSM
DESCRIPTION:Celebración de Seminario por parte del Instituto Hortofruticultura Subtropical Mediterranea IHSM \n 
URL:https://www.link.uma.es/event/salon-de-actos_-seminario-ihsm/
LOCATION:Salón de Actos
ORGANIZER;CN="Luc%C3%ADa Cruzado. IHSM":MAILTO:lucruzado@uma.es
END:VEVENT
BEGIN:VEVENT
DTSTART;TZID=UTC:20241004T150000
DTEND;TZID=UTC:20241004T200000
DTSTAMP:20260424T200646
CREATED:20240926T121611Z
LAST-MODIFIED:20240926T121611Z
UID:59262-1728054000-1728072000@www.link.uma.es
SUMMARY:3.02 Reunión AIESEC
DESCRIPTION:Reunión interna
URL:https://www.link.uma.es/event/3-02-reunion-aiesec-2/
LOCATION:Sala 3.02\, Tercera Planta\, Avenida Louis Pasteur\, 47\, Málaga\, Málaga\, 29010\, España
END:VEVENT
BEGIN:VEVENT
DTSTART;TZID=UTC:20241007T100000
DTEND;TZID=UTC:20241007T120000
DTSTAMP:20260424T200646
CREATED:20240920T091528Z
LAST-MODIFIED:20240920T091702Z
UID:59202-1728295200-1728302400@www.link.uma.es
SUMMARY:3.01. Visita Erasmus+ "Healthy Future"
DESCRIPTION:Sala 3.01\, 3ª planta de Link by UMA\, de 10 a 12h \nVisita de los participantes de un curso de formación de Erasmus + dirigido a trabajadores/as juveniles sobre salud mental\, que se lleva a cabo en Pizarra desde el 3 al 9 de octubre. El objetivo de esta visita es conocer el área de emprendimiento de la UMA y la experiencia de quienes tienen allí su espacio; cómo se une el emprendimiento con el cuidado de nuestra propia salud mental\, cómo este tema se incluye en los proyectos de emprendimiento y cuáles son los retos aún por afrontar. Así también poder añadir la perspectiva de género en este área de trabajo.
URL:https://www.link.uma.es/event/3-01-visita-erasmus-healthy-future/
LOCATION:Sala 3.01\, Tercera Planta\, Avenida Louis Pasteur\, 47\, Málaga\, Málaga\, 29010\, España
ORGANIZER;CN="Mar%C3%ADa Salud Gonz%C3%A1lez. UMA":MAILTO:saludgg@uma.es
END:VEVENT
BEGIN:VEVENT
DTSTART;TZID=UTC:20241007T170000
DTEND;TZID=UTC:20241007T190000
DTSTAMP:20260424T200646
CREATED:20241003T110018Z
LAST-MODIFIED:20241003T110018Z
UID:59301-1728320400-1728327600@www.link.uma.es
SUMMARY:CW Programa FARO Mentorización
DESCRIPTION:CW 4ª planta Link by UMA – 17.00 a 19.00 h \nReunión de presentación del equipo de mentorización y asignación de mentores a proyectos Spin-off
URL:https://www.link.uma.es/event/cw-programa-faro-mentorizacion/
LOCATION:Coworking\, Cuarta Planta\, Avenida Louis Pasteur\, 47\, Málaga\, Málaga\, 29010\, España
ORGANIZER;CN="Antonio Pe%C3%B1afiel. Director Servicio Empleabilidad y Emprendimiento.":MAILTO:apenafiel@uma.es
END:VEVENT
BEGIN:VEVENT
DTSTART;TZID=UTC:20241008T110000
DTEND;TZID=UTC:20241008T130000
DTSTAMP:20260424T200646
CREATED:20240926T120522Z
LAST-MODIFIED:20240926T120609Z
UID:59258-1728385200-1728392400@www.link.uma.es
SUMMARY:2.02 Reunión Viewnext
DESCRIPTION:Reunión interna Viewnext
URL:https://www.link.uma.es/event/2-02-reunion-viewnext-2/
LOCATION:Sala 2.02\, 2ª planta
ATTACH;FMTTYPE=image/png:https://www.link.uma.es/wp-content/uploads/2017/01/Viewnext.png
ORGANIZER;CN="Sergio Carrillo - Viewnext":MAILTO:scarrillo@viewnext.com
END:VEVENT
END:VCALENDAR