BEGIN:VCALENDAR
VERSION:2.0
PRODID:-//LINK by UMA-ATech - ECPv6.15.20//NONSGML v1.0//EN
CALSCALE:GREGORIAN
METHOD:PUBLISH
X-WR-CALNAME:LINK by UMA-ATech
X-ORIGINAL-URL:https://www.link.uma.es
X-WR-CALDESC:Eventos para LINK by UMA-ATech
REFRESH-INTERVAL;VALUE=DURATION:PT1H
X-Robots-Tag:noindex
X-PUBLISHED-TTL:PT1H
BEGIN:VTIMEZONE
TZID:UTC
BEGIN:STANDARD
TZOFFSETFROM:+0000
TZOFFSETTO:+0000
TZNAME:UTC
DTSTART:20230101T000000
END:STANDARD
END:VTIMEZONE
BEGIN:VEVENT
DTSTART;TZID=UTC:20240118T090000
DTEND;TZID=UTC:20240118T140000
DTSTAMP:20260423T231909
CREATED:20231214T125921Z
LAST-MODIFIED:20231214T125921Z
UID:57875-1705568400-1705586400@www.link.uma.es
SUMMARY:3.01 Taller Univergem: Marketing digital y Marca Personal
DESCRIPTION:El objetivo de este taller es mostrar cómo realizar una estrategia de marca personal en las redes sociales oportunas con el fin de conseguir empleo o nuevas oportunidades profesionales.
URL:https://www.link.uma.es/event/3-01-taller-univergem-marketing-digital-y-marca-personal-2/
LOCATION:Sala 3.01\, Tercera Planta\, Avenida Louis Pasteur\, 47\, Málaga\, Málaga\, 29010\, España
ATTACH;FMTTYPE=image/jpeg:https://www.link.uma.es/wp-content/uploads/2023/09/univergem-logo.jpg
ORGANIZER;CN="Antonia J. Avil%C3%A9s Zugasti. UMA[%3Aen]Antonia Avil%C3%A9s Zugasti. UMA":MAILTO:azugasti@uma.es
END:VEVENT
BEGIN:VEVENT
DTSTART;TZID=UTC:20240118T100000
DTEND;TZID=UTC:20240118T140000
DTSTAMP:20260423T231909
CREATED:20231218T085039Z
LAST-MODIFIED:20231218T085039Z
UID:57897-1705572000-1705586400@www.link.uma.es
SUMMARY:Team building OPPLUS
DESCRIPTION:Actividad interna de Opplus centrada en el actual modelo de soporte a la red de BBVA que actualmente ofrecen desde Opplus\, analizando:\n* actual modelo\, datos de cada pieza\n* revisión KPIs y consecución de objetivos\n* establecer objetivos 2024
URL:https://www.link.uma.es/event/team-building-opplus/
LOCATION:Sala 1\, planta baja The Green Ray
ORGANIZER;CN="Natalia Pardo":MAILTO:natalia.pardo@opplus.bbva.com
END:VEVENT
BEGIN:VEVENT
DTSTART;TZID=UTC:20240118T100000
DTEND;TZID=UTC:20240118T140000
DTSTAMP:20260423T231909
CREATED:20240110T101348Z
LAST-MODIFIED:20240110T101348Z
UID:57945-1705572000-1705586400@www.link.uma.es
SUMMARY:2.01 Team building OPPLUS
DESCRIPTION:2.01 enero 18  10:00 am – 2:00 pm \nActividad interna de Opplus centrada en el actual modelo de soporte a la red de BBVA que actualmente ofrecen desde Opplus\, analizando:\n* actual modelo\, datos de cada pieza\n* revisión KPIs y consecución de objetivos\n* establecer objetivos 2024
URL:https://www.link.uma.es/event/2-01-team-building-opplus/
LOCATION:Sala 2.01
ORGANIZER;CN="Natalia Pardo":MAILTO:natalia.pardo@opplus.bbva.com
END:VEVENT
BEGIN:VEVENT
DTSTART;TZID=UTC:20240122T090000
DTEND;TZID=UTC:20240122T123000
DTSTAMP:20260423T231909
CREATED:20240118T091056Z
LAST-MODIFIED:20240118T091056Z
UID:57963-1705914000-1705926600@www.link.uma.es
SUMMARY:2.01. Reunión CMMA-Secretaría General de Empleo
DESCRIPTION:Sala 2.01\, segunda planta de Link by UMA\, de 9 a 12.30h \nReunión CMMA-Secretaría General de Empleo \nEl Clúster Marítimo-Marino de Andalucía (CMMA)\, se compone de empresas andaluzas innovadoras de distintos subsectores marítimos y con una visión común: la Economía Azul.
URL:https://www.link.uma.es/event/2-01-reunion-cmma-secretaria-general-de-empleo/
LOCATION:Sala 2.01\, Segunda Planta\, Avenida Louis Pasteur\, 47\, Málaga\, Málaga\, 29010\, España
ATTACH;FMTTYPE=image/jpeg:https://www.link.uma.es/wp-content/uploads/2023/11/cluster-maritimo-marino-andalucia-.jpg
ORGANIZER;CN="Mar Recuna - CMMA[%3Aen]Mar Recuna":MAILTO:gerencia@cmma.eu
END:VEVENT
BEGIN:VEVENT
DTSTART;TZID=UTC:20240123T093000
DTEND;TZID=UTC:20240123T143000
DTSTAMP:20260423T231909
CREATED:20240119T075224Z
LAST-MODIFIED:20240119T075224Z
UID:57974-1706002200-1706020200@www.link.uma.es
SUMMARY:2.01. Reunión AIESEC
DESCRIPTION:Sala 2.01\, 2ª planta de Link by UMA\, de 9.30 a 14.30h. \nAIESEC es la organización global liderada por jóvenes más grande del mundo que busca el desarrollo de liderazgo en los jóvenes a través de oportunidades en el entorno internacional. Conectamos jóvenes con proyectos en el extranjero\, donde pueden aprender más sobre otras culturas y trabajar en su propio crecimiento. Su objetivo es el desarrollo del liderazgo en los jóvenes a través de experiencias prácticas en ambientes retadores.
URL:https://www.link.uma.es/event/2-01-reunion-aiesec-12/
LOCATION:Sala 2.01\, Segunda Planta\, Avenida Louis Pasteur\, 47\, Málaga\, Málaga\, 29010\, España
ATTACH;FMTTYPE=image/png:https://www.link.uma.es/wp-content/uploads/2024/01/aiesec_logo.png
END:VEVENT
BEGIN:VEVENT
DTSTART;TZID=UTC:20240123T180000
DTEND;TZID=UTC:20240123T200000
DTSTAMP:20260423T231909
CREATED:20231128T090029Z
LAST-MODIFIED:20231128T090029Z
UID:57763-1706032800-1706040000@www.link.uma.es
SUMMARY:CW_ Reunión interna Rebs
DESCRIPTION:Reunión interna de trabajo de Rebs
URL:https://www.link.uma.es/event/cw_-reunion-interna-rebs/
LOCATION:Coworking\, Cuarta Planta\, Avenida Louis Pasteur\, 47\, Málaga\, Málaga\, 29010\, España
ATTACH;FMTTYPE=image/png:https://www.link.uma.es/wp-content/uploads/2023/11/Logo_Rebs_CWgBbPN.png
ORGANIZER;CN="Carmen Herrera - Talent by Rebs":MAILTO:carmenherrera@rebs-edu.com
END:VEVENT
BEGIN:VEVENT
DTSTART;TZID=UTC:20240124T090000
DTEND;TZID=UTC:20240124T140000
DTSTAMP:20260423T231909
CREATED:20231115T115537Z
LAST-MODIFIED:20231124T094733Z
UID:57690-1706086800-1706104800@www.link.uma.es
SUMMARY:3.01+3.02 CETAQUA
DESCRIPTION:Reunión del equipo CETAQUA.
URL:https://www.link.uma.es/event/3-013-02-cetaqua-proyecto-europeo-climempower/
LOCATION:Sala 3.01 y 3.02\, 3ª planta de Link
ORGANIZER;CN="Miguel %C3%81ngel D%C3%ADaz Hurtado":MAILTO:miguel-angel.diaz-hurtado@cetaqua.com
END:VEVENT
BEGIN:VEVENT
DTSTART;TZID=UTC:20240124T110000
DTEND;TZID=UTC:20240124T130000
DTSTAMP:20260423T231909
CREATED:20240122T090923Z
LAST-MODIFIED:20240122T090923Z
UID:57999-1706094000-1706101200@www.link.uma.es
SUMMARY:202. Reunión Servicio Empleabilidad y Emprendimiento
DESCRIPTION:Reunión interna del personal del Servicio de Empleabilidad y Emprendimiento de la UMA.
URL:https://www.link.uma.es/event/202-reunion-servicio-empleabilidad-y-emprendimiento/
LOCATION:Sala 2.02\, Segunda Planta\, Avenida Louis Pasteur\, 47\, Málaga\, Málaga\, 29010\, España
ATTACH;FMTTYPE=image/jpeg:https://www.link.uma.es/wp-content/uploads/2023/03/UMA-PALOMA-vertical.jpg
ORGANIZER;CN="Isabel Fern%C3%A1ndez Subires. UMA":MAILTO:isabelf@uma.es
END:VEVENT
BEGIN:VEVENT
DTSTART;TZID=UTC:20240124T130000
DTEND;TZID=UTC:20240124T143000
DTSTAMP:20260423T231909
CREATED:20240124T092437Z
LAST-MODIFIED:20240124T092437Z
UID:58003-1706101200-1706106600@www.link.uma.es
SUMMARY:CW: Taller CGI
DESCRIPTION:Coworking\, 4ª planta de Link by UMA\, de 13 a 14.30h \nTaller CGI. \nFundada en 1976\, CGI se encuentra entre las mayores firmas independientes de servicios TI y consultoría de negocio del mundo. Nos basamos en conocimientos y resultados para ayudar a acelerar el rendimiento de tus inversiones.
URL:https://www.link.uma.es/event/cw-taller-cgi/
LOCATION:Coworking\, Cuarta Planta\, Avenida Louis Pasteur\, 47\, Málaga\, Málaga\, 29010\, España
ATTACH;FMTTYPE=image/jpeg:https://www.link.uma.es/wp-content/uploads/2023/11/CGI.jpg
ORGANIZER;CN="Antonio Delgado. HR Consultant. CGI":MAILTO:antonio.delgadolauret@cgi.com
END:VEVENT
BEGIN:VEVENT
DTSTART;TZID=UTC:20240124T163000
DTEND;TZID=UTC:20240124T200000
DTSTAMP:20260423T231909
CREATED:20231215T100409Z
LAST-MODIFIED:20231215T100445Z
UID:57887-1706113800-1706126400@www.link.uma.es
SUMMARY:CW_ Máster en Desarrollos sociales de la cultura artística
DESCRIPTION:Impartición de la asignatura «Narrativas y curadurías digitales» perteneciente al Máster en Desarrollos Sociales de la Cultura Artística
URL:https://www.link.uma.es/event/cw_-master-en-desarrollos-sociales-de-la-cultura-artistica-2/
LOCATION:Coworking\, Cuarta Planta\, Avenida Louis Pasteur\, 47\, Málaga\, Málaga\, 29010\, España
ORGANIZER;CN="Nuria Rodr%C3%ADguez Ortega":MAILTO:nro@uma.es
END:VEVENT
BEGIN:VEVENT
DTSTART;TZID=UTC:20240125T093000
DTEND;TZID=UTC:20240125T143000
DTSTAMP:20260423T231909
CREATED:20240119T075759Z
LAST-MODIFIED:20240119T075759Z
UID:57978-1706175000-1706193000@www.link.uma.es
SUMMARY:2.01. Reunión AIESEC
DESCRIPTION:Sala 2.01\, 2ª planta de Link by UMA\, de 9.30 A 14.30h. \nAIESEC es la organización global liderada por jóvenes más grande del mundo que busca el desarrollo de liderazgo en los jóvenes a través de oportunidades en el entorno internacional. Conectamos jóvenes con proyectos en el extranjero\, donde pueden aprender más sobre otras culturas y trabajar en su propio crecimiento. Su objetivo es el desarrollo del liderazgo en los jóvenes a través de experiencias prácticas en ambientes retadores.
URL:https://www.link.uma.es/event/2-01-reunion-aiesec-14/
LOCATION:Sala 2.01\, Segunda Planta\, Avenida Louis Pasteur\, 47\, Málaga\, Málaga\, 29010\, España
ATTACH;FMTTYPE=image/png:https://www.link.uma.es/wp-content/uploads/2024/01/aiesec_logo.png
END:VEVENT
BEGIN:VEVENT
DTSTART;TZID=UTC:20240125T100000
DTEND;TZID=UTC:20240125T120000
DTSTAMP:20260423T231909
CREATED:20231219T105625Z
LAST-MODIFIED:20231219T105828Z
UID:57908-1706176800-1706184000@www.link.uma.es
SUMMARY:2.04. Taller UNIVERGEM: Acceso a la Docencia y la Investigación
DESCRIPTION:Sala 2.04\, 2ª planta\, de 10 a 12h. \nTaller: Acceso a la Docencia y la Investigación para las participantes del programa Univergem \nImparte la técnica de Empleabilidad y Emprendimiento de la UMA Gema López Montiel \nEl Vicerrectorado de Innovación Social y Emprendimiento de la Universidad de Málaga\, gracias a la subvención recibida por el Instituto Andaluz de la Mujer de la Junta de Andalucía\, pone en marcha el Programa UNIVERGEM: “Universidades por la empleabilidad y el emprendimiento de las mujeres universitarias desde la perspectiva de género”. \nUnivergem tiene como finalidad promover actuaciones innovadoras y contextualizadas para incentivar el empleo\, el autoempleo y el emprendimiento entre las mujeres universitarias\, favoreciendo la igualdad de oportunidades entre mujeres y hombres. \n 
URL:https://www.link.uma.es/event/57908/
LOCATION:Sala 2.04\, 2ª planta de Link\, Avenida Louis Pasteur\, 47\, Málaga\, Málaga\, 29010\, España
ATTACH;FMTTYPE=image/jpeg:https://www.link.uma.es/wp-content/uploads/2023/09/univergem-logo.jpg
ORGANIZER;CN="Antonia J. Avil%C3%A9s Zugasti. UMA[%3Aen]Antonia Avil%C3%A9s Zugasti. UMA":MAILTO:azugasti@uma.es
END:VEVENT
BEGIN:VEVENT
DTSTART;TZID=UTC:20240125T163000
DTEND;TZID=UTC:20240125T200000
DTSTAMP:20260423T231909
CREATED:20240118T092711Z
LAST-MODIFIED:20240118T092735Z
UID:57965-1706200200-1706212800@www.link.uma.es
SUMMARY:3.01. Visita alumn@s Master Consultoría Laboral y Desarrollo Profesional
DESCRIPTION:Sala 3.01\, 3ª planta de Link by UMA\, de 16.30 a 20h \nHoy nos visita el alumnado del Master de Consultoría Laboral y Desarrollo Profesional\, de la mano de su profesor Francisco Lozano. Bienvenid@s a Link by UMA!
URL:https://www.link.uma.es/event/3-01-visita-alumns-master-consultoria-laboral-y-desarrollo-profesional/
LOCATION:Sala 3.01\, Tercera Planta\, Avenida Louis Pasteur\, 47\, Málaga\, Málaga\, 29010\, España
ATTACH;FMTTYPE=image/jpeg:https://www.link.uma.es/wp-content/uploads/2024/01/FEST.jpeg
ORGANIZER;CN="Antonio Gonzalez Hernandez. Vicedecano de pr%C3%A1cticas y orientaci%C3%B3n profesional de la UMA":MAILTO:antonio.gonzalez@uma.es
END:VEVENT
BEGIN:VEVENT
DTSTART;TZID=UTC:20240126T080000
DTEND;TZID=UTC:20240126T150000
DTSTAMP:20260423T231909
CREATED:20240125T102124Z
LAST-MODIFIED:20240125T102124Z
UID:58015-1706256000-1706281200@www.link.uma.es
SUMMARY:2.04. Reunión ViewNext-BlueTab
DESCRIPTION:Sala 2.04\, 2ª planta de Link by UMA\, de 8 a 15h \nReunión de las empresas ViewNext y BlueTab.
URL:https://www.link.uma.es/event/2-04-reunion-viewnext-bluetab/
LOCATION:Sala 2.04. 2ª planta de Link
ATTACH;FMTTYPE=image/png:https://www.link.uma.es/wp-content/uploads/2017/01/Viewnext.png
END:VEVENT
BEGIN:VEVENT
DTSTART;TZID=UTC:20240126T083000
DTEND;TZID=UTC:20240126T153000
DTSTAMP:20260423T231909
CREATED:20231211T124543Z
LAST-MODIFIED:20231211T124543Z
UID:57832-1706257800-1706283000@www.link.uma.es
SUMMARY:CW: Opplus: Sesión de equipo
DESCRIPTION:Coworking\, 4ª planta de Link by UMA\, de 8:30 a 15:30h \nSesión de equipo Opplus. OPPLUS es una empresa líder en consultoría y optimización de procesos de negocio (BPO) que ofrece soluciones innovadoras y personalizadas a sus clientes.
URL:https://www.link.uma.es/event/cw-opplus-sesion-de-equipo/
LOCATION:Coworking\, 4ª planta de Link by UMA
ATTACH;FMTTYPE=image/png:https://www.link.uma.es/wp-content/uploads/2023/10/Logotipo_Grupo_Opplus_Descriptivo.png
ORGANIZER;CN="Myriam Monta%C3%B1ez N%C3%BA%C3%B1ez. Directora Finanzas y Control OPPLUS":MAILTO:miriam.montanez@bbva.com
END:VEVENT
BEGIN:VEVENT
DTSTART;TZID=UTC:20240126T093000
DTEND;TZID=UTC:20240126T183000
DTSTAMP:20260423T231909
CREATED:20240119T080028Z
LAST-MODIFIED:20240119T080028Z
UID:57980-1706261400-1706293800@www.link.uma.es
SUMMARY:2.01. Reunión AIESEC
DESCRIPTION:Sala 2.01\, 2ª planta de Link by UMA\, de 9.30 A 18.30h. \nAIESEC es la organización global liderada por jóvenes más grande del mundo que busca el desarrollo de liderazgo en los jóvenes a través de oportunidades en el entorno internacional. Conectamos jóvenes con proyectos en el extranjero\, donde pueden aprender más sobre otras culturas y trabajar en su propio crecimiento. Su objetivo es el desarrollo del liderazgo en los jóvenes a través de experiencias prácticas en ambientes retadores.
URL:https://www.link.uma.es/event/2-01-reunion-aiesec-15/
LOCATION:Sala 2.01\, Segunda Planta\, Avenida Louis Pasteur\, 47\, Málaga\, Málaga\, 29010\, España
ATTACH;FMTTYPE=image/png:https://www.link.uma.es/wp-content/uploads/2024/01/aiesec_logo.png
END:VEVENT
BEGIN:VEVENT
DTSTART;TZID=UTC:20240126T180000
DTEND;TZID=UTC:20240126T203000
DTSTAMP:20260423T231909
CREATED:20231218T090333Z
LAST-MODIFIED:20231218T090612Z
UID:57901-1706292000-1706301000@www.link.uma.es
SUMMARY:CW_Evento Meetup: Flutter Málaga
DESCRIPTION:Evento gratuito de Meetup con 1-2 charlas y networking con inclusión de sorteos en la fase final. \nEstimamos unos 30 asistentes\, y como siempre\, estamos abiertos a que vengan estudiantes \n 
URL:https://www.link.uma.es/event/cw_evento-meetup-flutter-malaga/
LOCATION:Coworking\, Cuarta Planta\, Avenida Louis Pasteur\, 47\, Málaga\, Málaga\, 29010\, España
ATTACH;FMTTYPE=image/png:https://www.link.uma.es/wp-content/uploads/2023/12/flutter_malaga.png
ORGANIZER;CN="Felix Wielander. Flutter M%C3%A1laga":MAILTO:felix.wielander@gmail.com
END:VEVENT
BEGIN:VEVENT
DTSTART;VALUE=DATE:20240129
DTEND;VALUE=DATE:20240130
DTSTAMP:20260423T231909
CREATED:20231219T113912Z
LAST-MODIFIED:20231219T113912Z
UID:57912-1706486400-1706572799@www.link.uma.es
SUMMARY:Link Cerrado: Santo Tomás de Aquino
DESCRIPTION:Las instalaciones de Link by UMA permanecen cerradas durante el día de hoy por la celebración del patrón de la Universidad de Málaga\, Santo Tomás de Aquino.
URL:https://www.link.uma.es/event/link-cerrado-santo-tomas-de-aquino/
LOCATION:Málaga
END:VEVENT
BEGIN:VEVENT
DTSTART;TZID=UTC:20240131T120000
DTEND;TZID=UTC:20240131T160000
DTSTAMP:20260423T231909
CREATED:20240123T140610Z
LAST-MODIFIED:20240124T085957Z
UID:58001-1706702400-1706716800@www.link.uma.es
SUMMARY:3.01. Softproject kick-off meeting
DESCRIPTION:Sala 3.01\, 3º planta de Link by UMA\, de 12 a 16h \nSoftproject Kik-off Meeting \nDigitaliza los procesos de negocio con éxito- Conectamos personas y sistemas. Juntos\, estamos dando forma al futuro digital para un mundo más sostenible. Juntos\, estamos dando forma al futuro digital para un mundo más sostenible.
URL:https://www.link.uma.es/event/3-01-softproject-kick-off-meeting/
LOCATION:Sala 3.01\, Tercera Planta\, Avenida Louis Pasteur\, 47\, Málaga\, Málaga\, 29010\, España
ATTACH;FMTTYPE=image/png:https://www.link.uma.es/wp-content/uploads/2021/10/SoftProject.png
ORGANIZER;CN="Jes%C3%BAs Gonz%C3%A1lez. Soft Project":MAILTO:jesus.gonzalez@softproject.es
END:VEVENT
BEGIN:VEVENT
DTSTART;TZID=UTC:20240131T163000
DTEND;TZID=UTC:20240131T200000
DTSTAMP:20260423T231909
CREATED:20231215T100728Z
LAST-MODIFIED:20231215T100728Z
UID:57890-1706718600-1706731200@www.link.uma.es
SUMMARY:CW_ Máster en Desarrollos sociales de la cultura artística
DESCRIPTION:Impartición de la asignatura «Narrativas y curadurías digitales» perteneciente al Máster en Desarrollos Sociales de la Cultura Artística
URL:https://www.link.uma.es/event/cw_-master-en-desarrollos-sociales-de-la-cultura-artistica-3/
LOCATION:Coworking\, Cuarta Planta\, Avenida Louis Pasteur\, 47\, Málaga\, Málaga\, 29010\, España
ATTACH;FMTTYPE=image/png:https://www.link.uma.es/wp-content/uploads/2023/10/MDSCA-logo-2018.png
ORGANIZER;CN="Nuria Rodr%C3%ADguez Ortega":MAILTO:nro@uma.es
END:VEVENT
BEGIN:VEVENT
DTSTART;TZID=UTC:20240202T150000
DTEND;TZID=UTC:20240202T190000
DTSTAMP:20260423T231909
CREATED:20240119T074312Z
LAST-MODIFIED:20240119T074312Z
UID:57969-1706886000-1706900400@www.link.uma.es
SUMMARY:CW. Reunión AIESEC
DESCRIPTION:Coworking\, 4ª planta de Link by UMA\, de 15 a 19h. \nAIESEC es la organización global liderada por jóvenes más grande del mundo que busca el desarrollo de liderazgo en los jóvenes a través de oportunidades en el entorno internacional. Conectamos jóvenes con proyectos en el extranjero\, donde pueden aprender más sobre otras culturas y trabajar en su propio crecimiento. Su objetivo es el desarrollo del liderazgo en los jóvenes a través de experiencias prácticas en ambientes retadores.
URL:https://www.link.uma.es/event/cw-reunion-aiesec/
LOCATION:Coworking\, Cuarta Planta\, Avenida Louis Pasteur\, 47\, Málaga\, Málaga\, 29010\, España
ATTACH;FMTTYPE=image/png:https://www.link.uma.es/wp-content/uploads/2024/01/aiesec_logo.png
END:VEVENT
BEGIN:VEVENT
DTSTART;TZID=UTC:20240205T093000
DTEND;TZID=UTC:20240205T133000
DTSTAMP:20260423T231909
CREATED:20240130T105831Z
LAST-MODIFIED:20240130T110009Z
UID:58031-1707125400-1707139800@www.link.uma.es
SUMMARY:2.02. UNIVERGEM: Emprendimiento y autoempleo
DESCRIPTION:Sala 2.02\, 2ª planta de Link by UMA\, de 9.30 a 13.30h \nUNIVERGEM: Emprendimiento y autoempleo como opción profesional. Taller impartido por Diverxia Consulting. \nUnivergem tiene como finalidad promover actuaciones innovadoras y contextualizadas para incentivar el empleo\, el autoempleo y el emprendimiento entre las mujeres universitarias\, favoreciendo la igualdad de oportunidades entre mujeres y hombres.
URL:https://www.link.uma.es/event/2-02-univergem-emprendimiento-y-autoempleo/
LOCATION:Sala 2.02\, 2ª planta
ATTACH;FMTTYPE=image/jpeg:https://www.link.uma.es/wp-content/uploads/2023/09/univergem-logo.jpg
ORGANIZER;CN="Antonia J. Avil%C3%A9s Zugasti. UMA[%3Aen]Antonia Avil%C3%A9s Zugasti. UMA":MAILTO:azugasti@uma.es
END:VEVENT
BEGIN:VEVENT
DTSTART;TZID=UTC:20240207T093000
DTEND;TZID=UTC:20240207T133000
DTSTAMP:20260423T231909
CREATED:20240130T110214Z
LAST-MODIFIED:20240130T110214Z
UID:58033-1707298200-1707312600@www.link.uma.es
SUMMARY:2.02. UNIVERGEM: Emprendimiento y autoempleo
DESCRIPTION:Sala 2.02\, 2ª planta de Link by UMA\, de 9.30 a 13.30h \nUNIVERGEM: Emprendimiento y autoempleo como opción profesional. Taller impartido por Diverxia Consulting. \nUnivergem tiene como finalidad promover actuaciones innovadoras y contextualizadas para incentivar el empleo\, el autoempleo y el emprendimiento entre las mujeres universitarias\, favoreciendo la igualdad de oportunidades entre mujeres y hombres.
URL:https://www.link.uma.es/event/2-02-univergem-emprendimiento-y-autoempleo-2/
LOCATION:Sala 2.02\, 2ª planta
ATTACH;FMTTYPE=image/jpeg:https://www.link.uma.es/wp-content/uploads/2023/09/univergem-logo.jpg
ORGANIZER;CN="Antonia J. Avil%C3%A9s Zugasti. UMA[%3Aen]Antonia Avil%C3%A9s Zugasti. UMA":MAILTO:azugasti@uma.es
END:VEVENT
BEGIN:VEVENT
DTSTART;TZID=UTC:20240207T120000
DTEND;TZID=UTC:20240207T130000
DTSTAMP:20260423T231909
CREATED:20240117T113338Z
LAST-MODIFIED:20240117T113338Z
UID:57957-1707307200-1707310800@www.link.uma.es
SUMMARY:3.01 Visita alumn@s colegio El Romeral
DESCRIPTION:Hoy nos visitan alumn@s del Colegio El Romeral para conocer de primera mano todas las actividades de empleabilidad y emprendimiento que organizamos desde nuestro Servicio. \nBienvenid@s!!!! \n  \n 
URL:https://www.link.uma.es/event/3-01-visita-alumns-colegio-el-romeral/
LOCATION:Sala 3.01\, Tercera Planta\, Avenida Louis Pasteur\, 47\, Málaga\, Málaga\, 29010\, España
ATTACH;FMTTYPE=image/jpeg:https://www.link.uma.es/wp-content/uploads/2023/10/MARCA_UNIV._POSITIVA_VERTICAL.jpg
ORGANIZER;CN="Francisco L%C3%B3pez Valverde":MAILTO:felopez@uma.es
END:VEVENT
BEGIN:VEVENT
DTSTART;TZID=UTC:20240207T163000
DTEND;TZID=UTC:20240207T200000
DTSTAMP:20260423T231909
CREATED:20231215T100949Z
LAST-MODIFIED:20231215T100949Z
UID:57893-1707323400-1707336000@www.link.uma.es
SUMMARY:CW_ Máster en Desarrollos Sociales de la Cultura Artística
DESCRIPTION:Impartición de la asignatura «Narrativas y curadurías digitales» perteneciente al Máster en Desarrollos Sociales de la Cultura Artística
URL:https://www.link.uma.es/event/cw_-master-en-desarrollos-sociales-de-la-cultura-artistica-4/
LOCATION:Coworking\, 4ª planta de Link by UMA
ATTACH;FMTTYPE=image/png:https://www.link.uma.es/wp-content/uploads/2023/10/MDSCA-logo-2018.png
ORGANIZER;CN="Nuria Rodr%C3%ADguez Ortega":MAILTO:nro@uma.es
END:VEVENT
BEGIN:VEVENT
DTSTART;TZID=UTC:20240207T170000
DTEND;TZID=UTC:20240207T190000
DTSTAMP:20260423T231909
CREATED:20240206T092555Z
LAST-MODIFIED:20240206T092555Z
UID:58112-1707325200-1707332400@www.link.uma.es
SUMMARY:CW. Presentación CGI
DESCRIPTION:Sala 3.01\, 3ª planta de Link by UMA\, de 17 a 19h \nPresentacion de la empresa CGI a IES Playamar. \nCGI acelera la transformación digital de sus clientes. Las crecientes necesidades digitales de las compañías y los ciudadanos están originando que las organizaciones tengan que adaptarse a las nuevas demandas y aceleren su transformación digital. Siendo una de las mayores firmas independientes de servicios TI y consultoría de negocio del mundo\, aunamos nuestros conocimientos y capacidades con la experiencia y activos de nuestros clientes para acelerar su viaje digital. \nEn todo lo que hacemos\, nuestro objetivo es construir relaciones de confianza a través de nuestro modelo de proximidad al cliente\, proporcionando experiencia en el sector y el conocimiento tecnológico para ayudarles a afrontar sus retos empresariales.
URL:https://www.link.uma.es/event/cw-presentacion-cgi-2/
LOCATION:Sala 3.01\, Tercera Planta\, Avenida Louis Pasteur\, 47\, Málaga\, Málaga\, 29010\, España
ATTACH;FMTTYPE=image/jpeg:https://www.link.uma.es/wp-content/uploads/2023/11/CGI.jpg
ORGANIZER;CN="Antonio Delgado. HR Consultant. CGI":MAILTO:antonio.delgadolauret@cgi.com
END:VEVENT
BEGIN:VEVENT
DTSTART;TZID=UTC:20240209T093000
DTEND;TZID=UTC:20240209T133000
DTSTAMP:20260423T231909
CREATED:20240130T110352Z
LAST-MODIFIED:20240130T110352Z
UID:58035-1707471000-1707485400@www.link.uma.es
SUMMARY:2.02. UNIVERGEM: Emprendimiento y autoempleo
DESCRIPTION:Sala 2.02\, 2ª planta de Link by UMA\, de 9.30 a 13.30h \nUNIVERGEM: Emprendimiento y autoempleo como opción profesional. Taller impartido por Diverxia Consulting. \nUnivergem tiene como finalidad promover actuaciones innovadoras y contextualizadas para incentivar el empleo\, el autoempleo y el emprendimiento entre las mujeres universitarias\, favoreciendo la igualdad de oportunidades entre mujeres y hombres.
URL:https://www.link.uma.es/event/2-02-univergem-emprendimiento-y-autoempleo-3/
LOCATION:Sala 2.02\, 2ª planta
ATTACH;FMTTYPE=image/jpeg:https://www.link.uma.es/wp-content/uploads/2023/09/univergem-logo.jpg
ORGANIZER;CN="Antonia J. Avil%C3%A9s Zugasti. UMA[%3Aen]Antonia Avil%C3%A9s Zugasti. UMA":MAILTO:azugasti@uma.es
END:VEVENT
BEGIN:VEVENT
DTSTART;TZID=UTC:20240209T150000
DTEND;TZID=UTC:20240209T190000
DTSTAMP:20260423T231909
CREATED:20240119T080617Z
LAST-MODIFIED:20240119T080617Z
UID:57982-1707490800-1707505200@www.link.uma.es
SUMMARY:2.01. Reunión AIESEC
DESCRIPTION:Sala 2.01\, 2ª planta de Link by UMA\, de 15 A 19h. \nAIESEC es la organización global liderada por jóvenes más grande del mundo que busca el desarrollo de liderazgo en los jóvenes a través de oportunidades en el entorno internacional. Conectamos jóvenes con proyectos en el extranjero\, donde pueden aprender más sobre otras culturas y trabajar en su propio crecimiento. Su objetivo es el desarrollo del liderazgo en los jóvenes a través de experiencias prácticas en ambientes retadores.
URL:https://www.link.uma.es/event/2-01-reunion-aiesec-16/
LOCATION:Sala 2.01\, Segunda Planta\, Avenida Louis Pasteur\, 47\, Málaga\, Málaga\, 29010\, España
ATTACH;FMTTYPE=image/png:https://www.link.uma.es/wp-content/uploads/2024/01/aiesec_logo.png
END:VEVENT
BEGIN:VEVENT
DTSTART;TZID=UTC:20240212T093000
DTEND;TZID=UTC:20240212T133000
DTSTAMP:20260423T231909
CREATED:20240130T110526Z
LAST-MODIFIED:20240130T110526Z
UID:58037-1707730200-1707744600@www.link.uma.es
SUMMARY:2.02. UNIVERGEM: Emprendimiento y autoempleo
DESCRIPTION:Sala 2.02\, 2ª planta de Link by UMA\, de 9.30 a 13.30h \nUNIVERGEM: Emprendimiento y autoempleo como opción profesional. Taller impartido por Diverxia Consulting. \nUnivergem tiene como finalidad promover actuaciones innovadoras y contextualizadas para incentivar el empleo\, el autoempleo y el emprendimiento entre las mujeres universitarias\, favoreciendo la igualdad de oportunidades entre mujeres y hombres.
URL:https://www.link.uma.es/event/2-02-univergem-emprendimiento-y-autoempleo-4/
LOCATION:Sala 2.02\, 2ª planta
ATTACH;FMTTYPE=image/jpeg:https://www.link.uma.es/wp-content/uploads/2023/09/univergem-logo.jpg
ORGANIZER;CN="Antonia J. Avil%C3%A9s Zugasti. UMA[%3Aen]Antonia Avil%C3%A9s Zugasti. UMA":MAILTO:azugasti@uma.es
END:VEVENT
BEGIN:VEVENT
DTSTART;TZID=UTC:20240213T093000
DTEND;TZID=UTC:20240213T180000
DTSTAMP:20260423T231909
CREATED:20231018T065955Z
LAST-MODIFIED:20231018T065955Z
UID:57433-1707816600-1707847200@www.link.uma.es
SUMMARY:2.02. International Postgraduate Workshop
DESCRIPTION:El área de Estudios de Asia Oriental organiza el Workshop Internacional de Posgrado sobre Estudios Coreanos. Este workshop contará con la participación de las universidades de Tubingen y Siena.
URL:https://www.link.uma.es/event/2-02-international-postgraduate-workshop/
LOCATION:Sala 2.02\, 2ª planta
ATTACH;FMTTYPE=image/jpeg:https://www.link.uma.es/wp-content/uploads/2023/10/MARCA_UNIV._POSITIVA_VERTICAL.jpg
ORGANIZER;CN="Mar%C3%ADa del Mar Blanco Mercado":MAILTO:asiaoriental@uma.es
END:VEVENT
END:VCALENDAR