BEGIN:VCALENDAR
VERSION:2.0
PRODID:-//LINK by UMA-ATech - ECPv6.15.20//NONSGML v1.0//EN
CALSCALE:GREGORIAN
METHOD:PUBLISH
X-WR-CALNAME:LINK by UMA-ATech
X-ORIGINAL-URL:https://www.link.uma.es
X-WR-CALDESC:Eventos para LINK by UMA-ATech
REFRESH-INTERVAL;VALUE=DURATION:PT1H
X-Robots-Tag:noindex
X-PUBLISHED-TTL:PT1H
BEGIN:VTIMEZONE
TZID:UTC
BEGIN:STANDARD
TZOFFSETFROM:+0000
TZOFFSETTO:+0000
TZNAME:UTC
DTSTART:20220101T000000
END:STANDARD
END:VTIMEZONE
BEGIN:VEVENT
DTSTART;TZID=UTC:20230331T090000
DTEND;TZID=UTC:20230331T110000
DTSTAMP:20260424T181146
CREATED:20230322T082733Z
LAST-MODIFIED:20230322T082733Z
UID:56168-1680253200-1680260400@www.link.uma.es
SUMMARY:CW. LabMeeting IHSM
DESCRIPTION:Coworking\, 4ª planta de Link\, de 9 a 11h. \nLabMeeting IHSM
URL:https://www.link.uma.es/event/cw-labmeeting-ihsm/
LOCATION:Coworking\, Cuarta Planta\, Avenida Louis Pasteur\, 47\, Málaga\, Málaga\, 29010\, España
ATTACH;FMTTYPE=image/png:https://www.link.uma.es/wp-content/uploads/2021/09/logo_IHSMpng.png
ORGANIZER;CN="Catharina Merchante. IHSM-UMA-CSIC":MAILTO:merchante@uma.es
END:VEVENT
BEGIN:VEVENT
DTSTART;TZID=UTC:20230331T090000
DTEND;TZID=UTC:20230331T200000
DTSTAMP:20260424T181146
CREATED:20230213T092254Z
LAST-MODIFIED:20230213T092254Z
UID:55789-1680253200-1680292800@www.link.uma.es
SUMMARY:3.01 K-Skills: De la idea al lab
DESCRIPTION:Sala 3.01\, 3ª planta – 9.00 a 14.00 h y de 15.00 a 20.00 h \nImpartición de sesiones 3 y 4 del K-skills «De la Idea al lab»
URL:https://www.link.uma.es/event/3-01-k-skills-de-la-idea-al-lab/
LOCATION:Sala 3.01\, Tercera Planta\, Avenida Louis Pasteur\, 47\, Málaga\, Málaga\, 29010\, España
ATTACH;FMTTYPE=image/png:https://www.link.uma.es/wp-content/uploads/2023/02/logo_iGEM_UMA-1.png
ORGANIZER;CN="Carlos Rodriguez Caso":MAILTO:carlos.rodriguez@uma.es
END:VEVENT
BEGIN:VEVENT
DTSTART;TZID=UTC:20230412T080000
DTEND;TZID=UTC:20230412T130000
DTSTAMP:20260424T181146
CREATED:20230412T115456Z
LAST-MODIFIED:20230412T115456Z
UID:56298-1681286400-1681304400@www.link.uma.es
SUMMARY:2.02. Rebs: Reunión de equipo
DESCRIPTION:Sala 2.02\, 2ª planta de Link by UMA\, de 8 a 13 h. \nReunión del equipo REBS. Escuela de negocios especializada en el sector inmobiliario.
URL:https://www.link.uma.es/event/2-02-rebs-reunion-de-equipo/
LOCATION:Sala 2.02\, Segunda Planta\, Avenida Louis Pasteur\, 47\, Málaga\, Málaga\, 29010\, España
ATTACH;FMTTYPE=image/jpeg:https://www.link.uma.es/wp-content/uploads/2022/09/Talent-by-rebs.jpg
ORGANIZER;CN="Carmen Herrera - Talent by Rebs":MAILTO:carmenherrera@rebs-edu.com
END:VEVENT
BEGIN:VEVENT
DTSTART;TZID=UTC:20230412T100000
DTEND;TZID=UTC:20230412T120000
DTSTAMP:20260424T181146
CREATED:20221013T111355Z
LAST-MODIFIED:20230207T113556Z
UID:54821-1681293600-1681300800@www.link.uma.es
SUMMARY:Taller Miércoles por la Orientación
DESCRIPTION:Sesión presencial dirigida al alumnado de los Cursos Online  de Formación en Competencias: \n 1. Enfoca tu futuro 2. Actitud Emprendedora 3. Soft&Digital Skills \nSi ya eres alumno/a es necesario inscripción previa a través de Campus Virtual https://empleabilidad.cv.uma.es/mod/scheduler/view.php?id=4285 \nPara ello\, entra en tu curso y sigue estos pasos: 1. Pincha en la pestaña Evaluación 2. Pincha Sesión presencial («Compartiendo lo aprendido») 3. Inscríbete el miércoles que más te interese \nOBJETIVO DE LA SESIÓN: \nTe rodean múltiples recursos para ayudarte a conseguir el puesto de trabajo que te interesa o para poner en marcha tu proyecto empresarial\, ¿los conoces? En este taller te mostraremos el amplio abanico que tanto tu universidad como otras entidades malagueñas y andaluzas te pueden ofrecer \nCONTENIDOS: \nRecursos formativos. \nProgramas de prácticas en empresas a nivel nacional e internacional. \nProgramas de acceso al empleo dirigido a jóvenes. \n  \nHorario: 10:00-12:00 h \n¿Dónde? Sala 2.04 (Segunda Planta) Edif. The Green Ray\, Avenida Louis Pasteur\, 4\, 29010 Málaga \n(Campus: Extensión Teatinos)
URL:https://www.link.uma.es/event/taller-miercoles-por-la-orientacion-9/
LOCATION:Sala 2.04\, 2ª planta de Link\, Avenida Louis Pasteur\, 47\, Málaga\, Málaga\, 29010\, España
ATTACH;FMTTYPE=image/jpeg:https://www.link.uma.es/wp-content/uploads/2022/10/miercoles-pro-el-empleo.jpg
ORGANIZER;CN="Laura Marcos. Orientaci%C3%B3n UMA":MAILTO:lauramarcos@uma.es
END:VEVENT
BEGIN:VEVENT
DTSTART;TZID=UTC:20230413T100000
DTEND;TZID=UTC:20230413T140000
DTSTAMP:20260424T181146
CREATED:20230411T074407Z
LAST-MODIFIED:20230411T075354Z
UID:56272-1681380000-1681394400@www.link.uma.es
SUMMARY:3.01. Aula IKEA Training UMA: Escaparatismo\, con Pablo López
DESCRIPTION:Sala 3.01\, ª planta de Link\, de 10 a 14h \nJueves 13/04. Escaparatismo\, con Pablo López de Escuela de Arte San Telmo\, en Link. \n¿Qué es el Aula IKEA Training Universidad de Málaga?\n\n\nIKEA Training es un proyecto que conecta a estudiantes\, docentes e investigadores con IKEA Málaga\, con la finalidad de desarrollar actividades formativas para la adquisición de competencias específicas y transversales en este sector. La captación de talento y su incorporación al ámbito profesional de la compañía es uno de sus objetivos principales. \nEl retail\, visual merchandiser y otras competencias relacionadas adaptadas al marco IKEA son las áreas de formación objeto de este aula por mecenazgo. \nEl aula tiene como objetivo promover actividades formativas que favorezcan la adquisición de competencias en: \n1. Comunicación y liderazgo.\n2. Creatividad\, presentación de nuevas ideas y proyectos.\n3. Confianza en la toma de decisiones.\n4. Capacidad para combinar en la práctica prioridades comerciales y estéticas.\n5. Comprensión de la marca.\n6. Análisis de negocio.\n7. Conocimiento del mercado local.\n8. Conocimiento del comportamiento de compra y hábitos de consumo.\n9. Interés por las nuevas tendencias en interiorismo.\n10. Conocimientos de omnicanalidad y merchandising online. \nContacto: IKEAtraining@uma.es / 951953125 / 637440514. \nDirección técnica: Juan Aguilar Jiménez\nPromotor: Vicerrectorado de Innovación Social y Emprendimiento\nMecenas: IKEA IBÉRICA\, S.A.
URL:https://www.link.uma.es/event/3-01-aula-ikea-training-uma-escaparatismo-con-pablo-lopez/
LOCATION:Sala 3.01\, Tercera Planta\, Avenida Louis Pasteur\, 47\, Málaga\, Málaga\, 29010\, España
ATTACH;FMTTYPE=image/png:https://www.link.uma.es/wp-content/uploads/2022/12/aula-ikea-training.png
ORGANIZER;CN="Juan Aguilar":MAILTO:juan@estaciondiseno.es
END:VEVENT
BEGIN:VEVENT
DTSTART;TZID=UTC:20230413T100000
DTEND;TZID=UTC:20230413T160000
DTSTAMP:20260424T181146
CREATED:20230412T114714Z
LAST-MODIFIED:20230412T114714Z
UID:56295-1681380000-1681401600@www.link.uma.es
SUMMARY:2.01. Onboarding Zexel
DESCRIPTION:Sala 2.01\, 2ª planta\, de 10 a 14h \nBienvenidos los nuevos integrantes del equipo Zexel!!! \nZexel es una plataforma que facilita la contratación de creadores digitales.
URL:https://www.link.uma.es/event/2-01-onboarding-zexel/
LOCATION:Sala 2.01\, Segunda Planta\, Avenida Louis Pasteur\, 47\, Málaga\, Málaga\, 29010\, España
ATTACH;FMTTYPE=image/png:https://www.link.uma.es/wp-content/uploads/2023/02/zexel-logo.png
ORGANIZER;CN="Mario Betancourt. Responable de Ventas. Zexel":MAILTO:mariob@zexel.io
END:VEVENT
BEGIN:VEVENT
DTSTART;TZID=UTC:20230413T160000
DTEND;TZID=UTC:20230413T200000
DTSTAMP:20260424T181146
CREATED:20230413T123111Z
LAST-MODIFIED:20230413T123111Z
UID:56317-1681401600-1681416000@www.link.uma.es
SUMMARY:2.02. GrowMeat: Reunión de equipo
DESCRIPTION:Sala 2.02\, 2ª planta de Link\, de 16 a 20h. \nReunión de equipo GrowMeat.
URL:https://www.link.uma.es/event/2-02-growmeat-reunion-de-equipo/
LOCATION:Sala 2.02\, 2ª planta
ORGANIZER;CN="Estefan%C3%ADa Garc%C3%ADa Luque. GrowMeat":MAILTO:fani_galu_@hotmail.es
END:VEVENT
BEGIN:VEVENT
DTSTART;TZID=UTC:20230414T090000
DTEND;TZID=UTC:20230414T200000
DTSTAMP:20260424T181146
CREATED:20230208T102254Z
LAST-MODIFIED:20230208T102254Z
UID:55752-1681462800-1681502400@www.link.uma.es
SUMMARY:3.01 II Taller de fomento de la creatividad en el ámbito del emprendimiento (PPID)
DESCRIPTION:Sala 3.01\, 3ª planta – 09.00 a 20.00 h \nII Taller de fomento de la creatividad en el ámbito del emprendimiento»\, beneficiario de una de las ayudas de la convocatoria 2023 de la Acción Sectorial 411 del II Plan Propio Integral de Docencia de la UMA.
URL:https://www.link.uma.es/event/3-01-ii-taller-de-fomento-de-la-creatividad-en-el-ambito-del-emprendimiento-ppid/
LOCATION:Sala 3.01\, Tercera Planta\, Avenida Louis Pasteur\, 47\, Málaga\, Málaga\, 29010\, España
ATTACH;FMTTYPE=image/png:https://www.link.uma.es/wp-content/uploads/2022/12/UMA_logo.png
ORGANIZER;CN="Miguel %C3%81ngel Medina - UMA":MAILTO:medina@uma.es
END:VEVENT
BEGIN:VEVENT
DTSTART;TZID=UTC:20230414T093000
DTEND;TZID=UTC:20230414T103000
DTSTAMP:20260424T181146
CREATED:20230213T094116Z
LAST-MODIFIED:20230213T094116Z
UID:55798-1681464600-1681468200@www.link.uma.es
SUMMARY:Salón Actos Seminario IHSM
DESCRIPTION:Salón de Actos\, planta baja – 09.30 a 10.30 h \nTendrá lugar un seminario del IHSM
URL:https://www.link.uma.es/event/salon-actos-seminario-ihsm-4/
LOCATION:Salón de Actos. Planta Baja
ATTACH;FMTTYPE=image/png:https://www.link.uma.es/wp-content/uploads/2021/09/logo_IHSMpng.png
ORGANIZER;CN="Eduardo Rodr%C3%ADguez Bejarano. IHSM":MAILTO:Edu_rodri@uma.es
END:VEVENT
BEGIN:VEVENT
DTSTART;TZID=UTC:20230414T100000
DTEND;TZID=UTC:20230414T140000
DTSTAMP:20260424T181146
CREATED:20230317T094928Z
LAST-MODIFIED:20230412T122211Z
UID:56131-1681466400-1681480800@www.link.uma.es
SUMMARY:2.04. Polaris Academy con Nuria Triguero y Ángel de los Ríos
DESCRIPTION:Sala 2.04\, 2ª planta\, de 10 a 14h \nSesión 16.1 – 11:00 a 12:30. Ponente: Nuria Triguero https://www.linkedin.com/in/nuria-triguero-74aa331a/ \n«Diccionario español-periodístico para startups: cómo conseguir la atención de los medios» \n-El interés público y el interés del público\n-Cómo encajar nuestro mensaje en la agenda de los medios\n-Cómo trabajan los periodistas y cómo llegar a ellos\n-Herramientas de comunicación corporativa: la nota de prensa\, el dossier de prensa\, la rueda de prensa\n-Comunicación de crisis \nSesión 16.2 – 12:30 a 14:00. Ponente: Ángel de los Ríos https://www.linkedin.com/in/angeldelosrios/ \nRedes sociales: mejor ser que estar \n\nDefinir e integrar en un plan de marketing digital una estrategia en redes sociales.\nSaber diseñar una planificación en Social Ads (publicidad) y medirla.\nCreación y distribución del contenido en los medios sociales.\nTendencias actuales en contenidos sociales.\nAnalíticas y parámetros de control de redes sociales.\n\nPolaris es un programa de acompañamiento que sirve de guía a los proyectos ganadores del concurso Spin-Off organizado por la Universidad de Málaga.
URL:https://www.link.uma.es/event/cw-polaris-academy/
LOCATION:Sala 2.04\, 2ª planta de Link\, Avenida Louis Pasteur\, 47\, Málaga\, Málaga\, 29010\, España
ATTACH;FMTTYPE=image/jpeg:https://www.link.uma.es/wp-content/uploads/2020/04/POLARIS-ACADEMY-CIRCULO.jpg
END:VEVENT
BEGIN:VEVENT
DTSTART;TZID=UTC:20230414T130000
DTEND;TZID=UTC:20230414T160000
DTSTAMP:20260424T181146
CREATED:20230308T085724Z
LAST-MODIFIED:20230308T085724Z
UID:56045-1681477200-1681488000@www.link.uma.es
SUMMARY:2.02 Staff Meeting SoftProject
DESCRIPTION:Sala 2.02\, 2ª planta – 13.00 a 16.00 h \nStaff Meeting SoftProject
URL:https://www.link.uma.es/event/2-02-staff-meeting-softproject/
LOCATION:Sala 2.02\, 2ª planta
ATTACH;FMTTYPE=image/png:https://www.link.uma.es/wp-content/uploads/2021/10/SoftProject.png
ORGANIZER;CN="Jes%C3%BAs Gonz%C3%A1lez. Soft Project":MAILTO:jesus.gonzalez@softproject.es
END:VEVENT
BEGIN:VEVENT
DTSTART;TZID=UTC:20230414T140000
DTEND;TZID=UTC:20230414T200000
DTSTAMP:20260424T181146
CREATED:20230317T102322Z
LAST-MODIFIED:20230317T102336Z
UID:56138-1681480800-1681502400@www.link.uma.es
SUMMARY:CW. Antonio Ruiz
DESCRIPTION:Coworking\, 4ª planta\, de 14 a 20h \nQué será ….será…. en breve lo sabremos!
URL:https://www.link.uma.es/event/cw-antonio-ruiz/
LOCATION:Coworking\, 4ª planta de Link by UMA
END:VEVENT
BEGIN:VEVENT
DTSTART;TZID=UTC:20230414T150000
DTEND;TZID=UTC:20230414T190000
DTSTAMP:20260424T181146
CREATED:20230322T091001Z
LAST-MODIFIED:20230322T091001Z
UID:56181-1681484400-1681498800@www.link.uma.es
SUMMARY:2.01. AIESEC. Reunión de equipo
DESCRIPTION:Sala 2.01\, 2ª planta\, de 15 a 19h. \nReunión equipo AIESEC.
URL:https://www.link.uma.es/event/2-01-aiesec-reunion-de-equipo-2/
LOCATION:Sala 2.01\, Segunda Planta\, Avenida Louis Pasteur\, 47\, Málaga\, Málaga\, 29010\, España
ATTACH;FMTTYPE=image/png:https://www.link.uma.es/wp-content/uploads/2016/10/logo-aiesec.png
END:VEVENT
BEGIN:VEVENT
DTSTART;TZID=UTC:20230417T080000
DTEND;TZID=UTC:20230417T170000
DTSTAMP:20260424T181146
CREATED:20230313T104059Z
LAST-MODIFIED:20230313T104059Z
UID:56075-1681718400-1681750800@www.link.uma.es
SUMMARY:2.01 Workshops SoftProject
DESCRIPTION:Tendrá lugar diferentes workshops de la empresa SoftProject
URL:https://www.link.uma.es/event/2-01-workshops-softproject/
LOCATION:Sala 2.01. 2ª planta
ATTACH;FMTTYPE=image/png:https://www.link.uma.es/wp-content/uploads/2021/10/SoftProject.png
ORGANIZER;CN="Iv%C3%A1n Garc%C3%ADa-Serr%C3%A1n. Softproject.":MAILTO:ivan.garcia@softproject.es
END:VEVENT
BEGIN:VEVENT
DTSTART;TZID=UTC:20230417T090000
DTEND;TZID=UTC:20230417T180000
DTSTAMP:20260424T181146
CREATED:20230411T075904Z
LAST-MODIFIED:20230411T075904Z
UID:56277-1681722000-1681754400@www.link.uma.es
SUMMARY:2.02. Viewnext Workshop
DESCRIPTION:Sala 2.02. 2ª planta de Link\, de 9 a 18h. \nWorkshop Viewnext. \nViewnext es una empresa de tecnología de la información del grupo IBM en España\, con una experiencia de más de 30 años en el sector TIC
URL:https://www.link.uma.es/event/2-02-viewnext-workshop/
LOCATION:Sala 2.02\, 2ª planta
ATTACH;FMTTYPE=image/png:https://www.link.uma.es/wp-content/uploads/2017/01/Viewnext.png
ORGANIZER;CN="Leonor Jim%C3%A9nez. ViewNext":MAILTO:mljimenez@viewnext.com
END:VEVENT
BEGIN:VEVENT
DTSTART;TZID=UTC:20230417T100000
DTEND;TZID=UTC:20230417T140000
DTSTAMP:20260424T181146
CREATED:20230331T084006Z
LAST-MODIFIED:20230331T084126Z
UID:56256-1681725600-1681740000@www.link.uma.es
SUMMARY:3.01. IKEA: Reunión Equipo
DESCRIPTION:Sala 3.01\, 3ª planta\, de 10 a 14h. \nReunión del equipo de dirección Visual Merchandising de la tienda IKEA Málaga. Bienvenidos a Link by UMA!
URL:https://www.link.uma.es/event/3-01-ikea-reunion-equipo/
LOCATION:Sala 3.01\, Tercera Planta\, Avenida Louis Pasteur\, 47\, Málaga\, Málaga\, 29010\, España
ATTACH;FMTTYPE=image/png:https://www.link.uma.es/wp-content/uploads/2023/01/Ikea_logo.svg-1.png
ORGANIZER;CN="Clara Cantarero. Visual Merchandising. Ikea M%C3%A1laga":MAILTO:clara.cantarero@ingka.ikea.com
END:VEVENT
BEGIN:VEVENT
DTSTART;TZID=UTC:20230418T080000
DTEND;TZID=UTC:20230418T170000
DTSTAMP:20260424T181146
CREATED:20230313T104232Z
LAST-MODIFIED:20230313T104232Z
UID:56077-1681804800-1681837200@www.link.uma.es
SUMMARY:2.01 Workshops SoftProject
DESCRIPTION:Tendrá lugar diferentes workshops de la empresa SoftProject
URL:https://www.link.uma.es/event/2-01-workshops-softproject-2/
LOCATION:Sala 2.01\, Segunda Planta\, Avenida Louis Pasteur\, 47\, Málaga\, Málaga\, 29010\, España
ATTACH;FMTTYPE=image/png:https://www.link.uma.es/wp-content/uploads/2021/10/SoftProject.png
ORGANIZER;CN="Iv%C3%A1n Garc%C3%ADa-Serr%C3%A1n. Softproject.":MAILTO:ivan.garcia@softproject.es
END:VEVENT
BEGIN:VEVENT
DTSTART;TZID=UTC:20230418T083000
DTEND;TZID=UTC:20230418T093000
DTSTAMP:20260424T181146
CREATED:20230417T091127Z
LAST-MODIFIED:20230417T091127Z
UID:56325-1681806600-1681810200@www.link.uma.es
SUMMARY:Reunión FGUMA
DESCRIPTION:Sala 2.04\, 2ª planta\, de 8.30 a 9.30h \nReunión del equipo de Empleabilidad y Emprendimiento de la UMA con el equipo FGUMA.
URL:https://www.link.uma.es/event/reunion-fguma-2/
LOCATION:Sala 2.04\, 2ª planta de Link\, Avenida Louis Pasteur\, 47\, Málaga\, Málaga\, 29010\, España
ATTACH;FMTTYPE=image/png:https://www.link.uma.es/wp-content/uploads/2017/02/8feria-BOTÓN-link.png
ORGANIZER;CN="Carmen Andrade. Comunicaci%C3%B3n Servicio de Empleabilidad y Emprendimiento.":MAILTO:carmenag@uma.es
END:VEVENT
BEGIN:VEVENT
DTSTART;TZID=UTC:20230418T090000
DTEND;TZID=UTC:20230418T180000
DTSTAMP:20260424T181146
CREATED:20230313T084938Z
LAST-MODIFIED:20230411T072643Z
UID:56057-1681808400-1681840800@www.link.uma.es
SUMMARY:3.02. ViewNext Workshop
DESCRIPTION:Sala 3.02. 3ª planta de Link\, de 9 a 18h. \nWorkshop Viewnext. \nViewnext es una empresa de tecnología de la información del grupo IBM en España\, con una experiencia de más de 30 años en el sector TIC
URL:https://www.link.uma.es/event/3-02-viewnext-workshop/
LOCATION:Sala 3.02\, Tercera Planta\, Avenida Louis Pasteur\, 47\, Málaga\, Málaga\, 29010\, España
ATTACH;FMTTYPE=image/png:https://www.link.uma.es/wp-content/uploads/2017/01/Viewnext.png
ORGANIZER;CN="Leonor Jim%C3%A9nez. ViewNext":MAILTO:mljimenez@viewnext.com
END:VEVENT
BEGIN:VEVENT
DTSTART;TZID=UTC:20230418T090000
DTEND;TZID=UTC:20230418T180000
DTSTAMP:20260424T181146
CREATED:20230411T082535Z
LAST-MODIFIED:20230411T082535Z
UID:56286-1681808400-1681840800@www.link.uma.es
SUMMARY:2.02 Sala adicional Viewnext
DESCRIPTION:Sala 2.02. 2ª planta de Link\, de 9 a 18h. \nSala adicional Workshop Viewnext. \nViewnext es una empresa de tecnología de la información del grupo IBM en España\, con una experiencia de más de 30 años en el sector TIC
URL:https://www.link.uma.es/event/2-02-sala-adicional-viewnext/
LOCATION:Sala 2.02\, 2ª planta
ATTACH;FMTTYPE=image/png:https://www.link.uma.es/wp-content/uploads/2017/01/Viewnext.png
ORGANIZER;CN="Leonor Jim%C3%A9nez. ViewNext":MAILTO:mljimenez@viewnext.com
END:VEVENT
BEGIN:VEVENT
DTSTART;TZID=UTC:20230418T100000
DTEND;TZID=UTC:20230418T160000
DTSTAMP:20260424T181146
CREATED:20230123T112857Z
LAST-MODIFIED:20230411T075323Z
UID:55497-1681812000-1681833600@www.link.uma.es
SUMMARY:3.01. Aula IKEA Training UMA: Hábitos y comportamientos de compra
DESCRIPTION:Sala 3.01\, ª planta de Link\, de 10 a 14h \nMartes 18/04. Hábitos de consumo y comportamientos de compra\, con M. Ángeles R. en Link. \n¿Qué es el Aula IKEA Training Universidad de Málaga?\n\n\nIKEA Training es un proyecto que conecta a estudiantes\, docentes e investigadores con IKEA Málaga\, con la finalidad de desarrollar actividades formativas para la adquisición de competencias específicas y transversales en este sector. La captación de talento y su incorporación al ámbito profesional de la compañía es uno de sus objetivos principales. \nEl retail\, visual merchandiser y otras competencias relacionadas adaptadas al marco IKEA son las áreas de formación objeto de este aula por mecenazgo. \nEl aula tiene como objetivo promover actividades formativas que favorezcan la adquisición de competencias en: \n1. Comunicación y liderazgo.\n2. Creatividad\, presentación de nuevas ideas y proyectos.\n3. Confianza en la toma de decisiones.\n4. Capacidad para combinar en la práctica prioridades comerciales y estéticas.\n5. Comprensión de la marca.\n6. Análisis de negocio.\n7. Conocimiento del mercado local.\n8. Conocimiento del comportamiento de compra y hábitos de consumo.\n9. Interés por las nuevas tendencias en interiorismo.\n10. Conocimientos de omnicanalidad y merchandising online. \nContacto: IKEAtraining@uma.es / 951953125 / 637440514. \nDirección técnica: Juan Aguilar Jiménez\nPromotor: Vicerrectorado de Innovación Social y Emprendimiento\nMecenas: IKEA IBÉRICA\, S.A.
URL:https://www.link.uma.es/event/3-01-aula-ikea-training-uma-10/
LOCATION:Sala 3.01\, Tercera Planta\, Avenida Louis Pasteur\, 47\, Málaga\, Málaga\, 29010\, España
ATTACH;FMTTYPE=image/png:https://www.link.uma.es/wp-content/uploads/2022/12/aula-ikea-training.png
ORGANIZER;CN="Juan Aguilar":MAILTO:juan@estaciondiseno.es
END:VEVENT
BEGIN:VEVENT
DTSTART;TZID=UTC:20230419T080000
DTEND;TZID=UTC:20230419T170000
DTSTAMP:20260424T181146
CREATED:20230313T104732Z
LAST-MODIFIED:20230313T104732Z
UID:56079-1681891200-1681923600@www.link.uma.es
SUMMARY:2.01 Workshops SoftProject
DESCRIPTION:Tendrá lugar diferentes workshops de la empresa SoftProject
URL:https://www.link.uma.es/event/2-01-workshops-softproject-3/
LOCATION:Sala 2.01. 2ª planta
ATTACH;FMTTYPE=image/png:https://www.link.uma.es/wp-content/uploads/2021/10/SoftProject.png
ORGANIZER;CN="Iv%C3%A1n Garc%C3%ADa-Serr%C3%A1n. Softproject.":MAILTO:ivan.garcia@softproject.es
END:VEVENT
BEGIN:VEVENT
DTSTART;TZID=UTC:20230419T090000
DTEND;TZID=UTC:20230419T180000
DTSTAMP:20260424T181146
CREATED:20230313T085156Z
LAST-MODIFIED:20230411T072718Z
UID:56061-1681894800-1681927200@www.link.uma.es
SUMMARY:3.02. ViewNext Workshop
DESCRIPTION:Sala 3.02. 3ª planta de Link\, de 9 a 18h. \nWorkshop Viewnext. \nViewnext es una empresa de tecnología de la información del grupo IBM en España\, con una experiencia de más de 30 años en el sector TIC
URL:https://www.link.uma.es/event/3-02-viewnext-workshop-2/
LOCATION:Sala 3.02\, Tercera Planta\, Avenida Louis Pasteur\, 47\, Málaga\, Málaga\, 29010\, España
ATTACH;FMTTYPE=image/png:https://www.link.uma.es/wp-content/uploads/2017/01/Viewnext.png
ORGANIZER;CN="Leonor Jim%C3%A9nez. ViewNext":MAILTO:mljimenez@viewnext.com
END:VEVENT
BEGIN:VEVENT
DTSTART;TZID=UTC:20230419T090000
DTEND;TZID=UTC:20230419T180000
DTSTAMP:20260424T181146
CREATED:20230411T082710Z
LAST-MODIFIED:20230411T082710Z
UID:56288-1681894800-1681927200@www.link.uma.es
SUMMARY:2.02 Sala adicional Viewnext
DESCRIPTION:Sala 2.02. 2ª planta de Link\, de 9 a 18h. \nSala adicional Workshop Viewnext. \nViewnext es una empresa de tecnología de la información del grupo IBM en España\, con una experiencia de más de 30 años en el sector TIC
URL:https://www.link.uma.es/event/2-02-sala-adicional-viewnext-2/
LOCATION:Sala 2.02\, 2ª planta
ATTACH;FMTTYPE=image/png:https://www.link.uma.es/wp-content/uploads/2017/01/Viewnext.png
ORGANIZER;CN="Leonor Jim%C3%A9nez. ViewNext":MAILTO:mljimenez@viewnext.com
END:VEVENT
BEGIN:VEVENT
DTSTART;TZID=UTC:20230419T180000
DTEND;TZID=UTC:20230419T200000
DTSTAMP:20260424T181146
CREATED:20230414T100925Z
LAST-MODIFIED:20230414T112221Z
UID:56320-1681927200-1681934400@www.link.uma.es
SUMMARY:2.01. Agora Speakers Málaga
DESCRIPTION:Sala 2.01\, 2ª planta de Link by UMA\, de 18 a 20.30h. \nClub «Agora Speakers Málaga» para  entrenar oratoria\, comunicación\, pensamiento crítico\, debate y liderazgo.
URL:https://www.link.uma.es/event/2-01-agora-speakers-international/
LOCATION:Sala 2.01\, Segunda Planta\, Avenida Louis Pasteur\, 47\, Málaga\, Málaga\, 29010\, España
ATTACH;FMTTYPE=image/png:https://www.link.uma.es/wp-content/uploads/2023/04/Agora-Speakers-Malaga.png
ORGANIZER;CN="Andy Garc%C3%ADa. Agora Speakers Internacional.":MAILTO:ag@andy21.com
END:VEVENT
BEGIN:VEVENT
DTSTART;TZID=UTC:20230420T080000
DTEND;TZID=UTC:20230420T170000
DTSTAMP:20260424T181146
CREATED:20230313T105420Z
LAST-MODIFIED:20230313T105420Z
UID:56081-1681977600-1682010000@www.link.uma.es
SUMMARY:2.01 Workshops SoftProject
DESCRIPTION:Tendrá lugar diferentes workshops de la empresa SoftProject
URL:https://www.link.uma.es/event/2-01-workshops-softproject-4/
LOCATION:Sala 2.01. 2ª planta
ATTACH;FMTTYPE=image/png:https://www.link.uma.es/wp-content/uploads/2021/10/SoftProject.png
ORGANIZER;CN="Iv%C3%A1n Garc%C3%ADa-Serr%C3%A1n. Softproject.":MAILTO:ivan.garcia@softproject.es
END:VEVENT
BEGIN:VEVENT
DTSTART;TZID=UTC:20230420T090000
DTEND;TZID=UTC:20230420T170000
DTSTAMP:20260424T181146
CREATED:20230313T084059Z
LAST-MODIFIED:20230313T084211Z
UID:56055-1681981200-1682010000@www.link.uma.es
SUMMARY:Cw. Opplus. Sesión planificación
DESCRIPTION:Coworking\, 4ª planta de Link\, de 9 a 17h. \nSesión de planificación Opplus. \nOPPLUS nace en 2007 con un modelo de negocio basado en la consultoría de procesos\, con el objetivo de generar valor añadido en la gestión operativa de nuestros clientes. Desde entonces\, nos hemos basado en gran medida\, en la especialización\, la calidad y el control del riesgo operacional.
URL:https://www.link.uma.es/event/cw-opplus-sesion-planificacion/
LOCATION:Coworking\, 4ª planta de Link by UMA
ATTACH;FMTTYPE=image/png:https://www.link.uma.es/wp-content/uploads/2023/01/Logotipo_Grupo_Opplus_-1.png
ORGANIZER;CN="Myriam Monta%C3%B1ez N%C3%BA%C3%B1ez. Directora Finanzas y Control OPPLUS":MAILTO:miriam.montanez@bbva.com
END:VEVENT
BEGIN:VEVENT
DTSTART;TZID=UTC:20230420T090000
DTEND;TZID=UTC:20230420T180000
DTSTAMP:20260424T181146
CREATED:20230313T085852Z
LAST-MODIFIED:20230411T072744Z
UID:56070-1681981200-1682013600@www.link.uma.es
SUMMARY:3.02. ViewNext Workshop
DESCRIPTION:Sala 3.02. 3ª planta de Link\, de 9 a 18h. \nWorkshop Viewnext. \nViewnext es una empresa de tecnología de la información del grupo IBM en España\, con una experiencia de más de 30 años en el sector TIC
URL:https://www.link.uma.es/event/3-02-viewnext-workshop-3/
LOCATION:Sala 3.02\, Tercera Planta\, Avenida Louis Pasteur\, 47\, Málaga\, Málaga\, 29010\, España
ATTACH;FMTTYPE=image/png:https://www.link.uma.es/wp-content/uploads/2017/01/Viewnext.png
ORGANIZER;CN="Leonor Jim%C3%A9nez. ViewNext":MAILTO:mljimenez@viewnext.com
END:VEVENT
BEGIN:VEVENT
DTSTART;TZID=UTC:20230420T090000
DTEND;TZID=UTC:20230420T180000
DTSTAMP:20260424T181146
CREATED:20230411T082824Z
LAST-MODIFIED:20230411T082824Z
UID:56290-1681981200-1682013600@www.link.uma.es
SUMMARY:2.02 Sala adicional Viewnext
DESCRIPTION:Sala 2.02. 2ª planta de Link\, de 9 a 18h. \nSala adicional Workshop Viewnext. \nViewnext es una empresa de tecnología de la información del grupo IBM en España\, con una experiencia de más de 30 años en el sector TIC
URL:https://www.link.uma.es/event/2-02-sala-adicional-viewnext-3/
LOCATION:Sala 2.02\, 2ª planta
ATTACH;FMTTYPE=image/png:https://www.link.uma.es/wp-content/uploads/2017/01/Viewnext.png
ORGANIZER;CN="Leonor Jim%C3%A9nez. ViewNext":MAILTO:mljimenez@viewnext.com
END:VEVENT
BEGIN:VEVENT
DTSTART;TZID=UTC:20230420T100000
DTEND;TZID=UTC:20230420T140000
DTSTAMP:20260424T181146
CREATED:20230123T113033Z
LAST-MODIFIED:20230411T075617Z
UID:55499-1681984800-1681999200@www.link.uma.es
SUMMARY:3.01. Aula IKEA Training UMA: Escaparatismo y técnicas de display
DESCRIPTION:Sala 3.01\, ª planta de Link\, de 10 a 14h \nJueves 20/04. Escaparatismo y técnicas de display\, con Pablo López de San Telmo y Montse Rosales\, en Link. \n¿Qué es el Aula IKEA Training Universidad de Málaga?\n\n\nIKEA Training es un proyecto que conecta a estudiantes\, docentes e investigadores con IKEA Málaga\, con la finalidad de desarrollar actividades formativas para la adquisición de competencias específicas y transversales en este sector. La captación de talento y su incorporación al ámbito profesional de la compañía es uno de sus objetivos principales. \nEl retail\, visual merchandiser y otras competencias relacionadas adaptadas al marco IKEA son las áreas de formación objeto de este aula por mecenazgo. \nEl aula tiene como objetivo promover actividades formativas que favorezcan la adquisición de competencias en: \n1. Comunicación y liderazgo.\n2. Creatividad\, presentación de nuevas ideas y proyectos.\n3. Confianza en la toma de decisiones.\n4. Capacidad para combinar en la práctica prioridades comerciales y estéticas.\n5. Comprensión de la marca.\n6. Análisis de negocio.\n7. Conocimiento del mercado local.\n8. Conocimiento del comportamiento de compra y hábitos de consumo.\n9. Interés por las nuevas tendencias en interiorismo.\n10. Conocimientos de omnicanalidad y merchandising online. \nContacto: IKEAtraining@uma.es / 951953125 / 637440514. \nDirección técnica: Juan Aguilar Jiménez\nPromotor: Vicerrectorado de Innovación Social y Emprendimiento\nMecenas: IKEA IBÉRICA\, S.A.
URL:https://www.link.uma.es/event/3-01-aula-ikea-training-uma-11/
LOCATION:Sala 3.01\, Tercera Planta\, Avenida Louis Pasteur\, 47\, Málaga\, Málaga\, 29010\, España
ATTACH;FMTTYPE=image/png:https://www.link.uma.es/wp-content/uploads/2022/12/aula-ikea-training.png
ORGANIZER;CN="Juan Aguilar":MAILTO:juan@estaciondiseno.es
END:VEVENT
END:VCALENDAR