BEGIN:VCALENDAR
VERSION:2.0
PRODID:-//LINK by UMA-ATech - ECPv6.15.20//NONSGML v1.0//EN
CALSCALE:GREGORIAN
METHOD:PUBLISH
X-WR-CALNAME:LINK by UMA-ATech
X-ORIGINAL-URL:https://www.link.uma.es
X-WR-CALDESC:Eventos para LINK by UMA-ATech
REFRESH-INTERVAL;VALUE=DURATION:PT1H
X-Robots-Tag:noindex
X-PUBLISHED-TTL:PT1H
BEGIN:VTIMEZONE
TZID:UTC
BEGIN:STANDARD
TZOFFSETFROM:+0000
TZOFFSETTO:+0000
TZNAME:UTC
DTSTART:20220101T000000
END:STANDARD
END:VTIMEZONE
BEGIN:VEVENT
DTSTART;TZID=UTC:20230123T090000
DTEND;TZID=UTC:20230123T140000
DTSTAMP:20260424T005843
CREATED:20230113T082625Z
LAST-MODIFIED:20230113T082625Z
UID:55391-1674464400-1674482400@www.link.uma.es
SUMMARY:Jornada equipo financiero OP Plus
DESCRIPTION:Sala 2.01\, 2ª planta Link by UMA – 9.00 a 14.00 h \nTendrán lugar unas jornadas de pensamiento crítico sobre los procedimientos internos de la empresa OP Plus.
URL:https://www.link.uma.es/event/jornada-equipo-financiero-op-plus/
LOCATION:Sala 2.01\, Segunda Planta\, Avenida Louis Pasteur\, 47\, Málaga\, Málaga\, 29010\, España
ATTACH;FMTTYPE=image/png:https://www.link.uma.es/wp-content/uploads/2022/07/Opplus.png
ORGANIZER;CN="Cristina Cerrillo - OP Plus":MAILTO:cristina.cerrillo@opplus.bbva.com
END:VEVENT
BEGIN:VEVENT
DTSTART;TZID=UTC:20230124T130000
DTEND;TZID=UTC:20230124T140000
DTSTAMP:20260424T005843
CREATED:20230117T121553Z
LAST-MODIFIED:20230124T072953Z
UID:55435-1674565200-1674568800@www.link.uma.es
SUMMARY:Coworking: Evento de Presentación CGI
DESCRIPTION:Coworking\, 4ª planta Link by UMA – 13.00 a 14.00 h \nLa empresa CGI tendrá un evento de presentación ante un IES.
URL:https://www.link.uma.es/event/evento-de-presentacion-cgi-2/
LOCATION:Coworking\, Cuarta Planta\, Avenida Louis Pasteur\, 47\, Málaga\, Málaga\, 29010\, España
ATTACH;FMTTYPE=image/png:https://www.link.uma.es/wp-content/uploads/2017/05/cgi-logo-430.png
ORGANIZER;CN="Antonio Palomo. CGI":MAILTO:antonio.palomomunoz@cgi.com
END:VEVENT
BEGIN:VEVENT
DTSTART;TZID=UTC:20230124T160000
DTEND;TZID=UTC:20230124T200000
DTSTAMP:20260424T005843
CREATED:20230110T074445Z
LAST-MODIFIED:20230110T074445Z
UID:55351-1674576000-1674590400@www.link.uma.es
SUMMARY:3.01. Máster MBA-UMA
DESCRIPTION:Sala 3.01\, 3ª planta\, de 16 a 20h \nLas crecientes exigencias de la dirección de empresas en la sociedad del conocimiento han convertido los estudios de postgrado en un complemento necesario del grado universitario\, ya que aportan el enfoque profesional y práctico que demandan las empresas. \nEstar en posesión de un título MBA – Máster en Dirección y Administración de Empresas representa una clara ventaja a la hora de acceder a puestos directivos\, tanto en el ámbito español como en el internacional. La Universidad de Málaga\, a través de la Facultad de Ciencias Económicas y Empresariales\, ofrece el presente título oficial de MBA\, que contempla los contenidos y exigencias más actuales en el ámbito de la dirección y gestión empresarial. \nEstá dirigido a quienes posean un título de grado o equivalente -licenciado/a\, ingeniero/a o arquitecto/a- de al menos 240 créditos europeos y 4 años de duración\, y puedan acreditar conocimientos en materias económico-empresariales para el adecuado seguimiento de este programa de estudios.
URL:https://www.link.uma.es/event/3-01-master-mba-uma-2/
LOCATION:Sala 3.01\, Tercera Planta\, Avenida Louis Pasteur\, 47\, Málaga\, Málaga\, 29010\, España
ORGANIZER;CN="Rafael Ventura.Vicerrector Innovaci%C3%B3n Social y Emprendimiento UMA.":MAILTO:rventura@uma.es
END:VEVENT
BEGIN:VEVENT
DTSTART;TZID=UTC:20230125T093000
DTEND;TZID=UTC:20230125T190000
DTSTAMP:20260424T005843
CREATED:20221213T094010Z
LAST-MODIFIED:20230124T073159Z
UID:55235-1674639000-1674673200@www.link.uma.es
SUMMARY:3.01. Encuentro Internacional Cine\, Memoria y Mayores
DESCRIPTION:Sala 3.01\, 3ª planta Link by UMA – 09.30 a 19.00 h \nSe celebra un «Encuentro Internacional de Cine\, Memoria y Mayores»\, en el que se van a poner en común las actividades llevadas a cabo a lo largo del periodo de ejecución del proyecto de investigación «Memoria(s)\, sociedad y cine en Andalucía: la mirada de nuestros mayores»\, desarrollado en la Facultad de Ciencias de la Comunicación de la Universidad de Málaga. \nDurante el evento\, se contará\, además\, con la intervención de expertos en la materia y de algunas personas entrevistadas durante el transcurso de la investigación. \n 
URL:https://www.link.uma.es/event/encuentro-internacional-cine-memoria-y-mayores/
LOCATION:Sala 3.01\, Tercera Planta\, Avenida Louis Pasteur\, 47\, Málaga\, Málaga\, 29010\, España
ATTACH;FMTTYPE=image/jpeg:https://www.link.uma.es/wp-content/uploads/2022/12/logo_encuentro_internacional-1.jpg
ORGANIZER;CN="Alba Navarro Herrera - UMA":MAILTO:albanavarro@uma.es
END:VEVENT
BEGIN:VEVENT
DTSTART;TZID=UTC:20230125T100000
DTEND;TZID=UTC:20230125T120000
DTSTAMP:20260424T005843
CREATED:20221013T110253Z
LAST-MODIFIED:20230124T073111Z
UID:54811-1674640800-1674648000@www.link.uma.es
SUMMARY:2.04. Taller Miércoles por la Orientación
DESCRIPTION:Sesión presencial dirigida al alumnado de los Cursos Online  de Formación en Competencias: \n 1. Enfoca tu futuro 2. Actitud Emprendedora 3. Soft&Digital Skills \nSi ya eres alumno/a es necesario inscripción previa a través de Campus Virtual https://empleabilidad.cv.uma.es/mod/scheduler/view.php?id=4285 \nPara ello\, entra en tu curso y sigue estos pasos: 1. Pincha en la pestaña Evaluación 2. Pincha Sesión presencial («Compartiendo lo aprendido») 3. Inscríbete el miércoles que más te interese \nSi no eres alumno/a de estos cursos todavía\, pero quieres conocer más sobre ellos\, infórmate en nuestra web: https://talentank.uma.es/formacion/ \nOBJETIVO DE LA SESIÓN: \nTe rodean múltiples recursos para ayudarte a conseguir el puesto de trabajo que te interesa o para poner en marcha tu proyecto empresarial\, ¿los conoces? En este taller te mostraremos el amplio abanico que tanto tu universidad como otras entidades malagueñas y andaluzas te pueden ofrecer \nCONTENIDOS: \nRecursos formativos. \nProgramas de prácticas en empresas a nivel nacional e internacional. \nProgramas de acceso al empleo dirigido a jóvenes. \n  \nHorario: 10:00-12:00 h \n¿Dónde? Sala 2.04 (Segunda Planta) Edif. The Green Ray\, Avenida Louis Pasteur\, 4\, 29010 Málaga \n(Campus: Extensión Teatinos)
URL:https://www.link.uma.es/event/taller-miercoles-por-la-orientacion-4/
LOCATION:Sala 2.04. 2ª planta de Link
ATTACH;FMTTYPE=image/jpeg:https://www.link.uma.es/wp-content/uploads/2022/10/miercoles-pro-el-empleo.jpg
ORGANIZER;CN="Laura Marcos. Orientaci%C3%B3n UMA":MAILTO:lauramarcos@uma.es
END:VEVENT
BEGIN:VEVENT
DTSTART;TZID=UTC:20230125T120000
DTEND;TZID=UTC:20230125T140000
DTSTAMP:20260424T005843
CREATED:20230123T133819Z
LAST-MODIFIED:20230123T133819Z
UID:55545-1674648000-1674655200@www.link.uma.es
SUMMARY:2.01 Reunión Interna Talent by REBS
DESCRIPTION:Sala 2.01\, 2ª planta – 12.00 a 14.00 h \nTendrá lugar una reunión interna de la empresa Talent by REBS
URL:https://www.link.uma.es/event/2-01-reunion-interna-talent-by-rebs/
LOCATION:Sala 2.01\, Segunda Planta\, Avenida Louis Pasteur\, 47\, Málaga\, Málaga\, 29010\, España
ATTACH;FMTTYPE=image/jpeg:https://www.link.uma.es/wp-content/uploads/2022/09/Talent-by-rebs.jpg
ORGANIZER;CN="Carmen Herrera - Talent by Rebs":MAILTO:carmenherrera@rebs-edu.com
END:VEVENT
BEGIN:VEVENT
DTSTART;TZID=UTC:20230126T090000
DTEND;TZID=UTC:20230126T190000
DTSTAMP:20260424T005843
CREATED:20230119T114157Z
LAST-MODIFIED:20230126T072404Z
UID:55456-1674723600-1674759600@www.link.uma.es
SUMMARY:C W. Programa formativo Leroy Merlin
DESCRIPTION:Coworking\, 4ª planta – 09.00 a 19.00 h \nSe impartirá una formación a nivel regional para todos los Managers de Relación al Cliente de la Región de Andalucía.
URL:https://www.link.uma.es/event/programa-formativo-leroy-merlin/
LOCATION:Coworking\, Cuarta Planta\, Avenida Louis Pasteur\, 47\, Málaga\, Málaga\, 29010\, España
ATTACH;FMTTYPE=image/png:https://www.link.uma.es/wp-content/uploads/2017/01/Leroy-Merlin.png
ORGANIZER;CN="M%C2%AA Dolores Moreno - Leroy Merlin":MAILTO:maria-dolores.moreno@leroymerlin.es
END:VEVENT
BEGIN:VEVENT
DTSTART;TZID=UTC:20230126T100000
DTEND;TZID=UTC:20230126T203000
DTSTAMP:20260424T005843
CREATED:20221223T093737Z
LAST-MODIFIED:20230124T073256Z
UID:55318-1674727200-1674765000@www.link.uma.es
SUMMARY:3.01. Seminario Internacional Investigación-Acción Cooperativa Formativa
DESCRIPTION:Sala 3.01\, 3ª planta – 10.00 a 14.00 h y 16.30 a 20.30 horas \nLa actividad programada dentro del Seminario Internacional Investigación-Acción Cooperativa Formativa está organizada por el grupo de investigación HUM 246 Cultura de la Diversidad y Escuela con motivo de la visita de un grupo de profesorado de la Universidad La Serena de Chile.
URL:https://www.link.uma.es/event/seminario-internacional-investigacion-accion-cooperativa-formativa/
LOCATION:Sala 3.01 y 3.02\, 3ª planta de Link
ATTACH;FMTTYPE=application/pdf:https://www.link.uma.es/wp-content/uploads/2022/12/Poster_Seminario_Internacional-1.pdf
ORGANIZER;CN="Eugenio Rivas. Bellas Artes. UMA":MAILTO:eugeniorivas@uma.es
END:VEVENT
BEGIN:VEVENT
DTSTART;VALUE=DATE:20230127
DTEND;VALUE=DATE:20230128
DTSTAMP:20260424T005843
CREATED:20220912T103106Z
LAST-MODIFIED:20230109T091040Z
UID:54449-1674777600-1674863999@www.link.uma.es
SUMMARY:Santo Tomás de Aquino
DESCRIPTION:Hoy las instalaciones de Link by UMA estarán cerradas por la celebración de nuestro patrón\, Santo Tomás de Aquino. \nSentimos las molestias.
URL:https://www.link.uma.es/event/reunion-investigadores-ihsm-11/
LOCATION:Málaga
END:VEVENT
BEGIN:VEVENT
DTSTART;TZID=UTC:20230130T100000
DTEND;TZID=UTC:20230130T190000
DTSTAMP:20260424T005843
CREATED:20230113T083721Z
LAST-MODIFIED:20230124T073400Z
UID:55394-1675072800-1675105200@www.link.uma.es
SUMMARY:2.01. Reunión AIESEC
DESCRIPTION:Sala 2.01\, 2ª planta Link by UMA – 10.00 a 19.00 h \nReunión de miembros de AIESEC. Evento cerrado al público\, destinado solo a miembros de la asociación.
URL:https://www.link.uma.es/event/reunion-aiesec-20/
LOCATION:Sala 2.01\, Segunda Planta\, Avenida Louis Pasteur\, 47\, Málaga\, Málaga\, 29010\, España
ATTACH;FMTTYPE=image/png:https://www.link.uma.es/wp-content/uploads/2017/01/aiesec.png
END:VEVENT
BEGIN:VEVENT
DTSTART;TZID=UTC:20230131T090000
DTEND;TZID=UTC:20230131T150000
DTSTAMP:20260424T005843
CREATED:20230109T134800Z
LAST-MODIFIED:20230124T073500Z
UID:55336-1675155600-1675177200@www.link.uma.es
SUMMARY:3.01. Formación IKEA
DESCRIPTION:Sala 3.01\, 3ª planta Link by UMA \nTendrá lugar un curso de formación interna para IKEA Málaga. \n 
URL:https://www.link.uma.es/event/formacion-ikea-3/
LOCATION:Sala 3.01\, Tercera Planta\, Avenida Louis Pasteur\, 47\, Málaga\, Málaga\, 29010\, España
ATTACH;FMTTYPE=image/png:https://www.link.uma.es/wp-content/uploads/2023/01/Ikea_logo.svg-1.png
ORGANIZER;CN="Roc%C3%ADo P%C3%A9rez - IKEA M%C3%A1laga":MAILTO:rocio.perez@ingka.ikea.com
END:VEVENT
BEGIN:VEVENT
DTSTART;TZID=UTC:20230131T100000
DTEND;TZID=UTC:20230131T190000
DTSTAMP:20260424T005843
CREATED:20230113T083844Z
LAST-MODIFIED:20230124T073436Z
UID:55396-1675159200-1675191600@www.link.uma.es
SUMMARY:2.01. Reunión AIESEC
DESCRIPTION:Sala 2.01\, 2ª planta Link by UMA – 10.00 a 19.00 h \nReunión de miembros de AIESEC. Evento cerrado al público\, destinado solo a miembros de la asociación.
URL:https://www.link.uma.es/event/reunion-aiesec-21/
LOCATION:Sala 2.01\, Segunda Planta\, Avenida Louis Pasteur\, 47\, Málaga\, Málaga\, 29010\, España
ATTACH;FMTTYPE=image/png:https://www.link.uma.es/wp-content/uploads/2017/01/aiesec.png
END:VEVENT
BEGIN:VEVENT
DTSTART;TZID=UTC:20230131T160000
DTEND;TZID=UTC:20230131T200000
DTSTAMP:20260424T005843
CREATED:20230110T074729Z
LAST-MODIFIED:20230110T074729Z
UID:55353-1675180800-1675195200@www.link.uma.es
SUMMARY:3.01. Máster MBA-UMA
DESCRIPTION:Sala 3.01\, 3ª planta\, de 16 a 20h \nLas crecientes exigencias de la dirección de empresas en la sociedad del conocimiento han convertido los estudios de postgrado en un complemento necesario del grado universitario\, ya que aportan el enfoque profesional y práctico que demandan las empresas. \nEstar en posesión de un título MBA – Máster en Dirección y Administración de Empresas representa una clara ventaja a la hora de acceder a puestos directivos\, tanto en el ámbito español como en el internacional. La Universidad de Málaga\, a través de la Facultad de Ciencias Económicas y Empresariales\, ofrece el presente título oficial de MBA\, que contempla los contenidos y exigencias más actuales en el ámbito de la dirección y gestión empresarial. \nEstá dirigido a quienes posean un título de grado o equivalente -licenciado/a\, ingeniero/a o arquitecto/a- de al menos 240 créditos europeos y 4 años de duración\, y puedan acreditar conocimientos en materias económico-empresariales para el adecuado seguimiento de este programa de estudios.
URL:https://www.link.uma.es/event/3-01-master-mba-uma-3/
LOCATION:Sala 3.01\, Tercera Planta\, Avenida Louis Pasteur\, 47\, Málaga\, Málaga\, 29010\, España
ORGANIZER;CN="Rafael Ventura.Vicerrector Innovaci%C3%B3n Social y Emprendimiento UMA.":MAILTO:rventura@uma.es
END:VEVENT
BEGIN:VEVENT
DTSTART;TZID=UTC:20230201T090000
DTEND;TZID=UTC:20230201T180000
DTSTAMP:20260424T005843
CREATED:20230130T105116Z
LAST-MODIFIED:20230130T105116Z
UID:55633-1675242000-1675274400@www.link.uma.es
SUMMARY:2.02 Formación en Liderazgo - Leroy Merlin
DESCRIPTION:Sala 2.02\, 2ª planta – 9.00 a 18.00 h \nCurso de formación en liderazgo para managers de Leroy Merlin. \n 
URL:https://www.link.uma.es/event/2-02-formacion-en-liderazgo-leroy-merlin/
LOCATION:Sala 2.02\, 2ª planta
ATTACH;FMTTYPE=image/png:https://www.link.uma.es/wp-content/uploads/2017/01/Leroy-Merlin.png
ORGANIZER;CN="Enrique L%C3%B3pez - Leroy Merlin":MAILTO:enrique.lopez@leroymerlin.es
END:VEVENT
BEGIN:VEVENT
DTSTART;TZID=UTC:20230201T100000
DTEND;TZID=UTC:20230201T120000
DTSTAMP:20260424T005843
CREATED:20221019T083003Z
LAST-MODIFIED:20230124T073911Z
UID:54882-1675245600-1675252800@www.link.uma.es
SUMMARY:2.04. Miércoles por la Orientación - Acceso a la carrera docente e investigadora
DESCRIPTION:Sala 2.04\, 2ª planta Link by UMA \nTaller Miércoles por la Orientación – Acceso a la carrera docente e investigadora \nTaller práctico dirigido a todos los estudiantes y titulados universitarios de la UMA. \nSi te interesa la carrera docente e investigadora\, este es tu taller\, podrás conocer todas las ayudas y recursos que te ayudarán a alcanzar tu sueño.  \nContenidos:  \n\nBecas y ayudas de iniciación a la investigación y predoctorales. \nTipos de contratos en la carrera universitaria. \n\n\nBúsqueda de empleo como docente e investigador.
URL:https://www.link.uma.es/event/taller-miercoles-por-la-orientacion-acceso-a-la-carrera-docente-e-investigadora/
LOCATION:Sala 2.04\, 2ª planta de Link\, Avenida Louis Pasteur\, 47\, Málaga\, Málaga\, 29010\, España
ATTACH;FMTTYPE=image/jpeg:https://www.link.uma.es/wp-content/uploads/2022/10/miercoles-pro-el-empleo.jpg
ORGANIZER;CN="Laura Marcos. Orientaci%C3%B3n UMA":MAILTO:lauramarcos@uma.es
END:VEVENT
BEGIN:VEVENT
DTSTART;TZID=UTC:20230201T100000
DTEND;TZID=UTC:20230201T190000
DTSTAMP:20260424T005843
CREATED:20230113T084158Z
LAST-MODIFIED:20230124T073832Z
UID:55398-1675245600-1675278000@www.link.uma.es
SUMMARY:2.01. Reunión AIESEC
DESCRIPTION:Sala 2.01\, 2ª planta Link by UMA – 10.00 a 19.00 h \nReunión de miembros de AIESEC. Evento cerrado al público\, destinado solo a miembros de la asociación.
URL:https://www.link.uma.es/event/reunion-aiesec-22/
LOCATION:Sala 2.01. 2ª planta
ATTACH;FMTTYPE=image/png:https://www.link.uma.es/wp-content/uploads/2017/01/aiesec.png
END:VEVENT
BEGIN:VEVENT
DTSTART;TZID=UTC:20230201T130000
DTEND;TZID=UTC:20230201T140000
DTSTAMP:20260424T005843
CREATED:20230119T115926Z
LAST-MODIFIED:20230124T073815Z
UID:55459-1675256400-1675260000@www.link.uma.es
SUMMARY:CW. Presentación empresa CGI
DESCRIPTION:Coworking\, 4ª planta – 13.00 a 14.00 h \nSe realizará una presentación de la empresa CGI a IES
URL:https://www.link.uma.es/event/presentacion-empresa-cgi/
LOCATION:Coworking\, Cuarta Planta\, Avenida Louis Pasteur\, 47\, Málaga\, Málaga\, 29010\, España
ATTACH;FMTTYPE=image/png:https://www.link.uma.es/wp-content/uploads/2017/05/cgi-logo-430.png
ORGANIZER;CN="Antonio Palomo. CGI":MAILTO:antonio.palomomunoz@cgi.com
END:VEVENT
BEGIN:VEVENT
DTSTART;TZID=UTC:20230202T090000
DTEND;TZID=UTC:20230202T180000
DTSTAMP:20260424T005843
CREATED:20230130T105241Z
LAST-MODIFIED:20230130T105241Z
UID:55636-1675328400-1675360800@www.link.uma.es
SUMMARY:2.02 Formación en Liderazgo - Leroy Merlin
DESCRIPTION:Sala 2.02\, 2ª planta – 9.00 a 18.00 h \nCurso de formación en liderazgo para managers de Leroy Merlin.
URL:https://www.link.uma.es/event/2-02-formacion-en-liderazgo-leroy-merlin-2/
LOCATION:Sala 2.02\, 2ª planta
ATTACH;FMTTYPE=image/png:https://www.link.uma.es/wp-content/uploads/2017/01/Leroy-Merlin.png
ORGANIZER;CN="Enrique L%C3%B3pez - Leroy Merlin":MAILTO:enrique.lopez@leroymerlin.es
END:VEVENT
BEGIN:VEVENT
DTSTART;TZID=UTC:20230202T090000
DTEND;TZID=UTC:20230202T180000
DTSTAMP:20260424T005843
CREATED:20230130T105847Z
LAST-MODIFIED:20230130T105847Z
UID:55638-1675328400-1675360800@www.link.uma.es
SUMMARY:2.04 Operaciones Redes - OP Plus
DESCRIPTION:Sala 2.04\, 2ª planta – 9.00 a 15.00 h \nOperaciones Redes a cargo del grupo Op Plus
URL:https://www.link.uma.es/event/2-04-operaciones-redes-op-plus/
LOCATION:Sala 2.04\, 2ª planta de Link\, Avenida Louis Pasteur\, 47\, Málaga\, Málaga\, 29010\, España
ATTACH;FMTTYPE=image/png:https://www.link.uma.es/wp-content/uploads/2023/01/Logotipo_Grupo_Opplus_-1.png
ORGANIZER;CN="Ana Moyano. Desarrollo y Formaci%C3%B3n. OPPLUS":MAILTO:ana.moyano.mora@opplus.bbva.com
END:VEVENT
BEGIN:VEVENT
DTSTART;TZID=UTC:20230202T170000
DTEND;TZID=UTC:20230202T200000
DTSTAMP:20260424T005843
CREATED:20230111T094517Z
LAST-MODIFIED:20230124T073756Z
UID:55367-1675357200-1675368000@www.link.uma.es
SUMMARY:CW. Taller de introducción a Vue.js
DESCRIPTION:Coworking\, 4ª planta de Link by UMA\, de 17 a 20h \nTaller de introducción a Vue.js dónde explicaremos algunos conceptos básicos sobre este framework y realizaremos una aplicación completa con él. \nAquí el enlace a eventbrite para que los interesados se puedan apuntar: enlace. \n\n\n¿Que vamos a hacer en el taller? \n\nAprenderemos que es Vue junto a sus carácteristicas.\nDistinguiremos entre versiones de Vue y sus formas de programar.\nAprenderemos el ecosistema de Vue.\nDesarrollaremos una aplicación paso a paso.\n\n\n\n\n\n¿Que requisitos necesito para asistir al taller? \n\nEs recomendable que para poder llevar al máximo el potecial del taller cada persona disponga de un equipo portátil\, en el caso de que quisieras asistir sin equipo\, el taller esta preparado también para poder hacer todo en casa.\nTener instalado algun IDE (entorno de desarrollo)\, recomendamos Visual Studio Code\, pero no pasaría nada si estas acostumbrado a usar otro distinto.\nTener instalado Nodejs en el equipo instalado previamente. Adjuntamos link: https://nodejs.org/es/\n\n\n\n\nWindows: Descargar y ejecutar el ejecutable.\nLinux: consultar segun la distro de linux como instalar Nodejs.\nMac: consultar instalacion segun el sistema de paquetes que tenga.
URL:https://www.link.uma.es/event/taller-de-introduccion-a-vue-js/
LOCATION:Coworking\, Cuarta Planta\, Avenida Louis Pasteur\, 47\, Málaga\, Málaga\, 29010\, España
ORGANIZER;CN="Ra%C3%BAl Aguilar. Vue M%C3%A1laga":MAILTO:ag21raul@gmail.com
END:VEVENT
BEGIN:VEVENT
DTSTART;TZID=UTC:20230203T090000
DTEND;TZID=UTC:20230203T110000
DTSTAMP:20260424T005843
CREATED:20230109T135642Z
LAST-MODIFIED:20230124T073546Z
UID:55341-1675414800-1675422000@www.link.uma.es
SUMMARY:3.01. Lab Meeting IHSM
DESCRIPTION:Sala 3.01\, 3ª planta Link by UMA \nTendrá lugar un Lab Meeting con grupos pertenecientes al IHSM.
URL:https://www.link.uma.es/event/lab-meeting-ihsm-2/
LOCATION:Sala 3.01\, Tercera Planta\, Avenida Louis Pasteur\, 47\, Málaga\, Málaga\, 29010\, España
ATTACH;FMTTYPE=image/png:https://www.link.uma.es/wp-content/uploads/2021/09/logo_IHSMpng.png
ORGANIZER;CN="Catharina Merchante. IHSM-UMA-CSIC":MAILTO:merchante@uma.es
END:VEVENT
BEGIN:VEVENT
DTSTART;TZID=UTC:20230206T170000
DTEND;TZID=UTC:20230206T190000
DTSTAMP:20260424T005843
CREATED:20230206T131136Z
LAST-MODIFIED:20230206T131136Z
UID:55734-1675702800-1675710000@www.link.uma.es
SUMMARY:2.01 Exposición proyectos UMA
DESCRIPTION:Sala 2.01\, 2ª planta – 17.00 a 19.00h \nExposición de proyectos por parte de personal de la UMA
URL:https://www.link.uma.es/event/2-01-exposicion-proyectos-uma/
LOCATION:Sala 2.01\, Segunda Planta\, Avenida Louis Pasteur\, 47\, Málaga\, Málaga\, 29010\, España
ATTACH;FMTTYPE=image/png:https://www.link.uma.es/wp-content/uploads/2022/12/UMA_logo.png
END:VEVENT
BEGIN:VEVENT
DTSTART;TZID=UTC:20230207T130000
DTEND;TZID=UTC:20230207T140000
DTSTAMP:20260424T005843
CREATED:20230203T082846Z
LAST-MODIFIED:20230203T082846Z
UID:55690-1675774800-1675778400@www.link.uma.es
SUMMARY:CW. Presentación CGI a IES
DESCRIPTION:Coworking\, 4ª planta de Link by UMA\, de 13 a 14h. \nLa empresa CGI realizará una presentación de su metodología de trabajo para alumnado en prácticas de IES.
URL:https://www.link.uma.es/event/cw-presentacion-cgi-a-ies/
LOCATION:Coworking\, Cuarta Planta\, Avenida Louis Pasteur\, 47\, Málaga\, Málaga\, 29010\, España
ATTACH;FMTTYPE=image/png:https://www.link.uma.es/wp-content/uploads/2017/05/cgi-logo-430.png
ORGANIZER;CN="Antonio Palomo Mu%C3%B1oz. Director Consulting Delibery. CGI":MAILTO:antonio.palomomunoz@cgi.com
END:VEVENT
BEGIN:VEVENT
DTSTART;TZID=UTC:20230207T143000
DTEND;TZID=UTC:20230207T160000
DTSTAMP:20260424T005843
CREATED:20230206T123836Z
LAST-MODIFIED:20230206T123931Z
UID:55730-1675780200-1675785600@www.link.uma.es
SUMMARY:2.01. Rafael Fuentes
DESCRIPTION:Sala 2.01\, de 14.3o a 16 h. \nReunión privada
URL:https://www.link.uma.es/event/2-01-rafael-fuentes/
LOCATION:Sala 2.01\, Segunda Planta\, Avenida Louis Pasteur\, 47\, Málaga\, Málaga\, 29010\, España
ORGANIZER;CN="Rafael Fuentes Candau - ICEX":MAILTO:rfuentes@comercio.mineco.es
END:VEVENT
BEGIN:VEVENT
DTSTART;TZID=UTC:20230207T160000
DTEND;TZID=UTC:20230207T173000
DTSTAMP:20260424T005843
CREATED:20221116T105232Z
LAST-MODIFIED:20230124T074135Z
UID:55093-1675785600-1675791000@www.link.uma.es
SUMMARY:2.01. Formación SME Cluster Growth: ¿Cómo internacionalizarse?
DESCRIPTION:Sala 2.01\, 2ª planta\, de 16 a 17.30h \nTaller ¿Cómo internacionalizarse? \nSME Cluster Growth (https://smeclustergrowth.eu/) es un proyecto Erasmus+ que la Universidad de Málaga lleva a cabo junto con otras universidades como la Universidad de Alcalá de Henares\, la Escuela de Minas\, Telecomunicaciones y Negocios de París\, la Universidad Tecnológica de Munster (Irlanda)\, la Universidad de Bolonia\, la Universidad Técnica de Estambul y tres empresas: Crazy Town (Finlandia)\, Momentum (Irlanda) y la Red de Innovación de Universidad e Industria (Bélgica). \nEl objetivo fundamental del proyecto es proporcionar herramientas formativas y de movilidad que permitan crecer a la pequeña y mediana empresa de ingeniería\, así como la creación de ecosistemas que faciliten su crecimiento sostenible en el tiempo. Los factores y necesidades que afectan al crecimiento han sido detectados en base a la literatura existente\, así como mediante casos de estudio y entrevistas que hemos llevado a cabo con pymes del ramo a lo largo de los países del consorcio. \nA partir de las necesidades detectadas se ha construido un programa formativo centrado en los siguientes puntos: cómo mantener un crecimiento sostenible\, cómo colaborar con otros clusters y ecosistemas empresariales\, cómo internacionalizarse\, cómo trabajar con universidades\, cómo financiar el crecimiento y cómo utilizar el valor del conocimiento y el talento en las empresas. \nPara solicitar más información\, contactar a: Clara Plata Ríos (cplata@uma.es) Vicerrectorado de Innovación Social y Emprendimiento (Universidad de Málaga)
URL:https://www.link.uma.es/event/formacion-sme-cluster-growth-como-internacionalizarse/
LOCATION:Sala 2.01\, Segunda Planta\, Avenida Louis Pasteur\, 47\, Málaga\, Málaga\, 29010\, España
ATTACH;FMTTYPE=image/jpeg:https://www.link.uma.es/wp-content/uploads/2022/03/logoyfondoSMEcluster.jpg
ORGANIZER;CN="Clara Plata. UMA":MAILTO:cplata@uma.es
END:VEVENT
BEGIN:VEVENT
DTSTART;TZID=UTC:20230207T170000
DTEND;TZID=UTC:20230207T200000
DTSTAMP:20260424T005843
CREATED:20230113T114028Z
LAST-MODIFIED:20230124T074122Z
UID:55401-1675789200-1675800000@www.link.uma.es
SUMMARY:2.02. Prueba admisión AIESEC
DESCRIPTION:Sala 2.02\, 2ª planta\, Link by UMA – 17.00 a 20.00 h \nPruebas de acceso a nuevos miembros. Evento abierto al público entre 18 y 30 años con inscripción previa rellenando el formulario: https://bit.ly/AISpruebasAcceso23
URL:https://www.link.uma.es/event/prueba-admision-aiesec/
LOCATION:Sala 2.02\, 2ª planta
ATTACH;FMTTYPE=image/png:https://www.link.uma.es/wp-content/uploads/2017/01/aiesec.png
END:VEVENT
BEGIN:VEVENT
DTSTART;TZID=UTC:20230208T080000
DTEND;TZID=UTC:20230208T110000
DTSTAMP:20260424T005843
CREATED:20230130T111914Z
LAST-MODIFIED:20230130T111914Z
UID:55641-1675843200-1675854000@www.link.uma.es
SUMMARY:3.02 Workshop CGI
DESCRIPTION:Sala 3.02\, 3ª planta – 8.00 a 11.00 h \nTendrá lugar un workshop de la empresa CGI
URL:https://www.link.uma.es/event/3-02-workshop-cgi/
LOCATION:Sala 3.02\, Tercera Planta\, Avenida Louis Pasteur\, 47\, Málaga\, Málaga\, 29010\, España
ATTACH;FMTTYPE=image/png:https://www.link.uma.es/wp-content/uploads/2017/05/cgi-logo-430.png
ORGANIZER;CN="Antonio Palomo. CGI":MAILTO:antonio.palomomunoz@cgi.com
END:VEVENT
BEGIN:VEVENT
DTSTART;TZID=UTC:20230208T080000
DTEND;TZID=UTC:20230208T160000
DTSTAMP:20260424T005843
CREATED:20230203T083521Z
LAST-MODIFIED:20230203T083521Z
UID:55694-1675843200-1675872000@www.link.uma.es
SUMMARY:2.01. DATA OPPLUS 2023
DESCRIPTION:Sala 2.01\, 2ª planta de Link by UMA\, de 8 a 16h \nRoadmap 2023 de DATA OPPLUS.
URL:https://www.link.uma.es/event/2-01-data-opplus-2023/
LOCATION:Sala 2.01\, Segunda Planta\, Avenida Louis Pasteur\, 47\, Málaga\, Málaga\, 29010\, España
ATTACH;FMTTYPE=image/png:https://www.link.uma.es/wp-content/uploads/2023/01/Logotipo_Grupo_Opplus_-1.png
ORGANIZER;CN="Luna D%C3%ADaz. Manager OPPLUS.":MAILTO:luna.diaz@opplus.bbva.com
END:VEVENT
BEGIN:VEVENT
DTSTART;TZID=UTC:20230208T100000
DTEND;TZID=UTC:20230208T120000
DTSTAMP:20260424T005843
CREATED:20221013T110432Z
LAST-MODIFIED:20230206T130715Z
UID:54813-1675850400-1675857600@www.link.uma.es
SUMMARY:2.04. Taller Miércoles por la Orientación
DESCRIPTION:Sala 2.04\, 2ª planta de Link\, de 10 a 12h. \nSesión presencial dirigida al alumnado de los Cursos Online  de Formación en Competencias: \n 1. Enfoca tu futuro 2. Actitud Emprendedora 3. Soft&Digital Skills \nSi ya eres alumno/a es necesario inscripción previa a través de Campus Virtual https://empleabilidad.cv.uma.es/mod/scheduler/view.php?id=4285 \nPara ello\, entra en tu curso y sigue estos pasos: 1. Pincha en la pestaña Evaluación 2. Pincha Sesión presencial («Compartiendo lo aprendido») 3. Inscríbete el miércoles que más te interese \nOBJETIVO DE LA SESIÓN: \nTe rodean múltiples recursos para ayudarte a conseguir el puesto de trabajo que te interesa o para poner en marcha tu proyecto empresarial\, ¿los conoces? En este taller te mostraremos el amplio abanico que tanto tu universidad como otras entidades malagueñas y andaluzas te pueden ofrecer \nCONTENIDOS: \nRecursos formativos. \nProgramas de prácticas en empresas a nivel nacional e internacional. \nProgramas de acceso al empleo dirigido a jóvenes. \n  \nHorario: 10:00-12:00 h \n¿Dónde? Sala 2.04 (Segunda Planta) Edif. The Green Ray\, Avenida Louis Pasteur\, 4\, 29010 Málaga \n(Campus: Extensión Teatinos)
URL:https://www.link.uma.es/event/taller-miercoles-por-la-orientacion-5/
LOCATION:Sala 2.04\, 2ª planta de Link\, Avenida Louis Pasteur\, 47\, Málaga\, Málaga\, 29010\, España
ORGANIZER;CN="Laura Marcos. Orientaci%C3%B3n UMA":MAILTO:lauramarcos@uma.es
END:VEVENT
BEGIN:VEVENT
DTSTART;TZID=UTC:20230209T090000
DTEND;TZID=UTC:20230209T140000
DTSTAMP:20260424T005843
CREATED:20230206T122241Z
LAST-MODIFIED:20230206T122241Z
UID:55727-1675933200-1675951200@www.link.uma.es
SUMMARY:CW Actividad Día Internacional de la Mujer y la Niña en la Ciencia
DESCRIPTION:Coworking\, 4ª planta – 09.00 a 14.00 h \nEl Vicerrectorado de Igualdad\, Diversidad y Acción Social organiza una actividad con motivo del Día Internacional de la Mujer y la Niña en la Ciencia.
URL:https://www.link.uma.es/event/cw-actividad-dia-internacional-de-la-mujer-y-la-nina-en-la-ciencia/
LOCATION:Coworking\, Cuarta Planta\, Avenida Louis Pasteur\, 47\, Málaga\, Málaga\, 29010\, España
ATTACH;FMTTYPE=image/png:https://www.link.uma.es/wp-content/uploads/2022/12/UMA_logo.png
ORGANIZER;CN="Eva Orellana - Unidad Igualdad UMA":MAILTO:igualdad@uma.es
END:VEVENT
END:VCALENDAR