BEGIN:VCALENDAR
VERSION:2.0
PRODID:-//LINK by UMA-ATech - ECPv6.15.20//NONSGML v1.0//EN
CALSCALE:GREGORIAN
METHOD:PUBLISH
X-WR-CALNAME:LINK by UMA-ATech
X-ORIGINAL-URL:https://www.link.uma.es
X-WR-CALDESC:Eventos para LINK by UMA-ATech
REFRESH-INTERVAL;VALUE=DURATION:PT1H
X-Robots-Tag:noindex
X-PUBLISHED-TTL:PT1H
BEGIN:VTIMEZONE
TZID:UTC
BEGIN:STANDARD
TZOFFSETFROM:+0000
TZOFFSETTO:+0000
TZNAME:UTC
DTSTART:20250101T000000
END:STANDARD
END:VTIMEZONE
BEGIN:VEVENT
DTSTART;TZID=UTC:20260420T133000
DTEND;TZID=UTC:20260420T153000
DTSTAMP:20260419T141219
CREATED:20260313T104934Z
LAST-MODIFIED:20260313T104934Z
UID:62701-1776691800-1776699000@www.link.uma.es
SUMMARY:2.02. Taller práctico de Oratoria y Comunicación
DESCRIPTION:Sala 2.02\, 2ª planta de Link by UMA\, de 13.30 a 15.30h \nTaller práctico de Oratoria y Comunicación
URL:https://www.link.uma.es/event/2-02-taller-practico-de-oratoria-y-comunicacion-5/
LOCATION:Sala 2.02\, Segunda Planta\, Avenida Louis Pasteur\, 47\, Málaga\, Málaga\, 29010\, España
ORGANIZER;CN="Beatriz G%C3%B3mez. Oficina de Atenci%C3%B3n al Estudiante":MAILTO:beatrizgomez@uma.es
END:VEVENT
BEGIN:VEVENT
DTSTART;TZID=UTC:20260421T090000
DTEND;TZID=UTC:20260421T140000
DTSTAMP:20260419T141219
CREATED:20260217T122049Z
LAST-MODIFIED:20260313T075142Z
UID:62495-1776762000-1776780000@www.link.uma.es
SUMMARY:CW. Aula IKEA Training: Visual Merchandising
DESCRIPTION:Coworking\, 4ª planta\, de 9 a 14h \nCurso de especialización en Visual Merchandising dirigido a estudiantes de cualquier disciplina con interés en desarrollar las competencias profesionales necesarias para trabajar como visual merchandiser en el sector retail (comercio minorista). \n¿Quieres impulsar tu carrera profesional como visual merchandiser?  \nSi te interesa el mundo del interiorismo y del visual merchandising y quieres trabajar en el sector\, este curso te dará la oportunidad de adquirir las competencias profesionales necesarias para ello de la mano de IKEA\, líder mundial en la venta de muebles y decoración. \n¿Cuál es la función de un visual merchandiser en IKEA? \nEl visual merchandiser da vida a los productos en las tiendas\, en la web y en muchos más sitios. Combinas los colores\, las texturas\, los diseños y los muebles en soluciones prácticas que emocionan\, atraen y convencen\, a quienes visitan IKEA\, de que también pueden hacer lo mismo en sus casas. Sus soluciones\, diseños y presentación del surtido inspiran a la mayoría de las personas para llevarse a casa los productos y disfrutar de una mejor vida en el hogar gracias a ellos. \nFinalizado los tres módulos del curso\, muchos tendréis la oportunidad de realizar prácticas como visual merchandisers en el Departamento de Home Furnishing & Retail Design de la tienda IKEA de Málaga.
URL:https://www.link.uma.es/event/cw-aula-ikea-training-visual-merchandising-3/
LOCATION:Coworking\, 4ª planta de Link by UMA
ATTACH;FMTTYPE=image/jpeg:https://www.link.uma.es/wp-content/uploads/2024/01/Ikea-training.jpg
END:VEVENT
BEGIN:VEVENT
DTSTART;TZID=UTC:20260421T090000
DTEND;TZID=UTC:20260421T140000
DTSTAMP:20260419T141219
CREATED:20260305T131110Z
LAST-MODIFIED:20260313T075227Z
UID:62620-1776762000-1776780000@www.link.uma.es
SUMMARY:2.02. Formación Univergem
DESCRIPTION:Sala 2.02\, 2ª planta de Link by UMA. de 9 a 14h \nFormación Univergem. \nEl programa está dirigido a mujeres universitarias que deseen mejorar su empleabilidad mediante un acompañamiento individualizado centrado en su proyecto profesional.
URL:https://www.link.uma.es/event/cw-formacion-univergem-8/
LOCATION:Sala 2.02\, 2ª planta
ATTACH;FMTTYPE=image/jpeg:https://www.link.uma.es/wp-content/uploads/2026/03/descarga-1.jpg
ORGANIZER;CN="Isabel Fern%C3%A1ndez Subires. UMA":MAILTO:isabelf@uma.es
END:VEVENT
BEGIN:VEVENT
DTSTART;TZID=UTC:20260421T100000
DTEND;TZID=UTC:20260421T140000
DTSTAMP:20260419T141219
CREATED:20260212T105930Z
LAST-MODIFIED:20260212T105930Z
UID:62471-1776765600-1776780000@www.link.uma.es
SUMMARY:3.01+3.02. Reunión ViewNext
DESCRIPTION:Salas 3.01 y 3.02\, 3ª planta de Link by UMA\, de 10 a 14h \nReunión ViewNext
URL:https://www.link.uma.es/event/3-013-02-reunion-viewnext/
LOCATION:Salas 3.01 y 3.02 de Link by UMA
ORGANIZER;CN="Fernando Baena. Director ViewNext M%C3%A1laga":MAILTO:fbaena@viewnext.com
END:VEVENT
BEGIN:VEVENT
DTSTART;TZID=UTC:20260422T090000
DTEND;TZID=UTC:20260422T140000
DTSTAMP:20260419T141219
CREATED:20260217T121930Z
LAST-MODIFIED:20260217T121930Z
UID:62493-1776848400-1776866400@www.link.uma.es
SUMMARY:CW. Aula IKEA Training: Visual Merchandising
DESCRIPTION:Coworking\, 4ª planta\, de 9 a 14h \nCurso de especialización en Visual Merchandising dirigido a estudiantes de cualquier disciplina con interés en desarrollar las competencias profesionales necesarias para trabajar como visual merchandiser en el sector retail (comercio minorista). \n¿Quieres impulsar tu carrera profesional como visual merchandiser?  \nSi te interesa el mundo del interiorismo y del visual merchandising y quieres trabajar en el sector\, este curso te dará la oportunidad de adquirir las competencias profesionales necesarias para ello de la mano de IKEA\, líder mundial en la venta de muebles y decoración. \n¿Cuál es la función de un visual merchandiser en IKEA? \nEl visual merchandiser da vida a los productos en las tiendas\, en la web y en muchos más sitios. Combinas los colores\, las texturas\, los diseños y los muebles en soluciones prácticas que emocionan\, atraen y convencen\, a quienes visitan IKEA\, de que también pueden hacer lo mismo en sus casas. Sus soluciones\, diseños y presentación del surtido inspiran a la mayoría de las personas para llevarse a casa los productos y disfrutar de una mejor vida en el hogar gracias a ellos. \nFinalizado los tres módulos del curso\, muchos tendréis la oportunidad de realizar prácticas como visual merchandisers en el Departamento de Home Furnishing & Retail Design de la tienda IKEA de Málaga.
URL:https://www.link.uma.es/event/cw-aula-ikea-training-visual-merchandising-2/
LOCATION:Coworking\, 4ª planta de Link by UMA
ATTACH;FMTTYPE=image/jpeg:https://www.link.uma.es/wp-content/uploads/2024/01/Ikea-training.jpg
END:VEVENT
BEGIN:VEVENT
DTSTART;TZID=UTC:20260422T090000
DTEND;TZID=UTC:20260422T170000
DTSTAMP:20260419T141219
CREATED:20260409T113009Z
LAST-MODIFIED:20260409T113009Z
UID:62773-1776848400-1776877200@www.link.uma.es
SUMMARY:3.02. SoftProject Workshop
DESCRIPTION:Sala 3.02\, 3ª planta de Link by UMA. de 9 a 17h \nTeam Building SoftProject
URL:https://www.link.uma.es/event/3-02-softproject-workshop/
LOCATION:Sala 3.02\, Tercera Planta\, Avenida Louis Pasteur\, 47\, Málaga\, Málaga\, 29010\, España
ATTACH;FMTTYPE=image/png:https://www.link.uma.es/wp-content/uploads/2021/10/SoftProject.png
ORGANIZER;CN="Fran Prieto. People Manager. SoftProject":MAILTO:francisco.prieto@softproject.es
END:VEVENT
BEGIN:VEVENT
DTSTART;TZID=UTC:20260422T100000
DTEND;TZID=UTC:20260422T120000
DTSTAMP:20260419T141219
CREATED:20260116T122151Z
LAST-MODIFIED:20260116T122151Z
UID:62321-1776852000-1776859200@www.link.uma.es
SUMMARY:3.01 Miércoles x la Orientación
DESCRIPTION:3.01\, 3ª planta – 10.00 a 12.00 h \nHoy tendremos la sesión presencial del alumnado que realiza los cursos sobre desarrollo de competencias: Enfoca tu futuro\, Soft & Digital Skills y Actitud Emprendedora \nLa sesión versará sobre Recursos de formación y Empleo dirigido al colectivo universitario.
URL:https://www.link.uma.es/event/3-01-miercoles-x-la-orientacion-3/
LOCATION:Sala 3.01\, Tercera Planta\, Avenida Louis Pasteur\, 47\, Málaga\, Málaga\, 29010\, España
ATTACH;FMTTYPE=image/jpeg:https://www.link.uma.es/wp-content/uploads/2022/10/miercoles-pro-el-empleo.jpg
ORGANIZER;CN="Laura Marcos. Orientaci%C3%B3n UMA":MAILTO:lauramarcos@uma.es
END:VEVENT
BEGIN:VEVENT
DTSTART;TZID=UTC:20260422T100000
DTEND;TZID=UTC:20260422T120000
DTSTAMP:20260419T141219
CREATED:20260202T132245Z
LAST-MODIFIED:20260202T132245Z
UID:62408-1776852000-1776859200@www.link.uma.es
SUMMARY:2.02 Miércoles x la Orientación - Soft Skills
DESCRIPTION:2.02\, 2ª planta – 10.00 a 12.00 h \nTaller dirigido al alumnado y egresado de la Universidad de Málaga. \n¿Conoces tus habilidades y capacidades para defenderte en un entorno de trabajo? Descubre en este taller tus puntos fuertes y débiles para afrontar con más opciones el acceso al mercado laboral.
URL:https://www.link.uma.es/event/2-02-miercoles-x-la-orientacion-soft-skills/
LOCATION:Sala 2.02\, 2ª planta
ATTACH;FMTTYPE=image/jpeg:https://www.link.uma.es/wp-content/uploads/2022/10/miercoles-pro-el-empleo.jpg
ORGANIZER;CN="Laura Marcos. Orientaci%C3%B3n UMA":MAILTO:lauramarcos@uma.es
END:VEVENT
BEGIN:VEVENT
DTSTART;TZID=UTC:20260422T120000
DTEND;TZID=UTC:20260422T140000
DTSTAMP:20260419T141219
CREATED:20260417T110649Z
LAST-MODIFIED:20260417T110649Z
UID:62839-1776859200-1776866400@www.link.uma.es
SUMMARY:2.02: Tutoría Prácticas Erasmus+
DESCRIPTION:Sala 2.02\, 2ª planta de Link by UMA\, de 12 a 14h \nTutoría Prácticas Erasmus+ 2025/2026 – GRADO\, MÁSTER y DOCTORADO con Alejandro Florido ;D \n\n\n\n\n Añadir al calendario
URL:https://www.link.uma.es/event/2-02-tutoria-practicas-erasmus-5/
LOCATION:Sala 2.02\, 2ª planta
ATTACH;FMTTYPE=image/png:https://www.link.uma.es/wp-content/uploads/2023/03/erasmus-logo.png
ORGANIZER;CN="Alejandro Florido. Pr%C3%A1cticas Erasmus. UMA":MAILTO:florido@uma.es
END:VEVENT
BEGIN:VEVENT
DTSTART;TZID=UTC:20260422T163000
DTEND;TZID=UTC:20260422T193000
DTSTAMP:20260419T141219
CREATED:20260223T132046Z
LAST-MODIFIED:20260324T082442Z
UID:62567-1776875400-1776886200@www.link.uma.es
SUMMARY:2.02. Curso "Apoyo a la salud mental de Doctorandos/as"
DESCRIPTION:Sala 2.02\, 2ª planta de Link by UMA\, de 16.30 a 19.30h \nII Edición del Curso «Apoyo a la salud mental de Doctorandos/as»
URL:https://www.link.uma.es/event/2-02-curso-apoyo-a-la-salud-mental-de-doctorandos-as/
LOCATION:Sala 2.02\, 2ª planta
ORGANIZER;CN="M%C2%AA Victoria Arenas Valero. Vicerrectorado de Doctorado y Posgrado.":MAILTO:v.arenas@uma.es
END:VEVENT
BEGIN:VEVENT
DTSTART;TZID=UTC:20260423T090000
DTEND;TZID=UTC:20260423T140000
DTSTAMP:20260419T141219
CREATED:20260305T131839Z
LAST-MODIFIED:20260313T075424Z
UID:62630-1776934800-1776952800@www.link.uma.es
SUMMARY:CW. Formación Univergem
DESCRIPTION:Coworking\, 4ª planta de Link by UMA. de 9 a 14h \nFormación Univergem. \nEl programa está dirigido a mujeres universitarias que deseen mejorar su empleabilidad mediante un acompañamiento individualizado centrado en su proyecto profesional.
URL:https://www.link.uma.es/event/2-02-formacion-univergem/
LOCATION:Coworking\, 4ª planta de Link by UMA
ATTACH;FMTTYPE=image/jpeg:https://www.link.uma.es/wp-content/uploads/2026/03/descarga-1.jpg
ORGANIZER;CN="Isabel Fern%C3%A1ndez Subires. UMA":MAILTO:isabelf@uma.es
END:VEVENT
BEGIN:VEVENT
DTSTART;TZID=UTC:20260423T090000
DTEND;TZID=UTC:20260423T180000
DTSTAMP:20260419T141219
CREATED:20260122T125851Z
LAST-MODIFIED:20260122T125935Z
UID:62359-1776934800-1776967200@www.link.uma.es
SUMMARY:3.01. Literatura Coreana en la postmodernidad
DESCRIPTION:Sala 3.01\, de 9 a 18h \nLiteratura Coreana en la postmodernidad: Jornada para estudiantes y profesores de la Universidad de Málaga y la Korea University. Temática de literatura coreana.
URL:https://www.link.uma.es/event/3-01-literatura-coreana-en-la-postmodernidad/
LOCATION:Sala 3.01\, Tercera Planta\, Avenida Louis Pasteur\, 47\, Málaga\, Málaga\, 29010\, España
ATTACH;FMTTYPE=image/jpeg:https://www.link.uma.es/wp-content/uploads/2026/01/AreaCiencias_Historicas.jpg
ORGANIZER;CN="M%C2%AA del Mar Blanco Mercado. %C3%81rea de Estudios de Asia Oriental":MAILTO:mariadelmarbm6@uma.es
END:VEVENT
BEGIN:VEVENT
DTSTART;TZID=UTC:20260428T090000
DTEND;TZID=UTC:20260428T140000
DTSTAMP:20260419T141219
CREATED:20260305T131236Z
LAST-MODIFIED:20260305T131236Z
UID:62622-1777366800-1777384800@www.link.uma.es
SUMMARY:CW. Formación Univergem
DESCRIPTION:Coworking\, 4ª planta de Link by UMA. de 9 a 14h \nFormación Univergem. \nEl programa está dirigido a mujeres universitarias que deseen mejorar su empleabilidad mediante un acompañamiento individualizado centrado en su proyecto profesional.
URL:https://www.link.uma.es/event/cw-formacion-univergem-9/
LOCATION:Coworking\, 4ª planta de Link by UMA
ATTACH;FMTTYPE=image/jpeg:https://www.link.uma.es/wp-content/uploads/2026/03/descarga-1.jpg
ORGANIZER;CN="Isabel Fern%C3%A1ndez Subires. UMA":MAILTO:isabelf@uma.es
END:VEVENT
BEGIN:VEVENT
DTSTART;TZID=UTC:20260428T123000
DTEND;TZID=UTC:20260428T133000
DTSTAMP:20260419T141219
CREATED:20260407T122004Z
LAST-MODIFIED:20260407T122004Z
UID:62766-1777379400-1777383000@www.link.uma.es
SUMMARY:3.01. Visita alumnado FYCO+ADE
DESCRIPTION:Sala 3.01\, 3ª planta de Link by UMA\, de 12.30 a 13.30h \nVisita del alumnado del doble grado FYCO+ADE\, de la mano de su profesora Virginia Herrera. \nBienvenid@s a Link by UMA! \n 
URL:https://www.link.uma.es/event/3-01-visita-alumnado-fycoade-2/
LOCATION:Sala 3.01\, Tercera Planta\, Avenida Louis Pasteur\, 47\, Málaga\, Málaga\, 29010\, España
ORGANIZER;CN="Virginia Herrera P%C3%A9rez.UMA":MAILTO:Información adicional
END:VEVENT
BEGIN:VEVENT
DTSTART;TZID=UTC:20260429T083000
DTEND;TZID=UTC:20260429T163000
DTSTAMP:20260419T141219
CREATED:20260417T122700Z
LAST-MODIFIED:20260417T122725Z
UID:62856-1777451400-1777480200@www.link.uma.es
SUMMARY:3.02. Atonwave: Formación Interna
DESCRIPTION:Sala 3.02\, 3ª planta de Link by UMA\, de 8.30 a 16.30h \nAtonwave Artificial Vision Technologies: Formación Interna \n 
URL:https://www.link.uma.es/event/3-02-atonwave-artificial-vision-technologies-formacion-interna/
LOCATION:Sala 3.02\, Tercera Planta\, Avenida Louis Pasteur\, 47\, Málaga\, Málaga\, 29010\, España
ATTACH;FMTTYPE=image/png:https://www.link.uma.es/wp-content/uploads/2026/04/logotipo-atonwave-2048x308-1.png
ORGANIZER;CN="Dato Altamirano. Atonwave Artificial Vision Techologies":MAILTO:dato.altamirano@atonwave.com
END:VEVENT
BEGIN:VEVENT
DTSTART;TZID=UTC:20260429T090000
DTEND;TZID=UTC:20260429T140000
DTSTAMP:20260419T141219
CREATED:20260217T122207Z
LAST-MODIFIED:20260217T122207Z
UID:62497-1777453200-1777471200@www.link.uma.es
SUMMARY:3.01. Aula IKEA Training: Visual Merchandising
DESCRIPTION:Sala 3.01\, de 9 a 14h \nCurso de especialización en Visual Merchandising dirigido a estudiantes de cualquier disciplina con interés en desarrollar las competencias profesionales necesarias para trabajar como visual merchandiser en el sector retail (comercio minorista). \n¿Quieres impulsar tu carrera profesional como visual merchandiser?  \nSi te interesa el mundo del interiorismo y del visual merchandising y quieres trabajar en el sector\, este curso te dará la oportunidad de adquirir las competencias profesionales necesarias para ello de la mano de IKEA\, líder mundial en la venta de muebles y decoración. \n¿Cuál es la función de un visual merchandiser en IKEA? \nEl visual merchandiser da vida a los productos en las tiendas\, en la web y en muchos más sitios. Combinas los colores\, las texturas\, los diseños y los muebles en soluciones prácticas que emocionan\, atraen y convencen\, a quienes visitan IKEA\, de que también pueden hacer lo mismo en sus casas. Sus soluciones\, diseños y presentación del surtido inspiran a la mayoría de las personas para llevarse a casa los productos y disfrutar de una mejor vida en el hogar gracias a ellos. \nFinalizado los tres módulos del curso\, muchos tendréis la oportunidad de realizar prácticas como visual merchandisers en el Departamento de Home Furnishing & Retail Design de la tienda IKEA de Málaga.
URL:https://www.link.uma.es/event/3-01-aula-ikea-training-visual-merchandising-5/
LOCATION:Sala 3.01\, Tercera Planta\, Avenida Louis Pasteur\, 47\, Málaga\, Málaga\, 29010\, España
ATTACH;FMTTYPE=image/jpeg:https://www.link.uma.es/wp-content/uploads/2024/01/Ikea-training.jpg
END:VEVENT
BEGIN:VEVENT
DTSTART;TZID=UTC:20260429T100000
DTEND;TZID=UTC:20260429T120000
DTSTAMP:20260419T141219
CREATED:20260202T132427Z
LAST-MODIFIED:20260202T132427Z
UID:62410-1777456800-1777464000@www.link.uma.es
SUMMARY:2.02 Miércoles x la Orientación - Acceso a la carrera docente e investigadora
DESCRIPTION:2.02\, 2ª planta – 10.00 a 12.00 h \nTaller dirigido al alumnado y egresado de la Universidad de Málaga. \n 
URL:https://www.link.uma.es/event/2-02-miercoles-x-la-orientacion-acceso-a-la-carrera-docente-e-investigadora/
LOCATION:Sala 2.02\, 2ª planta
ATTACH;FMTTYPE=image/jpeg:https://www.link.uma.es/wp-content/uploads/2022/10/miercoles-pro-el-empleo.jpg
ORGANIZER;CN="Laura Marcos. Orientaci%C3%B3n UMA":MAILTO:lauramarcos@uma.es
END:VEVENT
BEGIN:VEVENT
DTSTART;TZID=UTC:20260429T110000
DTEND;TZID=UTC:20260429T123000
DTSTAMP:20260419T141219
CREATED:20260417T095242Z
LAST-MODIFIED:20260417T095242Z
UID:62826-1777460400-1777465800@www.link.uma.es
SUMMARY:CW Comportamiento Emprendedor Responsable
DESCRIPTION:Coworking (4ª planta)\, 11.00 a 12.30 h \nPROGRAMA: \nJornada: “Comportamiento Emprendedor Responsable”\n \n➡️ Presentación del Foro RSE Málaga \n\nNoelia García. Coordinadora del Foro RSE Málaga de la Confederación de Empresarios de Málaga (CEM)\n\n➡️ EMPRESA 1 – Centro Comercial Centro Plaza de Marbella. Carlos García Perujo\, Gerente de Centro Comercial Centro Plaza (Marbella). \n\nIntroducción a la Responsabilidad Social Empresarial y su conexión con los ODS\nQué es y qué hace el Foro RSE Málaga\nCómo se integra la RSE. Ejemplos de buenas prácticas\n\n➡️ EMPRESA 2 – A2 Paneque Catalán. Ana Paneque\, Social en A2 Paneque Catalán \n\nQué tengo que ver yo con la responsabilidad social / responsabilidad individual.\nEjemplos de buenas prácticas\n\n➡️ EMPRESA 3 – Abengsa Company. Francisco Quintero\, CEO de Abengsa Company \n\nEjemplos de buenas prácticas sobre RSE en Abengsa Company
URL:https://www.link.uma.es/event/cw-comportamiento-emprendedor-responsable/
LOCATION:Coworking\, Cuarta Planta\, Avenida Louis Pasteur\, 47\, Málaga\, Málaga\, 29010\, España
ATTACH;FMTTYPE=image/jpeg:https://www.link.uma.es/wp-content/uploads/2026/04/logo-jornada-cem.jpg
ORGANIZER;CN="Noelia Garc%C3%ADa Molina - CEM":MAILTO:ngarcia@cem-malaga.es
END:VEVENT
BEGIN:VEVENT
DTSTART;TZID=UTC:20260429T180000
DTEND;TZID=UTC:20260429T200000
DTSTAMP:20260419T141219
CREATED:20260326T073146Z
LAST-MODIFIED:20260417T123446Z
UID:62754-1777485600-1777492800@www.link.uma.es
SUMMARY:3.02. How to become a Tech CMO
DESCRIPTION:Sala 3.02\, 3ª planta de Link by UMA\, de 18 a 20h \nHow to become a Tech CMO \nDescubre cómo construir una carrera en marketing dentro del sector tecnológico y qué se necesita realmente para llegar a ser Tech CMO. \nEn esta sesión aprenderás cómo funciona el marketing en empresas tech\, desde la estrategia de Go-To-Market hasta la toma de decisiones que impactan directamente en el crecimiento del negocio. A través de frameworks reales y casos prácticos\, entenderás qué diferencia al marketing tradicional del marketing en tecnología y cómo posicionarte en este entorno. \nMás allá de la teoría\, esta sesión te dará una visión clara\, práctica y actual de cómo piensan y trabajan los líderes de marketing en empresas tecnológicas\, ayudándote a dar los primeros pasos para orientar tu carrera en este sector. \nInscríbete aquí: https://techtomars.com/how-to-become-a-tech-cmo
URL:https://www.link.uma.es/event/3-02-how-to-become-a-tech-cmo/
LOCATION:Sala 3.02\, Tercera Planta\, Avenida Louis Pasteur\, 47\, Málaga\, Málaga\, 29010\, España
ATTACH;FMTTYPE=image/png:https://www.link.uma.es/wp-content/uploads/2026/03/How-to-became-a-Tech-CMO.png
ORGANIZER;CN="Rokaya El Hlimi Chair":MAILTO:rokaya@techtomars.com
END:VEVENT
BEGIN:VEVENT
DTSTART;TZID=UTC:20260430T083000
DTEND;TZID=UTC:20260430T163000
DTSTAMP:20260419T141219
CREATED:20260417T122825Z
LAST-MODIFIED:20260417T122825Z
UID:62859-1777537800-1777566600@www.link.uma.es
SUMMARY:3.02. Atonwave: Formación Interna
DESCRIPTION:Sala 3.02\, 3ª planta de Link by UMA\, de 8.30 a 16.30h \nAtonwave Artificial Vision Technologies: Formación Interna \n 
URL:https://www.link.uma.es/event/3-02-atonwave-formacion-interna/
LOCATION:Sala 3.02\, Tercera Planta\, Avenida Louis Pasteur\, 47\, Málaga\, Málaga\, 29010\, España
ATTACH;FMTTYPE=image/png:https://www.link.uma.es/wp-content/uploads/2026/04/logotipo-atonwave-2048x308-1.png
ORGANIZER;CN="Dato Altamirano. Atonwave Artificial Vision Techologies":MAILTO:dato.altamirano@atonwave.com
END:VEVENT
BEGIN:VEVENT
DTSTART;TZID=UTC:20260430T090000
DTEND;TZID=UTC:20260430T140000
DTSTAMP:20260419T141219
CREATED:20260212T100844Z
LAST-MODIFIED:20260212T100844Z
UID:62462-1777539600-1777557600@www.link.uma.es
SUMMARY:CW. Didáctica de la Educación Infantil
DESCRIPTION:Coworking\, 4ª planta de Link by UMA\, de 9 a 14h \nMétodo Pecera. Sesión sobre la Revisión y rediseño de la 1º Lección de investigación. \nAsignatura: Didáctica de la Educación Infantil del Grado en Educación Infantil
URL:https://www.link.uma.es/event/cw-didactica-de-la-educacion-infantil/
LOCATION:Coworking\, 4ª planta de Link by UMA
ORGANIZER;CN="Lorena del Pino Rodr%C3%ADguez. Educaci%C3%B3n Infantil":MAILTO:delorenapino@uma.es
END:VEVENT
BEGIN:VEVENT
DTSTART;TZID=UTC:20260430T090000
DTEND;TZID=UTC:20260430T140000
DTSTAMP:20260419T141219
CREATED:20260323T083318Z
LAST-MODIFIED:20260323T083318Z
UID:62741-1777539600-1777557600@www.link.uma.es
SUMMARY:3.01\, 3ª planta - Formación Univergem
DESCRIPTION:3.01\, 3ª planta – 9.00 a 14.00 h \nFormación Univergem
URL:https://www.link.uma.es/event/3-01-3a-planta-formacion-univergem/
LOCATION:Sala 3.01\, Tercera Planta\, Avenida Louis Pasteur\, 47\, Málaga\, Málaga\, 29010\, España
ATTACH;FMTTYPE=image/png:https://www.link.uma.es/wp-content/uploads/2020/02/Univergem.png
ORGANIZER;CN="Gema L%C3%B3pez Montiel. Empleabilidad y Emprendimiento UMA":MAILTO:glopez@uma.es
END:VEVENT
BEGIN:VEVENT
DTSTART;TZID=UTC:20260430T163000
DTEND;TZID=UTC:20260430T193000
DTSTAMP:20260419T141219
CREATED:20260223T132450Z
LAST-MODIFIED:20260223T132450Z
UID:62571-1777566600-1777577400@www.link.uma.es
SUMMARY:3.01. Curso "Apoyo a la salud mental de Doctorandos/as"
DESCRIPTION:Sala 3.01\, 3ª planta de Link by UMA\, de 16.30 a 19.30h \nII Edición del Curso «Apoyo a la salud mental de Doctorandos/as»
URL:https://www.link.uma.es/event/3-01-curso-apoyo-a-la-salud-mental-de-doctorandos-as/
LOCATION:Sala 3.01\, Tercera Planta\, Avenida Louis Pasteur\, 47\, Málaga\, Málaga\, 29010\, España
ORGANIZER;CN="M%C2%AA Victoria Arenas Valero. Vicerrectorado de Doctorado y Posgrado.":MAILTO:v.arenas@uma.es
END:VEVENT
END:VCALENDAR