BEGIN:VCALENDAR
VERSION:2.0
PRODID:-//LINK by UMA-ATech - ECPv6.15.20//NONSGML v1.0//EN
CALSCALE:GREGORIAN
METHOD:PUBLISH
X-WR-CALNAME:LINK by UMA-ATech
X-ORIGINAL-URL:https://www.link.uma.es
X-WR-CALDESC:Eventos para LINK by UMA-ATech
REFRESH-INTERVAL;VALUE=DURATION:PT1H
X-Robots-Tag:noindex
X-PUBLISHED-TTL:PT1H
BEGIN:VTIMEZONE
TZID:UTC
BEGIN:STANDARD
TZOFFSETFROM:+0000
TZOFFSETTO:+0000
TZNAME:UTC
DTSTART:20250101T000000
END:STANDARD
END:VTIMEZONE
BEGIN:VEVENT
DTSTART;TZID=UTC:20260918T080000
DTEND;TZID=UTC:20260918T200000
DTSTAMP:20260425T103508
CREATED:20250708T090221Z
LAST-MODIFIED:20250708T090252Z
UID:61258-1789718400-1789761600@www.link.uma.es
SUMMARY:Salón de Actos. EPNOE Junior Scientist Meeting
DESCRIPTION:Reunión científica EPNOE Junior Scientist Meeting que tendrá lugar en Málaga en el período 16-18 de septiembre de 2026.
URL:https://www.link.uma.es/event/salon-de-actos-epnoe-junior-scientist-meeting-4/
LOCATION:Salón de Actos\, Planta Baja\, Avenida Louis Pasteur\, 47\, Málaga\, Málaga\, 29010\, España
ATTACH;FMTTYPE=image/jpeg:https://www.link.uma.es/wp-content/uploads/2025/07/Banner_EPNOE_2026_16-18_september-scaled.jpg
ORGANIZER;CN="Susana Guzm%C3%A1n Puyol":MAILTO:susana.guzman@uma.es
END:VEVENT
END:VCALENDAR