BEGIN:VCALENDAR
VERSION:2.0
PRODID:-//LINK by UMA-ATech - ECPv6.15.20//NONSGML v1.0//EN
CALSCALE:GREGORIAN
METHOD:PUBLISH
X-WR-CALNAME:LINK by UMA-ATech
X-ORIGINAL-URL:https://www.link.uma.es
X-WR-CALDESC:Eventos para LINK by UMA-ATech
REFRESH-INTERVAL;VALUE=DURATION:PT1H
X-Robots-Tag:noindex
X-PUBLISHED-TTL:PT1H
BEGIN:VTIMEZONE
TZID:UTC
BEGIN:STANDARD
TZOFFSETFROM:+0000
TZOFFSETTO:+0000
TZNAME:UTC
DTSTART:20250101T000000
END:STANDARD
END:VTIMEZONE
BEGIN:VEVENT
DTSTART;TZID=UTC:20260424T100000
DTEND;TZID=UTC:20260424T113000
DTSTAMP:20260425T175356
CREATED:20260420T120958Z
LAST-MODIFIED:20260420T120958Z
UID:62864-1777024800-1777030200@www.link.uma.es
SUMMARY:CW. Tupl: Formación Interna
DESCRIPTION:Coworking\, 4ª planta\, de 10 a 11.30h \nTupl: Formación Interna
URL:https://www.link.uma.es/event/cw-tupl-formacion-interna/
LOCATION:Coworking\, Cuarta Planta\, Avenida Louis Pasteur\, 47\, Málaga\, Málaga\, 29010\, España
ATTACH;FMTTYPE=image/png:https://www.link.uma.es/wp-content/uploads/2019/07/Tupl.png
ORGANIZER;CN="Jes%C3%BAs Cerva. TUPL":MAILTO:jesus.cervera@tupl.com
END:VEVENT
END:VCALENDAR