BEGIN:VCALENDAR
VERSION:2.0
PRODID:-//LINK by UMA-ATech - ECPv6.15.20//NONSGML v1.0//EN
CALSCALE:GREGORIAN
METHOD:PUBLISH
X-WR-CALNAME:LINK by UMA-ATech
X-ORIGINAL-URL:https://www.link.uma.es
X-WR-CALDESC:Eventos para LINK by UMA-ATech
REFRESH-INTERVAL;VALUE=DURATION:PT1H
X-Robots-Tag:noindex
X-PUBLISHED-TTL:PT1H
BEGIN:VTIMEZONE
TZID:UTC
BEGIN:STANDARD
TZOFFSETFROM:+0000
TZOFFSETTO:+0000
TZNAME:UTC
DTSTART:20250101T000000
END:STANDARD
END:VTIMEZONE
BEGIN:VEVENT
DTSTART;TZID=UTC:20260423T090000
DTEND;TZID=UTC:20260423T140000
DTSTAMP:20260423T115620
CREATED:20260305T131839Z
LAST-MODIFIED:20260313T075424Z
UID:62630-1776934800-1776952800@www.link.uma.es
SUMMARY:CW. Formación Univergem
DESCRIPTION:Coworking\, 4ª planta de Link by UMA. de 9 a 14h \nFormación Univergem. \nEl programa está dirigido a mujeres universitarias que deseen mejorar su empleabilidad mediante un acompañamiento individualizado centrado en su proyecto profesional.
URL:https://www.link.uma.es/event/2-02-formacion-univergem/
LOCATION:Coworking\, 4ª planta de Link by UMA
ATTACH;FMTTYPE=image/jpeg:https://www.link.uma.es/wp-content/uploads/2026/03/descarga-1.jpg
ORGANIZER;CN="Isabel Fern%C3%A1ndez Subires. UMA":MAILTO:isabelf@uma.es
END:VEVENT
BEGIN:VEVENT
DTSTART;TZID=UTC:20260423T090000
DTEND;TZID=UTC:20260423T180000
DTSTAMP:20260423T115620
CREATED:20260122T125851Z
LAST-MODIFIED:20260421T084232Z
UID:62359-1776934800-1776967200@www.link.uma.es
SUMMARY:3.01+3.02. Literatura Coreana en la postmodernidad
DESCRIPTION:Salas 3.01 y 3.02\, de 9 a 18h \nLiteratura Coreana en la postmodernidad: Jornada para estudiantes y profesores de la Universidad de Málaga y la Korea University. Temática de literatura coreana.
URL:https://www.link.uma.es/event/3-01-literatura-coreana-en-la-postmodernidad/
LOCATION:Salas 3.01 y 3.02 de Link by UMA
ATTACH;FMTTYPE=image/jpeg:https://www.link.uma.es/wp-content/uploads/2026/01/AreaCiencias_Historicas.jpg
ORGANIZER;CN="M%C2%AA del Mar Blanco Mercado. %C3%81rea de Estudios de Asia Oriental":MAILTO:mariadelmarbm6@uma.es
END:VEVENT
BEGIN:VEVENT
DTSTART;TZID=UTC:20260423T110000
DTEND;TZID=UTC:20260423T140000
DTSTAMP:20260423T115620
CREATED:20260422T122957Z
LAST-MODIFIED:20260422T123038Z
UID:62879-1776942000-1776952800@www.link.uma.es
SUMMARY:2.01. Grabación de podcast
DESCRIPTION:Sala 2.01\, 2ª planta de Link by UMA\, de 11 a 14h \nGrabación de podcast
URL:https://www.link.uma.es/event/2-01-grabacion-de-podcast-4/
LOCATION:Sala 2.01\, Segunda Planta\, Avenida Louis Pasteur\, 47\, Málaga\, Málaga\, 29010\, España
ORGANIZER;CN="Manuel L%C3%B3pez. Dpto. Biolog%C3%ADa Celular%2C Gen%C3%A9tica y Fisiolog%C3%ADa":MAILTO:lopezaranda@uma.es
END:VEVENT
END:VCALENDAR