BEGIN:VCALENDAR
VERSION:2.0
PRODID:-//LINK by UMA-ATech - ECPv6.15.20//NONSGML v1.0//EN
CALSCALE:GREGORIAN
METHOD:PUBLISH
X-ORIGINAL-URL:https://www.link.uma.es
X-WR-CALDESC:Eventos para LINK by UMA-ATech
REFRESH-INTERVAL;VALUE=DURATION:PT1H
X-Robots-Tag:noindex
X-PUBLISHED-TTL:PT1H
BEGIN:VTIMEZONE
TZID:UTC
BEGIN:STANDARD
TZOFFSETFROM:+0000
TZOFFSETTO:+0000
TZNAME:UTC
DTSTART:20250101T000000
END:STANDARD
END:VTIMEZONE
BEGIN:VEVENT
DTSTART;TZID=UTC:20260421T090000
DTEND;TZID=UTC:20260421T140000
DTSTAMP:20260421T094356
CREATED:20260217T122049Z
LAST-MODIFIED:20260313T075142Z
UID:62495-1776762000-1776780000@www.link.uma.es
SUMMARY:CW. Aula IKEA Training: Visual Merchandising
DESCRIPTION:Coworking\, 4ª planta\, de 9 a 14h \nCurso de especialización en Visual Merchandising dirigido a estudiantes de cualquier disciplina con interés en desarrollar las competencias profesionales necesarias para trabajar como visual merchandiser en el sector retail (comercio minorista). \n¿Quieres impulsar tu carrera profesional como visual merchandiser?  \nSi te interesa el mundo del interiorismo y del visual merchandising y quieres trabajar en el sector\, este curso te dará la oportunidad de adquirir las competencias profesionales necesarias para ello de la mano de IKEA\, líder mundial en la venta de muebles y decoración. \n¿Cuál es la función de un visual merchandiser en IKEA? \nEl visual merchandiser da vida a los productos en las tiendas\, en la web y en muchos más sitios. Combinas los colores\, las texturas\, los diseños y los muebles en soluciones prácticas que emocionan\, atraen y convencen\, a quienes visitan IKEA\, de que también pueden hacer lo mismo en sus casas. Sus soluciones\, diseños y presentación del surtido inspiran a la mayoría de las personas para llevarse a casa los productos y disfrutar de una mejor vida en el hogar gracias a ellos. \nFinalizado los tres módulos del curso\, muchos tendréis la oportunidad de realizar prácticas como visual merchandisers en el Departamento de Home Furnishing & Retail Design de la tienda IKEA de Málaga.
URL:https://www.link.uma.es/event/cw-aula-ikea-training-visual-merchandising-3/
LOCATION:Coworking\, 4ª planta de Link by UMA
ATTACH;FMTTYPE=image/jpeg:https://www.link.uma.es/wp-content/uploads/2024/01/Ikea-training.jpg
END:VEVENT
BEGIN:VEVENT
DTSTART;TZID=UTC:20260421T090000
DTEND;TZID=UTC:20260421T140000
DTSTAMP:20260421T094356
CREATED:20260305T131110Z
LAST-MODIFIED:20260313T075227Z
UID:62620-1776762000-1776780000@www.link.uma.es
SUMMARY:2.02. Formación Univergem
DESCRIPTION:Sala 2.02\, 2ª planta de Link by UMA. de 9 a 14h \nFormación Univergem. \nEl programa está dirigido a mujeres universitarias que deseen mejorar su empleabilidad mediante un acompañamiento individualizado centrado en su proyecto profesional.
URL:https://www.link.uma.es/event/cw-formacion-univergem-8/
LOCATION:Sala 2.02\, 2ª planta
ATTACH;FMTTYPE=image/jpeg:https://www.link.uma.es/wp-content/uploads/2026/03/descarga-1.jpg
ORGANIZER;CN="Isabel Fern%C3%A1ndez Subires. UMA":MAILTO:isabelf@uma.es
END:VEVENT
BEGIN:VEVENT
DTSTART;TZID=UTC:20260421T100000
DTEND;TZID=UTC:20260421T140000
DTSTAMP:20260421T094356
CREATED:20260212T105930Z
LAST-MODIFIED:20260212T105930Z
UID:62471-1776765600-1776780000@www.link.uma.es
SUMMARY:3.01+3.02. Reunión ViewNext
DESCRIPTION:Salas 3.01 y 3.02\, 3ª planta de Link by UMA\, de 10 a 14h \nReunión ViewNext
URL:https://www.link.uma.es/event/3-013-02-reunion-viewnext/
LOCATION:Salas 3.01 y 3.02 de Link by UMA
ORGANIZER;CN="Fernando Baena. Director ViewNext M%C3%A1laga":MAILTO:fbaena@viewnext.com
END:VEVENT
END:VCALENDAR