BEGIN:VCALENDAR
VERSION:2.0
PRODID:-//LINK by UMA-ATech - ECPv6.15.20//NONSGML v1.0//EN
CALSCALE:GREGORIAN
METHOD:PUBLISH
X-WR-CALNAME:LINK by UMA-ATech
X-ORIGINAL-URL:https://www.link.uma.es
X-WR-CALDESC:Eventos para LINK by UMA-ATech
REFRESH-INTERVAL;VALUE=DURATION:PT1H
X-Robots-Tag:noindex
X-PUBLISHED-TTL:PT1H
BEGIN:VTIMEZONE
TZID:UTC
BEGIN:STANDARD
TZOFFSETFROM:+0000
TZOFFSETTO:+0000
TZNAME:UTC
DTSTART:20250101T000000
END:STANDARD
END:VTIMEZONE
BEGIN:VEVENT
DTSTART;TZID=UTC:20260417T090000
DTEND;TZID=UTC:20260417T120000
DTSTAMP:20260421T102045
CREATED:20260410T062833Z
LAST-MODIFIED:20260410T062901Z
UID:62781-1776416400-1776427200@www.link.uma.es
SUMMARY:CW. Lab Meeting IHSM
DESCRIPTION:Coworking\, 4ª planta de Link by UMA\, de 9 a 12h \nLab Meeting IHSM
URL:https://www.link.uma.es/event/cw-lab-meeting-ihsm/
LOCATION:Coworking\, 4ª planta de Link by UMA
ATTACH;FMTTYPE=image/jpeg:https://www.link.uma.es/wp-content/uploads/2025/11/IHSM.jpeg
ORGANIZER;CN="Ver%C3%B3nica Gonz%C3%A1lez. IHSM":MAILTO:veroglez@ihsm.uma-csic.es
END:VEVENT
BEGIN:VEVENT
DTSTART;TZID=UTC:20260417T090000
DTEND;TZID=UTC:20260417T173000
DTSTAMP:20260421T102045
CREATED:20260305T122410Z
LAST-MODIFIED:20260413T075701Z
UID:62596-1776416400-1776447000@www.link.uma.es
SUMMARY:S.A+ 2.02+CW. 25 Jornadas de Avances en Hepatología 2026
DESCRIPTION:Salón de Actos\, de 15.30 a 19.30h. Sala 2.02 de 10.30 a 11h (Coffe Brake)\, Coworking de 12.30 a 16h (Almuerzo) \n25 Jornadas de Avances en Hepatología 2026 \nDurante estas jornadas se discutirán numerosos temas de actualidad e interés en Hepatología que serán impartidos por profesionales con reconocimiento internacional en la materia. Estas jornadas brindarán posibilidades de encuentro y establecimiento de colaboración en una atmósfera distendida y cordial y en un marco privilegiado\, que es el que ofrece nuestra ciudad particularmente en esta época del año. Las Jornadas de Hepatología de Málaga son ya un curso de referencia en el panorama nacional. \nComo motivo del 25 aniversario de este evento se ha diseñado además una mesa especial de Avances en DILI con expertos internacionales de prestigio. \nEl programa se estructurará en torno a 5 mesas redondas y una conferencia especial impartida por el Dr. Pietro Invernizzi del Center for Autoinmune Liver Diseases\, Monza (Italy)\, experto mundial en enfermedades autoinmunes del hígado. \nAdemás\, el curso está pendiente de ser acreditado por la Dirección General de Investigación y Gestión del Conocimiento de la Consejería de Salud de la Junta de Andalucía. También tiene el reconocimiento de interés sanitario-científico por la Junta de Andalucía. También tiene validez  como Actividad Formativa de Doctorado\, 2 créditos (50 horas). Programa Doctorado BIOMEDICINA\, INVESTIGACIÓN TRASLACIONAL Y NUEVAS TECNOLOGÍAS EN SALUD\, Facultad de Medicina\, Universidad de Málaga.
URL:https://www.link.uma.es/event/s-a-25-jornadas-de-avances-en-hepatologia-2026-2/
LOCATION:Salón de Actos\, Planta Baja\, Avenida Louis Pasteur\, 47\, Málaga\, Málaga\, 29010\, España
ATTACH;FMTTYPE=image/jpeg:https://www.link.uma.es/wp-content/uploads/2026/03/BANNER125X500_2026_FY7csqK.jpg
ORGANIZER;CN="Ra%C3%BAl Jes%C3%BAs Andrade .Medicina UMA":MAILTO:andrade@uma.es
END:VEVENT
BEGIN:VEVENT
DTSTART;TZID=UTC:20260417T100000
DTEND;TZID=UTC:20260417T200000
DTSTAMP:20260421T102045
CREATED:20260305T085709Z
LAST-MODIFIED:20260417T063358Z
UID:62587-1776420000-1776456000@www.link.uma.es
SUMMARY:3.01+3.02. Rock your Research by Creativelab
DESCRIPTION:Salas 3.01 y 3.02\, 3ª planta de Link by UMA\, de 10 a 20h \nRock your Research by Creativelab \nFormación presencial para desarrollar habilidades creativas. Descubrirás cómo entrenar la creatividad\, con estrategias\, metodologías para desarrollar proyectos.
URL:https://www.link.uma.es/event/3-013-02-rock-your-research-by-creativelab/
LOCATION:Salas 3.01 y 3.02 de Link by UMA
ATTACH;FMTTYPE=image/jpeg:https://www.link.uma.es/wp-content/uploads/2026/03/Rock-it-Lab-scaled.jpg
ORGANIZER;CN="Juan Aguilar. Creative Lab":MAILTO:jaguilar uma
END:VEVENT
BEGIN:VEVENT
DTSTART;TZID=UTC:20260417T103000
DTEND;TZID=UTC:20260417T143000
DTSTAMP:20260421T102045
CREATED:20260406T081733Z
LAST-MODIFIED:20260406T081733Z
UID:62761-1776421800-1776436200@www.link.uma.es
SUMMARY:2.01. Workshop: 2md Latin Institution & Entrepreneurship (LATININsEnt)
DESCRIPTION:Sala 2.01\, 2ª planta de Link by UMA\, de 11 a 14h \n2md Latin Institution & Entrepreneurship (LATININsEnt) Workshop \n10.45 – 11.00: Inauguración oficial del II LATInsEnt Workshop.\n11.00 – 12.00: Herramientas y metodologías para el diseño de estrategias de emprendimiento.\n12.00 – 13.00: Instituciones y Universidad Emprendedora: UMA InnTech\, nuevos modelos en el ecosistema de innovación.\n13.00 – 14.00: Engaged University: Iniciativas para integrar arte\, ciencia y sociedad.
URL:https://www.link.uma.es/event/2-01-workshop-2md-latin-institution-entrepreneurship-latininsent/
LOCATION:Sala 2.01\, Segunda Planta\, Avenida Louis Pasteur\, 47\, Málaga\, Málaga\, 29010\, España
ATTACH;FMTTYPE=image/png:https://www.link.uma.es/wp-content/uploads/2026/04/CES-3D-Claro.png
END:VEVENT
END:VCALENDAR