BEGIN:VCALENDAR
VERSION:2.0
PRODID:-//LINK by UMA-ATech - ECPv6.15.20//NONSGML v1.0//EN
CALSCALE:GREGORIAN
METHOD:PUBLISH
X-WR-CALNAME:LINK by UMA-ATech
X-ORIGINAL-URL:https://www.link.uma.es
X-WR-CALDESC:Eventos para LINK by UMA-ATech
REFRESH-INTERVAL;VALUE=DURATION:PT1H
X-Robots-Tag:noindex
X-PUBLISHED-TTL:PT1H
BEGIN:VTIMEZONE
TZID:UTC
BEGIN:STANDARD
TZOFFSETFROM:+0000
TZOFFSETTO:+0000
TZNAME:UTC
DTSTART:20250101T000000
END:STANDARD
END:VTIMEZONE
BEGIN:VEVENT
DTSTART;TZID=UTC:20260319T090000
DTEND;TZID=UTC:20260319T140000
DTSTAMP:20260420T050934
CREATED:20260305T123501Z
LAST-MODIFIED:20260305T123501Z
UID:62601-1773910800-1773928800@www.link.uma.es
SUMMARY:3.01. Inauguración programa UNIVERGEM
DESCRIPTION:Sala 3.01\, 3ª planta de Link by UMA\, de 9 a 14h \nInauguración oficial del programa UNIVERGEM. \nEl Vicerrectorado de Estudiantes y Empleabilidad de la Universidad de Málaga\, gracias a la subvención recibida por el Instituto Andaluz de la Mujer de la Junta de Andalucía\, pone en marcha el Programa UNIVERGEM 2025\, que tiene como finalidad promover actuaciones innovadoras y contextualizadas para incentivar el empleo\, el autoempleo y el emprendimiento entre las mujeres universitarias\, favoreciendo la igualdad de oportunidades entre mujeres y hombres.
URL:https://www.link.uma.es/event/3-01-inauguracion-programa-univergem/
LOCATION:Salas 3.01 y 3.02 de Link by UMA
ORGANIZER;CN="Isabel Fern%C3%A1ndez Subires. UMA":MAILTO:isabelf@uma.es
END:VEVENT
BEGIN:VEVENT
DTSTART;TZID=UTC:20260319T150000
DTEND;TZID=UTC:20260319T160000
DTSTAMP:20260420T050934
CREATED:20260223T105205Z
LAST-MODIFIED:20260223T105205Z
UID:62551-1773932400-1773936000@www.link.uma.es
SUMMARY:CW: Visita alumnado FICO
DESCRIPTION:Coworking\, 4ª planta\, de 15 a 16h \nVisita del alumnado de FICO de la mano de su profesor Daniel Nadales\, encargado de impartir la asignatura de Creación de Empresas. Bienvenid@s a Link by UMA!!!
URL:https://www.link.uma.es/event/cw-visita-alumnado-fico/
LOCATION:Coworking\, Cuarta Planta\, Avenida Louis Pasteur\, 47\, Málaga\, Málaga\, 29010\, España
END:VEVENT
BEGIN:VEVENT
DTSTART;TZID=UTC:20260319T160000
DTEND;TZID=UTC:20260319T180000
DTSTAMP:20260420T050934
CREATED:20251009T074919Z
LAST-MODIFIED:20251009T074919Z
UID:61698-1773936000-1773943200@www.link.uma.es
SUMMARY:S.A. Microcredencial «Enhancing the Quality of Academic Writing»
DESCRIPTION:Salón de Actos\, planta baja de Link by UMA\, de 16 19h \nMicrocredencial «Enhancing the Quality of Academic Writing» \nEsta formación está dirigida a mejorar las habilidades de escritura académica del alumnado de doctorado para la elaboración y publicación de trabajos de investigación en el contexto actual dotando a las personas participantes de los conocimientos claves para la correcta redacción y presentación de trabajos académicos en inglés\, además de un acercamiento inicial al uso de la IA en la escritura académica.
URL:https://www.link.uma.es/event/s-a-microcredencial-enhancing-the-quality-of-academic-writing-15/
LOCATION:Salón de Actos\, Planta Baja\, Avenida Louis Pasteur\, 47\, Málaga\, Málaga\, 29010\, España
ATTACH;FMTTYPE=image/png:https://www.link.uma.es/wp-content/uploads/2025/09/Escuela-Doctorado-uma.png
ORGANIZER;CN="M%C2%AA Victoria Arenas Valero. Vicerrectorado de Doctorado y Posgrado.":MAILTO:v.arenas@uma.es
END:VEVENT
BEGIN:VEVENT
DTSTART;TZID=UTC:20260319T160000
DTEND;TZID=UTC:20260319T203000
DTSTAMP:20260420T050934
CREATED:20251124T091037Z
LAST-MODIFIED:20251124T091037Z
UID:62032-1773936000-1773952200@www.link.uma.es
SUMMARY:2.01+3.01+3.02. Reunión Anual Soludable 2026
DESCRIPTION:Salas 2.01+3.01 y 3.02\, de 16 a 20h \nReunión Anual Soludable 2026 \nLa Reunión Anual de Soludable supone el encuentro de un grupo formado por más de 90 expertos de diferentes áreas\, profesionales sanitarios\, profesorado de educación primaria\, secundaria y universitaria\, expertos de prevención de riesgos laborales\, nutricionistas y cocineros entre\, otros muchos. \nLa Reunión Soludable de 2026 será un momento para echar una mirada hacia atrás\, pero también para «poner las cartas sobre la mesa» en materia de exposición solar\, prevención de cáncer de piel y fotoprotección. Hoy en día\, en un mundo saturado de información\, hemos de conocer los desafíos\, las cuestiones y las dudas que están en el aire para poder dar una respuesta con seguridad a las preguntas\, o simplemente reconocer que la ciencia aún no ha dado solución para algún tema. \nCon un formato de charlas de TED\, expertos de dermatología\, fotobiología\, y otros campos relacionados con la prevención del cáncer de piel en diferentes ámbitos de la sociedad\, darán a conocer la actualidad e invitarán a poner en común las dudas\, inquietudes y preocupaciones del comité asesor del proyecto.
URL:https://www.link.uma.es/event/2-013-013-02-reunion-anual-soludable-2026/
LOCATION:Salas 2.01 + 3.01 + 3.02 de Link by UMA\, Avenida Louis Pasteur\, 47\, Málaga\, Málaga\, 29010\, España
ATTACH;FMTTYPE=image/jpeg:https://www.link.uma.es/wp-content/uploads/2021/07/logo-soludable.jpg
ORGANIZER;CN="Andris Subert. Comunicaci%C3%B3n Grupo Soludable":MAILTO:Comunicacion Soludable
END:VEVENT
END:VCALENDAR