BEGIN:VCALENDAR
VERSION:2.0
PRODID:-//LINK by UMA-ATech - ECPv6.15.20//NONSGML v1.0//EN
CALSCALE:GREGORIAN
METHOD:PUBLISH
X-ORIGINAL-URL:https://www.link.uma.es
X-WR-CALDESC:Eventos para LINK by UMA-ATech
REFRESH-INTERVAL;VALUE=DURATION:PT1H
X-Robots-Tag:noindex
X-PUBLISHED-TTL:PT1H
BEGIN:VTIMEZONE
TZID:UTC
BEGIN:STANDARD
TZOFFSETFROM:+0000
TZOFFSETTO:+0000
TZNAME:UTC
DTSTART:20250101T000000
END:STANDARD
END:VTIMEZONE
BEGIN:VEVENT
DTSTART;TZID=UTC:20260313T093000
DTEND;TZID=UTC:20260313T133000
DTSTAMP:20260420T080758
CREATED:20260212T105007Z
LAST-MODIFIED:20260309T120401Z
UID:62468-1773394200-1773408600@www.link.uma.es
SUMMARY:3.01+S.A. MicroHackathon Ciencias
DESCRIPTION:Sala 3.01 + Salón de Actos\, de 9.30 a 13.30h \n¡Desarrolla tus capacidades emprendedoras en la microHackathon Ciencias organizada por la Fcaultad de Ciencias de la Universidad de Málaga y Link by UMA-ATech! \nEsta actividad está destinada a alumnado de los grados de Biología\, Bioquímica\, Ciencias Ambientales\, Ingeniería Química\, Matemáticas y Química de todos los cursos de la Facultad de\nCiencias de la Universidad de Málaga. \nEspacios:\n○ Miércoles 11 de marzo de 2026 – Aula T6 (Torre\, Facultad de Ciencias)\n○ Jueves 12 de marzo de 2026 – Aula T6 (Torre\, Facultad de Ciencias)\n○ Viernes 13 de marzo de 2026 – Sala de trabajo de la tercera planta + Salón de Actosde Link by UMA-ATech
URL:https://www.link.uma.es/event/s-a-microhackathon-ciencias/
LOCATION:Salón de Actos + 3.01
ATTACH;FMTTYPE=image/png:https://www.link.uma.es/wp-content/uploads/2026/02/Screenshot_2026-03-09-11-10-42-922_com.android.chrome.png
ORGANIZER;CN="%C3%81ngel Navarro Fern%C3%A1ndez. Cicerone de Emprendimiento UMA":MAILTO:angelnavfer@uma.es
END:VEVENT
BEGIN:VEVENT
DTSTART;TZID=UTC:20260313T120000
DTEND;TZID=UTC:20260313T130000
DTSTAMP:20260420T080758
CREATED:20260313T095358Z
LAST-MODIFIED:20260313T095358Z
UID:62672-1773403200-1773406800@www.link.uma.es
SUMMARY:2.02. Tupl. Reunión interna
DESCRIPTION:Sala 2.02\, 2ª planta de Link by UMA\, de 12 a 13h \nReunión interna de la empresa Tupl
URL:https://www.link.uma.es/event/2-02-tupl-reunion-interna/
LOCATION:Sala 2.02\, 2ª planta
ORGANIZER;CN="Ayoub Boujir. Tupl":MAILTO:ayoub.boujir@tupl.com
END:VEVENT
END:VCALENDAR