BEGIN:VCALENDAR
VERSION:2.0
PRODID:-//LINK by UMA-ATech - ECPv6.15.20//NONSGML v1.0//EN
CALSCALE:GREGORIAN
METHOD:PUBLISH
X-WR-CALNAME:LINK by UMA-ATech
X-ORIGINAL-URL:https://www.link.uma.es
X-WR-CALDESC:Eventos para LINK by UMA-ATech
REFRESH-INTERVAL;VALUE=DURATION:PT1H
X-Robots-Tag:noindex
X-PUBLISHED-TTL:PT1H
BEGIN:VTIMEZONE
TZID:UTC
BEGIN:STANDARD
TZOFFSETFROM:+0000
TZOFFSETTO:+0000
TZNAME:UTC
DTSTART:20250101T000000
END:STANDARD
END:VTIMEZONE
BEGIN:VEVENT
DTSTART;TZID=UTC:20260311T100000
DTEND;TZID=UTC:20260311T120000
DTSTAMP:20260420T050845
CREATED:20260116T094652Z
LAST-MODIFIED:20260116T094652Z
UID:62315-1773223200-1773230400@www.link.uma.es
SUMMARY:3.01 Miércoles x la Orientación
DESCRIPTION:3.01\, 3ª planta – 10.00 a 12.00 h \nHoy tendremos la sesión presencial del alumnado que realiza los cursos sobre desarrollo de competencias: Enfoca tu futuro\, Soft & Digital Skills y Actitud Emprendedora \nLa sesión versará sobre Recursos de formación y Empleo dirigido al colectivo universitario
URL:https://www.link.uma.es/event/3-01-miercoles-x-la-orientacion/
LOCATION:Sala 3.01\, Tercera Planta\, Avenida Louis Pasteur\, 47\, Málaga\, Málaga\, 29010\, España
ATTACH;FMTTYPE=image/jpeg:https://www.link.uma.es/wp-content/uploads/2022/10/miercoles-pro-el-empleo.jpg
ORGANIZER;CN="Laura Marcos. Orientaci%C3%B3n UMA":MAILTO:lauramarcos@uma.es
END:VEVENT
BEGIN:VEVENT
DTSTART;TZID=UTC:20260311T100000
DTEND;TZID=UTC:20260311T120000
DTSTAMP:20260420T050845
CREATED:20260202T114629Z
LAST-MODIFIED:20260202T114629Z
UID:62396-1773223200-1773230400@www.link.uma.es
SUMMARY:2.02 Miércoles x la Orientación - Elaboración del cv y búsqueda de empleo
DESCRIPTION:2.02\, 2ª planta – 10.00 a 12.00 h \nTaller dirigido al alumnado y egresados de la Universidad de Málaga. \nCon este taller aprenderás a elaborar un buen currículum para no ser eliminado en la primera fase de un proceso de selección. Además\, te presentaremos distintas opciones para conseguir ese empleo que te interesa. \n 
URL:https://www.link.uma.es/event/2-02-miercoles-x-la-orientacion-elaboracion-del-cv-y-busqueda-de-empleo/
LOCATION:Sala 2.02\, 2ª planta
ATTACH;FMTTYPE=image/jpeg:https://www.link.uma.es/wp-content/uploads/2022/10/miercoles-pro-el-empleo.jpg
ORGANIZER;CN="Laura Marcos. Orientaci%C3%B3n UMA":MAILTO:lauramarcos@uma.es
END:VEVENT
BEGIN:VEVENT
DTSTART;TZID=UTC:20260311T100000
DTEND;TZID=UTC:20260311T120000
DTSTAMP:20260420T050845
CREATED:20260310T101500Z
LAST-MODIFIED:20260310T101534Z
UID:62643-1773223200-1773230400@www.link.uma.es
SUMMARY:2.01. Grabación programa Tesis
DESCRIPTION:Sala 2.01\, 2ª planta de Link by UMA\, de 10 a 12h \nGrabación programa Tesis de Canal Sur. \nPrograma divulgativo cuyo principal objetivo es acercar a la audiencia el trabajo que se realiza desde las universidades andaluzas.
URL:https://www.link.uma.es/event/2-01-grabacion-programa-tesis/
LOCATION:Sala 2.01\, Segunda Planta\, Avenida Louis Pasteur\, 47\, Málaga\, Málaga\, 29010\, España
ORGANIZER;CN="Alejandro Florido. Pr%C3%A1cticas Erasmus. UMA":MAILTO:florido@uma.es
END:VEVENT
BEGIN:VEVENT
DTSTART;TZID=UTC:20260311T120000
DTEND;TZID=UTC:20260311T140000
DTSTAMP:20260420T050845
CREATED:20260305T090053Z
LAST-MODIFIED:20260305T090053Z
UID:62589-1773230400-1773237600@www.link.uma.es
SUMMARY:2.02. Tutoría Prácticas Erasmus+
DESCRIPTION:Sala 2.02\, 2ª planta\, de 12 a 14h \nTutoría Prácticas Erasmus+ 2025/2026 Grado\, Máster y Docotorado
URL:https://www.link.uma.es/event/2-02-tutoria-practicas-erasmus-3/
LOCATION:Sala 2.02\, 2ª planta
ATTACH;FMTTYPE=image/png:https://www.link.uma.es/wp-content/uploads/2023/03/erasmus-logo.png
END:VEVENT
BEGIN:VEVENT
DTSTART;TZID=UTC:20260311T150000
DTEND;TZID=UTC:20260311T180000
DTSTAMP:20260420T050845
CREATED:20250918T103758Z
LAST-MODIFIED:20250918T103758Z
UID:61448-1773241200-1773252000@www.link.uma.es
SUMMARY:SA+3.01+CW: Empowering communication in academic and leadership enviroments
DESCRIPTION:Salón de Actos\, de 15 a 16h + Sala 3.01 y Coworking\, de 15:30 a 18h \nEmpowering communication in academic and leadership enviroments. Fortalecimiento de la Comunicación en Contextos Académicos y de Liderazgo. \nEl curso\, impartido bajo modalidad semipresencial\, se compone de 6 módulos formativos\, siendo el primero introductorio y el último correspondiente al desarrollo y\nentrega de los proyectos finales\, y los cuatro restantes de formación específica: \n1. Presentación del curso\, reflexión-debate y benchmarking inicial (online\, 0\,5 ECTS). 5 horas lectivas (5 online síncronas) y 7\,5 horas no lectivas.\n2. Identidad digital y visibilidad científica online (híbrido\, 1 ECTS). 10 h lectivas (4 presenciales y 6 online síncronas) y 15 h no lectivas.\n3. Comunicación académica oral y escrita: componentes y técnicas clave (híbrido\, 1\,25 ECTS). 12\,5 h lectivas (5 presenciales y 7\,5 online síncronas) y 18\,75 h no lectivas.\n4. Presentaciones científicas eficaces e innovadoras: storytelling y visualización de la información (híbrido\, 0\,75 ECTS). 7 horas lectivas (3 presenciales y 4 online síncronas) y 10\,5 horas no lectivas.\n5. Comunicación académica multimedia en Entornos Digitales e Híbridos (híbrido\, 0\,75 ECTS). 7\,5 horas lectivas (3 presenciales y 4\,5 online síncronas) y 10 horas no lectivas.\n6. Proyecto final (tutorización\, entrega y evaluación) (híbrido\, 0\,75 ECTS). 7\,5 horas lectivas (4 presenciales y 3\,5 online síncronas) y 10 horas no lectivas.
URL:https://www.link.uma.es/event/sa3-01cw-empowering-communication-in-academic-and-leadership-enviroments-4/
LOCATION:Coworking+3.01+Salón de Actos
ATTACH;FMTTYPE=image/png:https://www.link.uma.es/wp-content/uploads/2025/09/Escuela-Doctorado-uma.png
ORGANIZER;CN="Llanos Mora L%C3%B3pez%3A Directora Servicio Docotorado UMA":MAILTO:llanos@uma.es
END:VEVENT
BEGIN:VEVENT
DTSTART;TZID=UTC:20260311T160000
DTEND;TZID=UTC:20260311T190000
DTSTAMP:20260420T050845
CREATED:20260109T130130Z
LAST-MODIFIED:20260109T130130Z
UID:62286-1773244800-1773255600@www.link.uma.es
SUMMARY:S.A. Microcredencial «Enhancing the Quality of Academic Writing»
DESCRIPTION:Salón de Actos\, planta baja de Link by UMA\, de 16 19h \nMicrocredencial «Enhancing the Quality of Academic Writing» \nEsta formación está dirigida a mejorar las habilidades de escritura académica del alumnado de doctorado para la elaboración y publicación de trabajos de investigación en el contexto actual dotando a las personas participantes de los conocimientos claves para la correcta redacción y presentación de trabajos académicos en inglés\, además de un acercamiento inicial al uso de la IA en la escritura académica.
URL:https://www.link.uma.es/event/s-a-microcredencial-enhancing-the-quality-of-academic-writing-21/
LOCATION:Salón de Actos\, Planta Baja\, Avenida Louis Pasteur\, 47\, Málaga\, Málaga\, 29010\, España
ATTACH;FMTTYPE=image/png:https://www.link.uma.es/wp-content/uploads/2025/09/Escuela-Doctorado-uma.png
ORGANIZER;CN="M%C2%AA Victoria Arenas Valero. Vicerrectorado de Doctorado y Posgrado.":MAILTO:v.arenas@uma.es
END:VEVENT
END:VCALENDAR