BEGIN:VCALENDAR
VERSION:2.0
PRODID:-//LINK by UMA-ATech - ECPv6.15.20//NONSGML v1.0//EN
CALSCALE:GREGORIAN
METHOD:PUBLISH
X-ORIGINAL-URL:https://www.link.uma.es
X-WR-CALDESC:Eventos para LINK by UMA-ATech
REFRESH-INTERVAL;VALUE=DURATION:PT1H
X-Robots-Tag:noindex
X-PUBLISHED-TTL:PT1H
BEGIN:VTIMEZONE
TZID:UTC
BEGIN:STANDARD
TZOFFSETFROM:+0000
TZOFFSETTO:+0000
TZNAME:UTC
DTSTART:20250101T000000
END:STANDARD
END:VTIMEZONE
BEGIN:VEVENT
DTSTART;TZID=UTC:20260309T090000
DTEND;TZID=UTC:20260309T140000
DTSTAMP:20260420T033354
CREATED:20260305T124051Z
LAST-MODIFIED:20260305T124051Z
UID:62603-1773046800-1773064800@www.link.uma.es
SUMMARY:2.01. Reunión Grupo Soludable
DESCRIPTION:Sala 2.01\, 2ª planta de Link by UMA\, de 9 a 14h \nReunión Grupo Estratégico Soludable.
URL:https://www.link.uma.es/event/2-01-reunion-grupo-soludable-2/
LOCATION:Sala 2.01\, Segunda Planta\, Avenida Louis Pasteur\, 47\, Málaga\, Málaga\, 29010\, España
ORGANIZER;CN="Ximena Montoya. Grupo Soludable":MAILTO:fotolaboral.soludable@gmail.com
END:VEVENT
BEGIN:VEVENT
DTSTART;TZID=UTC:20260309T153000
DTEND;TZID=UTC:20260309T203000
DTSTAMP:20260420T033354
CREATED:20260309T105205Z
LAST-MODIFIED:20260309T105205Z
UID:62634-1773070200-1773088200@www.link.uma.es
SUMMARY:2.01. Máster Biotecnología Avanzada
DESCRIPTION:Sala 2.01. 2ª planta de Link by UMA\, de 15.30 a 20.30h \nMáster Biotecnología Avanzada
URL:https://www.link.uma.es/event/2-01-master-biotecnologia-avanzada/
LOCATION:Sala 2.01\, Segunda Planta\, Avenida Louis Pasteur\, 47\, Málaga\, Málaga\, 29010\, España
ORGANIZER;CN="M%C2%AA %C3%81ngeles Rastrollo. C%C3%A1tedra Extenda de Internacionalizaci%C3%B3n UMA.":MAILTO:rastrollo@uma.es
END:VEVENT
END:VCALENDAR