BEGIN:VCALENDAR
VERSION:2.0
PRODID:-//LINK by UMA-ATech - ECPv6.15.20//NONSGML v1.0//EN
CALSCALE:GREGORIAN
METHOD:PUBLISH
X-ORIGINAL-URL:https://www.link.uma.es
X-WR-CALDESC:Eventos para LINK by UMA-ATech
REFRESH-INTERVAL;VALUE=DURATION:PT1H
X-Robots-Tag:noindex
X-PUBLISHED-TTL:PT1H
BEGIN:VTIMEZONE
TZID:UTC
BEGIN:STANDARD
TZOFFSETFROM:+0000
TZOFFSETTO:+0000
TZNAME:UTC
DTSTART:20250101T000000
END:STANDARD
END:VTIMEZONE
BEGIN:VEVENT
DTSTART;TZID=UTC:20260306T090000
DTEND;TZID=UTC:20260306T140000
DTSTAMP:20260420T063731
CREATED:20260203T072907Z
LAST-MODIFIED:20260210T111709Z
UID:62418-1772787600-1772805600@www.link.uma.es
SUMMARY:3.01+3.2. In-Person International Conference
DESCRIPTION:Salas 3.01 y 3.02\, 3ª planta de Link by UMA\, de 9 a 18h \nIn-Person International Conference \nECO ASSEMBLAGES: NEW PERSPECTIVES ON ENVIRONMENTAL HUMANITIES\n5-6 March 2026\nUniversity of Málaga \nCongreso organizado por Rosario Arias
URL:https://www.link.uma.es/event/3-013-2-rosario-arias/
LOCATION:Salas 3.01 y 3.02 de Link by UMA
ORGANIZER;CN="Rosario Arias. Literatura Inglesa. UMA":MAILTO:rarias@uma.es
END:VEVENT
END:VCALENDAR