BEGIN:VCALENDAR
VERSION:2.0
PRODID:-//LINK by UMA-ATech - ECPv6.15.20//NONSGML v1.0//EN
CALSCALE:GREGORIAN
METHOD:PUBLISH
X-WR-CALNAME:LINK by UMA-ATech
X-ORIGINAL-URL:https://www.link.uma.es
X-WR-CALDESC:Eventos para LINK by UMA-ATech
REFRESH-INTERVAL;VALUE=DURATION:PT1H
X-Robots-Tag:noindex
X-PUBLISHED-TTL:PT1H
BEGIN:VTIMEZONE
TZID:UTC
BEGIN:STANDARD
TZOFFSETFROM:+0000
TZOFFSETTO:+0000
TZNAME:UTC
DTSTART:20250101T000000
END:STANDARD
END:VTIMEZONE
BEGIN:VEVENT
DTSTART;TZID=UTC:20260305T090000
DTEND;TZID=UTC:20260305T140000
DTSTAMP:20260420T162703
CREATED:20251118T103856Z
LAST-MODIFIED:20251118T103856Z
UID:62007-1772701200-1772719200@www.link.uma.es
SUMMARY:CW Formación Metro Málaga
DESCRIPTION:Coworking\, 4ª planta – 09.00 a 14.00 h \nTendrá lugar una formación de Metro Málaga
URL:https://www.link.uma.es/event/cw-formacion-metro-malaga-8/
LOCATION:Coworking\, 4ª planta de Link by UMA
ATTACH;FMTTYPE=image/png:https://www.link.uma.es/wp-content/uploads/2021/10/MetroMálaga.png
ORGANIZER;CN="Antonio Leiva - Metro M%C3%A1laga":MAILTO:a.leiva@metromalaga.es
END:VEVENT
BEGIN:VEVENT
DTSTART;TZID=UTC:20260305T090000
DTEND;TZID=UTC:20260305T180000
DTSTAMP:20260420T162703
CREATED:20260203T072656Z
LAST-MODIFIED:20260210T111630Z
UID:62416-1772701200-1772733600@www.link.uma.es
SUMMARY:3.01+3.02: In-Person International Conference
DESCRIPTION:Salas 3.01 y 3.02\, 3ª planta de Link by UMA\, de 9 a 18h \nIn-Person International Conference \nECO ASSEMBLAGES: NEW PERSPECTIVES ON ENVIRONMENTAL HUMANITIES\n5-6 March 2026\nUniversity of Málaga \nCongreso organizado por Rosario Arias
URL:https://www.link.uma.es/event/3-013-02-rosario-arias/
LOCATION:Salas 3.01 y 3.02\, 3ª planta
ORGANIZER;CN="Rosario Arias. Literatura Inglesa. UMA":MAILTO:rarias@uma.es
END:VEVENT
BEGIN:VEVENT
DTSTART;TZID=UTC:20260305T160000
DTEND;TZID=UTC:20260305T180000
DTSTAMP:20260420T162703
CREATED:20251009T074518Z
LAST-MODIFIED:20251009T074518Z
UID:61694-1772726400-1772733600@www.link.uma.es
SUMMARY:S.A. Microcredencial «Enhancing the Quality of Academic Writing»
DESCRIPTION:Salón de Actos\, planta baja de Link by UMA\, de 16 19h \nMicrocredencial «Enhancing the Quality of Academic Writing» \nEsta formación está dirigida a mejorar las habilidades de escritura académica del alumnado de doctorado para la elaboración y publicación de trabajos de investigación en el contexto actual dotando a las personas participantes de los conocimientos claves para la correcta redacción y presentación de trabajos académicos en inglés\, además de un acercamiento inicial al uso de la IA en la escritura académica.
URL:https://www.link.uma.es/event/s-a-microcredencial-enhancing-the-quality-of-academic-writing-13/
LOCATION:Salón de Actos\, Planta Baja\, Avenida Louis Pasteur\, 47\, Málaga\, Málaga\, 29010\, España
ATTACH;FMTTYPE=image/png:https://www.link.uma.es/wp-content/uploads/2025/09/Escuela-Doctorado-uma.png
ORGANIZER;CN="M%C2%AA Victoria Arenas Valero. Vicerrectorado de Doctorado y Posgrado.":MAILTO:v.arenas@uma.es
END:VEVENT
BEGIN:VEVENT
DTSTART;TZID=UTC:20260305T170000
DTEND;TZID=UTC:20260305T190000
DTSTAMP:20260420T162703
CREATED:20260305T122830Z
LAST-MODIFIED:20260305T122830Z
UID:62598-1772730000-1772737200@www.link.uma.es
SUMMARY:2.01. Grabación de podcast
DESCRIPTION:Sala 2.01\, de 17 a 19h \nGrabación de podcast «Espacio Rojiblanco» en Spotify \n 
URL:https://www.link.uma.es/event/2-01-grabacion-de-podcast-3/
LOCATION:Sala 2.01\, Segunda Planta\, Avenida Louis Pasteur\, 47\, Málaga\, Málaga\, 29010\, España
ORGANIZER;CN="Alex S%C3%A1nchez Guardia. UMA":MAILTO:alexsanchezguardia15@uma.es
END:VEVENT
END:VCALENDAR