BEGIN:VCALENDAR
VERSION:2.0
PRODID:-//LINK by UMA-ATech - ECPv6.15.20//NONSGML v1.0//EN
CALSCALE:GREGORIAN
METHOD:PUBLISH
X-WR-CALNAME:LINK by UMA-ATech
X-ORIGINAL-URL:https://www.link.uma.es
X-WR-CALDESC:Eventos para LINK by UMA-ATech
REFRESH-INTERVAL;VALUE=DURATION:PT1H
X-Robots-Tag:noindex
X-PUBLISHED-TTL:PT1H
BEGIN:VTIMEZONE
TZID:UTC
BEGIN:STANDARD
TZOFFSETFROM:+0000
TZOFFSETTO:+0000
TZNAME:UTC
DTSTART:20250101T000000
END:STANDARD
END:VTIMEZONE
BEGIN:VEVENT
DTSTART;TZID=UTC:20260302T090000
DTEND;TZID=UTC:20260302T140000
DTSTAMP:20260421T120444
CREATED:20260119T104003Z
LAST-MODIFIED:20260223T130119Z
UID:62338-1772442000-1772460000@www.link.uma.es
SUMMARY:3.01+2.01. Educathon 26 - Girls in STEM
DESCRIPTION:Salas 3.01 y 2.01\, de 9 a 14h \nEducathon 26 – Girls in STEM\, un espacio diseñado para la creación de propuestas didácticas\, que contribuyan a la equidad e igualdad de género en el acceso a la educación científica y visibilicen el papel de la mujer en la ciencia.
URL:https://www.link.uma.es/event/s-a3-01-educathon-26-girls-in-stem/
LOCATION:Salas 3.01 y 2.01
ATTACH;FMTTYPE=image/jpeg:https://www.link.uma.es/wp-content/uploads/2025/02/LogoEducathon.jpg
ORGANIZER;CN="Cristina Garc%C3%ADa Ruiz. Dept. Ciencias de la Educaci%C3%B3n UMA":MAILTO:crisgarcia@uma.es
END:VEVENT
BEGIN:VEVENT
DTSTART;TZID=UTC:20260302T100000
DTEND;TZID=UTC:20260302T130000
DTSTAMP:20260421T120444
CREATED:20260223T111400Z
LAST-MODIFIED:20260223T112822Z
UID:62557-1772445600-1772456400@www.link.uma.es
SUMMARY:S.A. Inauguración 11ª Feria de Empleo UMA
DESCRIPTION:11ª Feria de Empleo de la Universidad de Málaga \n\nDel 25/FEB al 4/MAR/26 vuelve la Feria de Empleo de la Universidad de Málaga\, con actividades presenciales en tu Centro UMA para trabajar tu empleabilidad. Y los días 3-4/MAR/26 en nuestra Feria de Empleo Online\, tendrás contacto directo con empresas en busca de talento universitario y podrás ver sus ofertas de empleo y prácticas y aplicar a ellas.
URL:https://www.link.uma.es/event/s-a-inauguracion-11a-feria-de-empleo-uma/
LOCATION:Salón de Actos\, Planta Baja\, Avenida Louis Pasteur\, 47\, Málaga\, Málaga\, 29010\, España
ATTACH;FMTTYPE=image/png:https://www.link.uma.es/wp-content/uploads/2026/02/cartelcolgado-11FEUMA-1.png
ORGANIZER;CN="Antonio Pe%C3%B1afiel. Director Servicio Empleabilidad y Emprendimiento.":MAILTO:apenafiel@uma.es
END:VEVENT
END:VCALENDAR