BEGIN:VCALENDAR
VERSION:2.0
PRODID:-//LINK by UMA-ATech - ECPv6.15.20//NONSGML v1.0//EN
CALSCALE:GREGORIAN
METHOD:PUBLISH
X-ORIGINAL-URL:https://www.link.uma.es
X-WR-CALDESC:Eventos para LINK by UMA-ATech
REFRESH-INTERVAL;VALUE=DURATION:PT1H
X-Robots-Tag:noindex
X-PUBLISHED-TTL:PT1H
BEGIN:VTIMEZONE
TZID:UTC
BEGIN:STANDARD
TZOFFSETFROM:+0000
TZOFFSETTO:+0000
TZNAME:UTC
DTSTART:20250101T000000
END:STANDARD
END:VTIMEZONE
BEGIN:VEVENT
DTSTART;TZID=UTC:20260227T120000
DTEND;TZID=UTC:20260227T130000
DTSTAMP:20260420T063732
CREATED:20260217T130746Z
LAST-MODIFIED:20260217T130746Z
UID:62537-1772193600-1772197200@www.link.uma.es
SUMMARY:3.02. Reunión ViewNext
DESCRIPTION:Sala 3.02\, 3ª planta de Link by UMA\, de 12 a 13h \nReunión ViewNext
URL:https://www.link.uma.es/event/3-02-reunion-viewnext-5/
LOCATION:Sala 3.02\, Tercera Planta\, Avenida Louis Pasteur\, 47\, Málaga\, Málaga\, 29010\, España
ORGANIZER;CN="Fernando Baena":MAILTO:fbaena@viewnext.com
END:VEVENT
END:VCALENDAR