BEGIN:VCALENDAR
VERSION:2.0
PRODID:-//LINK by UMA-ATech - ECPv6.15.20//NONSGML v1.0//EN
CALSCALE:GREGORIAN
METHOD:PUBLISH
X-ORIGINAL-URL:https://www.link.uma.es
X-WR-CALDESC:Eventos para LINK by UMA-ATech
REFRESH-INTERVAL;VALUE=DURATION:PT1H
X-Robots-Tag:noindex
X-PUBLISHED-TTL:PT1H
BEGIN:VTIMEZONE
TZID:UTC
BEGIN:STANDARD
TZOFFSETFROM:+0000
TZOFFSETTO:+0000
TZNAME:UTC
DTSTART:20250101T000000
END:STANDARD
END:VTIMEZONE
BEGIN:VEVENT
DTSTART;TZID=UTC:20260224T080000
DTEND;TZID=UTC:20260224T180000
DTSTAMP:20260422T015124
CREATED:20260203T115337Z
LAST-MODIFIED:20260203T115337Z
UID:62426-1771920000-1771956000@www.link.uma.es
SUMMARY:2.01. TDK: AI Workshop
DESCRIPTION:Sala 2.01\, 2ª planta de Link by UMA\, de 8 a 18h \nWorkshop sobre Inteligencia Artificial con el equipo Data Science Center de TDK
URL:https://www.link.uma.es/event/2-01-tdk-ai-workshop/
LOCATION:Sala 2.01\, Segunda Planta\, Avenida Louis Pasteur\, 47\, Málaga\, Málaga\, 29010\, España
ORGANIZER;CN="Fernando Ferrer. Head of Data Science Center":MAILTO:fernando.ferrer@tdk.com
END:VEVENT
BEGIN:VEVENT
DTSTART;TZID=UTC:20260224T093000
DTEND;TZID=UTC:20260224T103000
DTSTAMP:20260422T015124
CREATED:20260212T121259Z
LAST-MODIFIED:20260212T121259Z
UID:62473-1771925400-1771929000@www.link.uma.es
SUMMARY:3.01. Visitas delegaciones portuguesas
DESCRIPTION:Sala 3.01\, 3ª planta de Link by UMA\, de 9.30 a 10.30h \nHoy recibiremos la visita dos delegaciones portuguesas: InTo – Innovate Together e INOVC. \nLa delegación de INOVC+\, el Ecosistema de Innovación de la Región Centro de Portugal (que incluye las OTRI de las tres universidades\, 11 institutos politécnicos y varios centros de I+D)\, se compone de 15 personas. \nLa delegación del proyecto InTo – Innovate Together\, está compuesta por 25 personas procedentes de los Politécnicos y Universidades de Santarém\, Portalegre\, Tomar y Beja. \nBienvenid@s a Link by UMA! \n 
URL:https://www.link.uma.es/event/3-01-visitas-delegaciones-portuguesas/
LOCATION:Sala 3.01\, Tercera Planta\, Avenida Louis Pasteur\, 47\, Málaga\, Málaga\, 29010\, España
ORGANIZER;CN="Jos%C3%A9 Ignacio Pascual. M%C3%A1laga Tech Park":MAILTO:jpascual@pta.es
END:VEVENT
BEGIN:VEVENT
DTSTART;TZID=UTC:20260224T180000
DTEND;TZID=UTC:20260224T200000
DTSTAMP:20260422T015124
CREATED:20260213T121723Z
LAST-MODIFIED:20260213T121831Z
UID:62478-1771956000-1771963200@www.link.uma.es
SUMMARY:CW. CMKM: Enséñame tu marca
DESCRIPTION:Coworking\, 4ª planta de Link by UMA\, de 18 a 20h \nEl evento es una actividad del Club de Márketing de Málaga: 4 empresas socias del Club ofrecen o un servicio o un producto al resto de socios. Cada empresa tiene 15 minutos para hacer un pitch y contar lo que ofrecen al resto de socios o personas que quieran asistir al evento.\nDespués de todo esto\, tienen un rato de networking para poder hacer negocios.
URL:https://www.link.uma.es/event/cw-cmkm-ensename-tu-marca-2/
LOCATION:Coworking\, 4ª planta de Link by UMA
ATTACH;FMTTYPE=image/png:https://www.link.uma.es/wp-content/uploads/2017/01/cmkm.png
ORGANIZER;CN="Blanca Palomar":MAILTO:marketingmalagaclub@gmail.com
END:VEVENT
END:VCALENDAR