BEGIN:VCALENDAR
VERSION:2.0
PRODID:-//LINK by UMA-ATech - ECPv6.15.20//NONSGML v1.0//EN
CALSCALE:GREGORIAN
METHOD:PUBLISH
X-WR-CALNAME:LINK by UMA-ATech
X-ORIGINAL-URL:https://www.link.uma.es
X-WR-CALDESC:Eventos para LINK by UMA-ATech
REFRESH-INTERVAL;VALUE=DURATION:PT1H
X-Robots-Tag:noindex
X-PUBLISHED-TTL:PT1H
BEGIN:VTIMEZONE
TZID:UTC
BEGIN:STANDARD
TZOFFSETFROM:+0000
TZOFFSETTO:+0000
TZNAME:UTC
DTSTART:20250101T000000
END:STANDARD
END:VTIMEZONE
BEGIN:VEVENT
DTSTART;TZID=UTC:20260219T090000
DTEND;TZID=UTC:20260219T140000
DTSTAMP:20260420T162732
CREATED:20251006T072838Z
LAST-MODIFIED:20260218T073302Z
UID:61642-1771491600-1771509600@www.link.uma.es
SUMMARY:3.01: «Postdoctoral career horizons: Planning your path beyond the PhD»
DESCRIPTION:Sala 3.01\, 3ªplanta baja de Lynk by UMA\, de 9 a 14h \nMicrocredencial «Postdoctoral career horizons: Planning your path beyond the PhD \nEste título fortalece la formación integral de los estudiantes de doctorado de la UMA al situar sus competencias en un marco ampliado que combina ciencia\, transferencia y emprendimiento. Desde la perspectiva académica\, se refuerza la conexión con programas internacionales de movilidad e investigación (Marie Skłodowska-Curie)\, mientras que desde la perspectiva industrial se potencia la interacción con empresas y casos de éxito que ejemplifican la aplicación práctica del conocimiento. De este modo\, la microcredencial impulsa la internacionalización\, la diversificación profesional y la transferencia de resultados de investigación hacia la sociedad y la economía.
URL:https://www.link.uma.es/event/s-a-microcredencial-postdoctoral-career-horizons-planning-your-path-beyond-the-phd-9/
LOCATION:Sala 3.01\, Tercera Planta\, Avenida Louis Pasteur\, 47\, Málaga\, Málaga\, 29010\, España
ATTACH;FMTTYPE=image/png:https://www.link.uma.es/wp-content/uploads/2025/09/Escuela-Doctorado-uma.png
ORGANIZER;CN="M%C2%AA Victoria Arenas Valero. Vicerrectorado de Doctorado y Posgrado.":MAILTO:v.arenas@uma.es
END:VEVENT
BEGIN:VEVENT
DTSTART;TZID=UTC:20260219T160000
DTEND;TZID=UTC:20260219T180000
DTSTAMP:20260420T162732
CREATED:20251009T071053Z
LAST-MODIFIED:20251009T071053Z
UID:61692-1771516800-1771524000@www.link.uma.es
SUMMARY:S.A. Microcredencial «Enhancing the Quality of Academic Writing»
DESCRIPTION:Salón de Actos\, planta baja de Link by UMA\, de 16 19h \nMicrocredencial «Enhancing the Quality of Academic Writing» \nEsta formación está dirigida a mejorar las habilidades de escritura académica del alumnado de doctorado para la elaboración y publicación de trabajos de investigación en el contexto actual dotando a las personas participantes de los conocimientos claves para la correcta redacción y presentación de trabajos académicos en inglés\, además de un acercamiento inicial al uso de la IA en la escritura académica.
URL:https://www.link.uma.es/event/s-a-microcredencial-enhancing-the-quality-of-academic-writing-12/
LOCATION:Salón de Actos\, Planta Baja\, Avenida Louis Pasteur\, 47\, Málaga\, Málaga\, 29010\, España
ATTACH;FMTTYPE=image/png:https://www.link.uma.es/wp-content/uploads/2025/09/Escuela-Doctorado-uma.png
ORGANIZER;CN="M%C2%AA Victoria Arenas Valero. Vicerrectorado de Doctorado y Posgrado.":MAILTO:v.arenas@uma.es
END:VEVENT
END:VCALENDAR