BEGIN:VCALENDAR
VERSION:2.0
PRODID:-//LINK by UMA-ATech - ECPv6.15.20//NONSGML v1.0//EN
CALSCALE:GREGORIAN
METHOD:PUBLISH
X-WR-CALNAME:LINK by UMA-ATech
X-ORIGINAL-URL:https://www.link.uma.es
X-WR-CALDESC:Eventos para LINK by UMA-ATech
REFRESH-INTERVAL;VALUE=DURATION:PT1H
X-Robots-Tag:noindex
X-PUBLISHED-TTL:PT1H
BEGIN:VTIMEZONE
TZID:UTC
BEGIN:STANDARD
TZOFFSETFROM:+0000
TZOFFSETTO:+0000
TZNAME:UTC
DTSTART:20250101T000000
END:STANDARD
END:VTIMEZONE
BEGIN:VEVENT
DTSTART;TZID=UTC:20260218T083000
DTEND;TZID=UTC:20260218T140000
DTSTAMP:20260420T162721
CREATED:20251104T103401Z
LAST-MODIFIED:20260218T094304Z
UID:61928-1771403400-1771423200@www.link.uma.es
SUMMARY:3.01+3.02.+2.01 IKEA: Design Thinking
DESCRIPTION:Salas 3.01 \, de 8.30 a 14h y 3.02 + 2.01\, de 14 a 18h \nDesarrollo de jornadas de Design Thinking\, con la tematica: «La vivienda del futuro» involucrados en este proeycto\, Museo Casa Natal Picasso (Ayto de Málaga) e IKEA Ibérica (Madrid). Jornadas que se desarrollarán a nivel nacional\, dirigido a jóvenes (18 a 35 años). Tendremos cierre de las jornadas con grupo finalista y evento de clausura del proyecto en el Museo Pompidu el dia 20 de febrero.
URL:https://www.link.uma.es/event/3-013-02-ikea-design-thinking-4/
LOCATION:Salas 3.01 y 3.02 de Link by UMA
ATTACH;FMTTYPE=image/png:https://www.link.uma.es/wp-content/uploads/2024/04/Logo_nuevo_IKEA_2018_Adobe_RGB_100_002.png
ORGANIZER;CN="Monserrat Rosales. IKEA M%C3%A1laga":MAILTO:montserrat.rosales@ingka.ikea.com
END:VEVENT
BEGIN:VEVENT
DTSTART;TZID=UTC:20260218T100000
DTEND;TZID=UTC:20260218T120000
DTSTAMP:20260420T162721
CREATED:20260116T093207Z
LAST-MODIFIED:20260116T093207Z
UID:62313-1771408800-1771416000@www.link.uma.es
SUMMARY:2.02 Miércoles x la Orientación
DESCRIPTION:2.02\, 2ª planta – 10.00 a 12.00 h \nHoy tendremos la sesión presencial del alumnado que realiza los cursos sobre desarrollo de competencias: Enfoca tu futuro\, Soft & Digital Skills y Actitud Emprendedora \nLa sesión versará sobre Recursos de formación y Empleo dirigido al colectivo universitario
URL:https://www.link.uma.es/event/2-02-miercoles-x-la-orientacion-14/
LOCATION:Sala 2.02\, 2ª planta
ATTACH;FMTTYPE=image/jpeg:https://www.link.uma.es/wp-content/uploads/2022/10/miercoles-pro-el-empleo.jpg
ORGANIZER;CN="Laura Marcos. Orientaci%C3%B3n UMA":MAILTO:lauramarcos@uma.es
END:VEVENT
BEGIN:VEVENT
DTSTART;TZID=UTC:20260218T100000
DTEND;TZID=UTC:20260218T120000
DTSTAMP:20260420T162721
CREATED:20260202T114234Z
LAST-MODIFIED:20260202T120723Z
UID:62394-1771408800-1771416000@www.link.uma.es
SUMMARY:2.01 Miércoles x la Orientación - La entrevista de trabajo
DESCRIPTION:2.01\, 2ª planta – 10.00 a 12.00 h \nTaller sobre Entrevista de Trabajo dirigido al alumnado y egresados de la Universidad de Málaga. \nUna de las fases críticas en un proceso de selección es la entrevista de trabajo\, aprende las principales claves para superarla con éxito y demostrar todo tu potencial. \n 
URL:https://www.link.uma.es/event/2-01-miercoles-x-la-orientacion-la-entrevista-de-trabajo/
LOCATION:Sala 2.01\, Segunda Planta\, Avenida Louis Pasteur\, 47\, Málaga\, Málaga\, 29010\, España
ATTACH;FMTTYPE=image/jpeg:https://www.link.uma.es/wp-content/uploads/2022/10/miercoles-pro-el-empleo.jpg
ORGANIZER;CN="Laura Marcos. Orientaci%C3%B3n UMA":MAILTO:lauramarcos@uma.es
END:VEVENT
BEGIN:VEVENT
DTSTART;TZID=UTC:20260218T150000
DTEND;TZID=UTC:20260218T190000
DTSTAMP:20260420T162721
CREATED:20250918T101752Z
LAST-MODIFIED:20250918T103126Z
UID:61438-1771426800-1771441200@www.link.uma.es
SUMMARY:SA+3.01+CW: Empowering communication in academic and leadership enviroments
DESCRIPTION:Salón de Actos\, de 15 a 16h + Sala 3.01 y Coworking\, de 15:30 a 19h \nEmpowering communication in academic and leadership enviroments. Fortalecimiento de la Comunicación en Contextos Académicos y de Liderazgo. \nEl curso\, impartido bajo modalidad semipresencial\, se compone de 6 módulos formativos\, siendo el primero introductorio y el último correspondiente al desarrollo y\nentrega de los proyectos finales\, y los cuatro restantes de formación específica: \n1. Presentación del curso\, reflexión-debate y benchmarking inicial (online\, 0\,5 ECTS). 5 horas lectivas (5 online síncronas) y 7\,5 horas no lectivas.\n2. Identidad digital y visibilidad científica online (híbrido\, 1 ECTS). 10 h lectivas (4 presenciales y 6 online síncronas) y 15 h no lectivas.\n3. Comunicación académica oral y escrita: componentes y técnicas clave (híbrido\, 1\,25 ECTS). 12\,5 h lectivas (5 presenciales y 7\,5 online síncronas) y 18\,75 h no lectivas.\n4. Presentaciones científicas eficaces e innovadoras: storytelling y visualización de la información (híbrido\, 0\,75 ECTS). 7 horas lectivas (3 presenciales y 4 online síncronas) y 10\,5 horas no lectivas.\n5. Comunicación académica multimedia en Entornos Digitales e Híbridos (híbrido\, 0\,75 ECTS). 7\,5 horas lectivas (3 presenciales y 4\,5 online síncronas) y 10 horas no lectivas.\n6. Proyecto final (tutorización\, entrega y evaluación) (híbrido\, 0\,75 ECTS). 7\,5 horas lectivas (4 presenciales y 3\,5 online síncronas) y 10 horas no lectivas.
URL:https://www.link.uma.es/event/sa3-01cw-empowering-communication-in-academic-and-leadership-enviroments/
LOCATION:Coworking+3.01+Salón de Actos
ATTACH;FMTTYPE=image/png:https://www.link.uma.es/wp-content/uploads/2025/09/Escuela-Doctorado-uma.png
ORGANIZER;CN="Llanos Mora L%C3%B3pez%3A Directora Servicio Docotorado UMA":MAILTO:llanos@uma.es
END:VEVENT
BEGIN:VEVENT
DTSTART;TZID=UTC:20260218T160000
DTEND;TZID=UTC:20260218T190000
DTSTAMP:20260420T162721
CREATED:20260109T125307Z
LAST-MODIFIED:20260109T125307Z
UID:62251-1771430400-1771441200@www.link.uma.es
SUMMARY:S.A. Microcredencial «Enhancing the Quality of Academic Writing»
DESCRIPTION:Salón de Actos\, planta baja de Link by UMA\, de 16 19h \nMicrocredencial «Enhancing the Quality of Academic Writing» \nEsta formación está dirigida a mejorar las habilidades de escritura académica del alumnado de doctorado para la elaboración y publicación de trabajos de investigación en el contexto actual dotando a las personas participantes de los conocimientos claves para la correcta redacción y presentación de trabajos académicos en inglés\, además de un acercamiento inicial al uso de la IA en la escritura académica.
URL:https://www.link.uma.es/event/s-a-microcredencial-enhancing-the-quality-of-academic-writing-5/
LOCATION:Salón de Actos\, Planta Baja\, Avenida Louis Pasteur\, 47\, Málaga\, Málaga\, 29010\, España
ATTACH;FMTTYPE=image/png:https://www.link.uma.es/wp-content/uploads/2025/09/Escuela-Doctorado-uma.png
ORGANIZER;CN="M%C2%AA Victoria Arenas Valero. Vicerrectorado de Doctorado y Posgrado.":MAILTO:v.arenas@uma.es
END:VEVENT
END:VCALENDAR