BEGIN:VCALENDAR
VERSION:2.0
PRODID:-//LINK by UMA-ATech - ECPv6.15.20//NONSGML v1.0//EN
CALSCALE:GREGORIAN
METHOD:PUBLISH
X-WR-CALNAME:LINK by UMA-ATech
X-ORIGINAL-URL:https://www.link.uma.es
X-WR-CALDESC:Eventos para LINK by UMA-ATech
REFRESH-INTERVAL;VALUE=DURATION:PT1H
X-Robots-Tag:noindex
X-PUBLISHED-TTL:PT1H
BEGIN:VTIMEZONE
TZID:UTC
BEGIN:STANDARD
TZOFFSETFROM:+0000
TZOFFSETTO:+0000
TZNAME:UTC
DTSTART:20250101T000000
END:STANDARD
END:VTIMEZONE
BEGIN:VEVENT
DTSTART;TZID=UTC:20260216T080000
DTEND;TZID=UTC:20260216T180000
DTSTAMP:20260420T162730
CREATED:20251104T101640Z
LAST-MODIFIED:20260210T115957Z
UID:61920-1771228800-1771264800@www.link.uma.es
SUMMARY:3.01+3.02. IKEA: Design Thinking
DESCRIPTION:Salas 3.01 y 3.02\,  3ª planta de Link by UMA\, de 8.00 a 18h \nDesarrollo de jornadas de Design Thinking\, con la tematica: «La vivienda del futuro» involucrados en este proeycto\, Museo Casa Natal Picasso (Ayto de Málaga) e IKEA Ibérica (Madrid). Jornadas que se desarrollarán a nivel nacional\, dirigido a jóvenes (18 a 35 años). Tendremos cierre de las jornadas con grupo finalista y evento de clausura del proyecto en el Museo Pompidu el dia 20 de febrero.
URL:https://www.link.uma.es/event/3-013-02-ikea-design-thinking/
LOCATION:Salas 3.01 y 3.02 de Link by UMA
ATTACH;FMTTYPE=image/png:https://www.link.uma.es/wp-content/uploads/2024/04/Logo_nuevo_IKEA_2018_Adobe_RGB_100_002.png
ORGANIZER;CN="Monserrat Rosales. IKEA M%C3%A1laga":MAILTO:montserrat.rosales@ingka.ikea.com
END:VEVENT
END:VCALENDAR