BEGIN:VCALENDAR
VERSION:2.0
PRODID:-//LINK by UMA-ATech - ECPv6.15.20//NONSGML v1.0//EN
CALSCALE:GREGORIAN
METHOD:PUBLISH
X-ORIGINAL-URL:https://www.link.uma.es
X-WR-CALDESC:Eventos para LINK by UMA-ATech
REFRESH-INTERVAL;VALUE=DURATION:PT1H
X-Robots-Tag:noindex
X-PUBLISHED-TTL:PT1H
BEGIN:VTIMEZONE
TZID:UTC
BEGIN:STANDARD
TZOFFSETFROM:+0000
TZOFFSETTO:+0000
TZNAME:UTC
DTSTART:20250101T000000
END:STANDARD
END:VTIMEZONE
BEGIN:VEVENT
DTSTART;TZID=UTC:20260212T083000
DTEND;TZID=UTC:20260212T170000
DTSTAMP:20260420T111539
CREATED:20251022T080320Z
LAST-MODIFIED:20251022T080320Z
UID:61798-1770885000-1770915600@www.link.uma.es
SUMMARY:3.01+3.02 Seminario "Reading the Readers: Theories\, Methods\, and Futures in Reception Studies"
DESCRIPTION:3.01 + 3.02 – 08.30 a 17.00 h \nTendrá lugar un Seminario de carácter internacional a cargo de la Facultad de Filosofía y Letras. \n 
URL:https://www.link.uma.es/event/3-013-02-seminario-reading-the-readers-theories-methods-and-futures-in-reception-studies/
LOCATION:Salas 3.01 + 3.02\, Tercera Planta\, Avenida Louis Pasteur\, 47\, Málaga\, Málaga\, 29010\, España
ATTACH;FMTTYPE=application/pdf:https://www.link.uma.es/wp-content/uploads/2025/10/Reading_the_Readers_Provisional_Programme.pdf
ORGANIZER;CN="Rosario L%C3%B3pez - Filosof%C3%ADa y Letras":MAILTO:rosariols@uma.es
END:VEVENT
BEGIN:VEVENT
DTSTART;TZID=UTC:20260212T090000
DTEND;TZID=UTC:20260212T143000
DTSTAMP:20260420T111539
CREATED:20251003T113304Z
LAST-MODIFIED:20260109T074323Z
UID:61631-1770886800-1770906600@www.link.uma.es
SUMMARY:S.A: "Postdoctoral career horizons: Planning your path beyond the PhD"
DESCRIPTION:Salón de Actos\, planta baja de Lynk by UMA\, de 9 a 14.30h \nMicrocredencial «Postdoctoral career horizons: Planning your path beyond the PhD \nEste título fortalece la formación integral de los estudiantes de doctorado de la UMA al situar sus competencias en un marco ampliado que combina ciencia\, transferencia y emprendimiento. Desde la perspectiva académica\, se refuerza la conexión con programas internacionales de movilidad e investigación (Marie Skłodowska-Curie)\, mientras que desde la perspectiva industrial se potencia la interacción con empresas y casos de éxito que ejemplifican la aplicación práctica del conocimiento. De este modo\, la microcredencial impulsa la internacionalización\, la diversificación profesional y la transferencia de resultados de investigación hacia la sociedad y la economía.
URL:https://www.link.uma.es/event/s-a-microcredencial-postdoctoral-career-horizons-planning-your-path-beyond-the-phd-7/
LOCATION:Salón de Actos\, Planta Baja\, Avenida Louis Pasteur\, 47\, Málaga\, Málaga\, 29010\, España
ATTACH;FMTTYPE=image/png:https://www.link.uma.es/wp-content/uploads/2025/09/Escuela-Doctorado-uma.png
ORGANIZER;CN="M%C2%AA Victoria Arenas Valero. Vicerrectorado de Doctorado y Posgrado.":MAILTO:v.arenas@uma.es
END:VEVENT
BEGIN:VEVENT
DTSTART;TZID=UTC:20260212T160000
DTEND;TZID=UTC:20260212T180000
DTSTAMP:20260420T111539
CREATED:20251009T070311Z
LAST-MODIFIED:20251009T070311Z
UID:61688-1770912000-1770919200@www.link.uma.es
SUMMARY:S.A. Microcredencial «Enhancing the Quality of Academic Writing»
DESCRIPTION:Salón de Actos\, planta baja de Link by UMA\, de 16 19h \nMicrocredencial «Enhancing the Quality of Academic Writing» \nEsta formación está dirigida a mejorar las habilidades de escritura académica del alumnado de doctorado para la elaboración y publicación de trabajos de investigación en el contexto actual dotando a las personas participantes de los conocimientos claves para la correcta redacción y presentación de trabajos académicos en inglés\, además de un acercamiento inicial al uso de la IA en la escritura académica.
URL:https://www.link.uma.es/event/s-a-microcredencial-enhancing-the-quality-of-academic-writing-10/
LOCATION:Salón de Actos\, Planta Baja\, Avenida Louis Pasteur\, 47\, Málaga\, Málaga\, 29010\, España
ATTACH;FMTTYPE=image/png:https://www.link.uma.es/wp-content/uploads/2025/09/Escuela-Doctorado-uma.png
ORGANIZER;CN="M%C2%AA Victoria Arenas Valero. Vicerrectorado de Doctorado y Posgrado.":MAILTO:v.arenas@uma.es
END:VEVENT
END:VCALENDAR