BEGIN:VCALENDAR
VERSION:2.0
PRODID:-//LINK by UMA-ATech - ECPv6.15.20//NONSGML v1.0//EN
CALSCALE:GREGORIAN
METHOD:PUBLISH
X-WR-CALNAME:LINK by UMA-ATech
X-ORIGINAL-URL:https://www.link.uma.es
X-WR-CALDESC:Eventos para LINK by UMA-ATech
REFRESH-INTERVAL;VALUE=DURATION:PT1H
X-Robots-Tag:noindex
X-PUBLISHED-TTL:PT1H
BEGIN:VTIMEZONE
TZID:UTC
BEGIN:STANDARD
TZOFFSETFROM:+0000
TZOFFSETTO:+0000
TZNAME:UTC
DTSTART:20250101T000000
END:STANDARD
END:VTIMEZONE
BEGIN:VEVENT
DTSTART;TZID=UTC:20260211T080000
DTEND;TZID=UTC:20260211T150000
DTSTAMP:20260420T162719
CREATED:20260109T132112Z
LAST-MODIFIED:20260109T132112Z
UID:62290-1770796800-1770822000@www.link.uma.es
SUMMARY:CW. Día Internacional de la Mujer y la Niña en la Ciencia
DESCRIPTION:Coworking\, 4ª planta de Link by UMA\, de 8 a 15h \nLa Unidad de Igualdad de la UMA celebra hoy el Día Internacional de la Mujer y la Niña en la Ciencia en las instalaciones de Link by UMA\, bienvenid@s!!!
URL:https://www.link.uma.es/event/cw-dia-internacional-de-la-mujer-y-la-nina-en-la-ciencia-2/
LOCATION:Coworking\, 4ª planta de Link by UMA
ORGANIZER;CN="H%C3%A9ctor Ortiz. Unidad Igualdad UMA.":MAILTO:hectorortiz@uma.es
END:VEVENT
BEGIN:VEVENT
DTSTART;TZID=UTC:20260211T120000
DTEND;TZID=UTC:20260211T140000
DTSTAMP:20260420T162719
CREATED:20260205T103700Z
LAST-MODIFIED:20260205T103700Z
UID:62432-1770811200-1770818400@www.link.uma.es
SUMMARY:2.02. Tutoría Prácticas Erasmus+ 25/26- Grado\, Máster y Doctorado
DESCRIPTION:Sala 2.02\, 2ª planta de Link by UMA\, de 12 a 14h \nTutoría Prácticas Erasmus+ 25/26- Grado\, Máster y Doctorado
URL:https://www.link.uma.es/event/2-02-tutoria-practicas-erasmus-25-26-grado-master-y-doctorado/
LOCATION:Sala 2.02\, Segunda Planta\, Avenida Louis Pasteur\, 47\, Málaga\, Málaga\, 29010\, España
ATTACH;FMTTYPE=image/png:https://www.link.uma.es/wp-content/uploads/2023/03/erasmus-logo.png
ORGANIZER;CN="Alejandro Florido. Pr%C3%A1cticas Erasmus. UMA":MAILTO:florido@uma.es
END:VEVENT
BEGIN:VEVENT
DTSTART;TZID=UTC:20260211T160000
DTEND;TZID=UTC:20260211T180000
DTSTAMP:20260420T162719
CREATED:20251009T070111Z
LAST-MODIFIED:20251009T070111Z
UID:61686-1770825600-1770832800@www.link.uma.es
SUMMARY:S.A. Microcredencial «Enhancing the Quality of Academic Writing»
DESCRIPTION:Salón de Actos\, planta baja de Link by UMA\, de 16 19h \nMicrocredencial «Enhancing the Quality of Academic Writing» \nEsta formación está dirigida a mejorar las habilidades de escritura académica del alumnado de doctorado para la elaboración y publicación de trabajos de investigación en el contexto actual dotando a las personas participantes de los conocimientos claves para la correcta redacción y presentación de trabajos académicos en inglés\, además de un acercamiento inicial al uso de la IA en la escritura académica.
URL:https://www.link.uma.es/event/s-a-microcredencial-enhancing-the-quality-of-academic-writing-9/
LOCATION:Salón de Actos\, Planta Baja\, Avenida Louis Pasteur\, 47\, Málaga\, Málaga\, 29010\, España
ATTACH;FMTTYPE=image/png:https://www.link.uma.es/wp-content/uploads/2025/09/Escuela-Doctorado-uma.png
ORGANIZER;CN="M%C2%AA Victoria Arenas Valero. Vicerrectorado de Doctorado y Posgrado.":MAILTO:v.arenas@uma.es
END:VEVENT
BEGIN:VEVENT
DTSTART;TZID=UTC:20260211T163000
DTEND;TZID=UTC:20260211T200000
DTSTAMP:20260420T162719
CREATED:20251212T112602Z
LAST-MODIFIED:20251212T112602Z
UID:62120-1770827400-1770840000@www.link.uma.es
SUMMARY:CW. Narrativas y curadurías digitales
DESCRIPTION:Coworking\, 4ª planta de Link by UMA\, de 16.30 a 20h \nLa profesora Nuria Rodríguez Ortega imparte la asignatura «Narrativas y curadurías digitales» del Máster en Desarrollos Sociales de la Cultura Artística. \nBienvenid@s a Link by UMA!
URL:https://www.link.uma.es/event/cw-narrativas-y-curadurias-digitales-6/
LOCATION:Coworking\, 4ª planta de Link by UMA
ATTACH;FMTTYPE=image/jpeg:https://www.link.uma.es/wp-content/uploads/2024/10/UMA_Horizontal.jpg
ORGANIZER;CN="Nuria Rodr%C3%ADguez Ortega.  Professor and Chair%2C Art History Department University of M%C3%A1laga":MAILTO:nro@uma.es
END:VEVENT
END:VCALENDAR