BEGIN:VCALENDAR
VERSION:2.0
PRODID:-//LINK by UMA-ATech - ECPv6.15.20//NONSGML v1.0//EN
CALSCALE:GREGORIAN
METHOD:PUBLISH
X-WR-CALNAME:LINK by UMA-ATech
X-ORIGINAL-URL:https://www.link.uma.es
X-WR-CALDESC:Eventos para LINK by UMA-ATech
REFRESH-INTERVAL;VALUE=DURATION:PT1H
X-Robots-Tag:noindex
X-PUBLISHED-TTL:PT1H
BEGIN:VTIMEZONE
TZID:UTC
BEGIN:STANDARD
TZOFFSETFROM:+0000
TZOFFSETTO:+0000
TZNAME:UTC
DTSTART:20250101T000000
END:STANDARD
END:VTIMEZONE
BEGIN:VEVENT
DTSTART;TZID=UTC:20260205T090000
DTEND;TZID=UTC:20260205T200000
DTSTAMP:20260420T162738
CREATED:20260127T110230Z
LAST-MODIFIED:20260127T110230Z
UID:62376-1770282000-1770321600@www.link.uma.es
SUMMARY:2.01 Máster en Biotecnología Avanzada
DESCRIPTION:2.01\, 2ª planta – 9.00 a 15.00 h y 17.00 a 20.00 h \nAlumn@s del Máster en Biotecnología Avanzada imparten hoy su clase en nuestras instalaciones. Bienvenid@s a Link by UMA!!!!
URL:https://www.link.uma.es/event/2-01-master-en-biotecnologia-avanzada-2/
LOCATION:Sala 2.01\, Segunda Planta\, Avenida Louis Pasteur\, 47\, Málaga\, Málaga\, 29010\, España
ATTACH;FMTTYPE=image/jpeg:https://www.link.uma.es/wp-content/uploads/2024/10/UMA_Horizontal.jpg
ORGANIZER;CN="M%C2%AA %C3%81ngeles Rastrollo - Vicerrectora Adjunta de Talento y Carrera Profesional":MAILTO:vra.talento@uma.es
END:VEVENT
BEGIN:VEVENT
DTSTART;TZID=UTC:20260205T110000
DTEND;TZID=UTC:20260205T120000
DTSTAMP:20260420T162738
CREATED:20260203T101059Z
LAST-MODIFIED:20260203T101059Z
UID:62422-1770289200-1770292800@www.link.uma.es
SUMMARY:2.02 Reunión Unidad de Emprendimiento UMA
DESCRIPTION:2.02\, 2ª planta – 11.00 a 12.00 h \nReunión interna Unidad de Emprendimiento UMA
URL:https://www.link.uma.es/event/2-02-reunion-unidad-de-emprendimiento-uma/
LOCATION:Sala 2.02\, 2ª planta
ATTACH;FMTTYPE=image/jpeg:https://www.link.uma.es/wp-content/uploads/2024/10/UMA_Horizontal.jpg
ORGANIZER;CN="Antonio Pe%C3%B1afiel. Director Servicio Empleabilidad y Emprendimiento.":MAILTO:apenafiel@uma.es
END:VEVENT
BEGIN:VEVENT
DTSTART;TZID=UTC:20260205T160000
DTEND;TZID=UTC:20260205T180000
DTSTAMP:20260420T162738
CREATED:20251008T115914Z
LAST-MODIFIED:20251009T065757Z
UID:61681-1770307200-1770314400@www.link.uma.es
SUMMARY:S.A. Microcredencial «Enhancing the Quality of Academic Writing»
DESCRIPTION:Salón de Actos\, planta baja de Link by UMA\, de 16 19h \nMicrocredencial «Enhancing the Quality of Academic Writing» \nEsta formación está dirigida a mejorar las habilidades de escritura académica del alumnado de doctorado para la elaboración y publicación de trabajos de investigación en el contexto actual dotando a las personas participantes de los conocimientos claves para la correcta redacción y presentación de trabajos académicos en inglés\, además de un acercamiento inicial al uso de la IA en la escritura académica.
URL:https://www.link.uma.es/event/s-a-microcredencial-enhancing-the-quality-of-academic-writing-8/
LOCATION:Salón de Actos\, Planta Baja\, Avenida Louis Pasteur\, 47\, Málaga\, Málaga\, 29010\, España
ATTACH;FMTTYPE=image/png:https://www.link.uma.es/wp-content/uploads/2025/09/Escuela-Doctorado-uma.png
ORGANIZER;CN="M%C2%AA Victoria Arenas Valero. Vicerrectorado de Doctorado y Posgrado.":MAILTO:v.arenas@uma.es
END:VEVENT
END:VCALENDAR