BEGIN:VCALENDAR
VERSION:2.0
PRODID:-//LINK by UMA-ATech - ECPv6.15.20//NONSGML v1.0//EN
CALSCALE:GREGORIAN
METHOD:PUBLISH
X-ORIGINAL-URL:https://www.link.uma.es
X-WR-CALDESC:Eventos para LINK by UMA-ATech
REFRESH-INTERVAL;VALUE=DURATION:PT1H
X-Robots-Tag:noindex
X-PUBLISHED-TTL:PT1H
BEGIN:VTIMEZONE
TZID:UTC
BEGIN:STANDARD
TZOFFSETFROM:+0000
TZOFFSETTO:+0000
TZNAME:UTC
DTSTART:20250101T000000
END:STANDARD
END:VTIMEZONE
BEGIN:VEVENT
DTSTART;TZID=UTC:20260204T090000
DTEND;TZID=UTC:20260204T200000
DTSTAMP:20260420T162031
CREATED:20260127T110020Z
LAST-MODIFIED:20260127T110020Z
UID:62373-1770195600-1770235200@www.link.uma.es
SUMMARY:2.01 Máster en Biotecnología Avanzada
DESCRIPTION:2.01\, 2ª planta – 9.00 a 15.00 h y 17.00 a 20.00 h \nAlumn@s del Máster en Biotecnología Avanzada imparten hoy su clase en nuestras instalaciones. Bienvenid@s a Link by UMA!!!!
URL:https://www.link.uma.es/event/2-01-master-en-biotecnologia-avanzada/
LOCATION:Sala 2.01\, Segunda Planta\, Avenida Louis Pasteur\, 47\, Málaga\, Málaga\, 29010\, España
ATTACH;FMTTYPE=image/jpeg:https://www.link.uma.es/wp-content/uploads/2024/10/UMA_Horizontal.jpg
ORGANIZER;CN="M%C2%AA %C3%81ngeles Rastrollo - Vicerrectora Adjunta de Talento y Carrera Profesional":MAILTO:vra.talento@uma.es
END:VEVENT
BEGIN:VEVENT
DTSTART;TZID=UTC:20260204T120000
DTEND;TZID=UTC:20260204T140000
DTSTAMP:20260420T162031
CREATED:20260126T113144Z
LAST-MODIFIED:20260126T113144Z
UID:62370-1770206400-1770213600@www.link.uma.es
SUMMARY:2.02. Erasmus+ Support Service Team
DESCRIPTION:Sala 2.02\, 2ª planta de Link by UMA\, de 12 a 14h \nErasmus+ Support Service Team
URL:https://www.link.uma.es/event/2-02-erasmus-support-service-team/
LOCATION:Sala 2.02\, 2ª planta
ATTACH;FMTTYPE=image/png:https://www.link.uma.es/wp-content/uploads/2023/03/erasmus-logo.png
ORGANIZER;CN="Alejandro Florido. Pr%C3%A1cticas Erasmus. UMA":MAILTO:florido@uma.es
END:VEVENT
BEGIN:VEVENT
DTSTART;TZID=UTC:20260204T160000
DTEND;TZID=UTC:20260204T180000
DTSTAMP:20260420T162031
CREATED:20251008T115648Z
LAST-MODIFIED:20251008T115648Z
UID:61679-1770220800-1770228000@www.link.uma.es
SUMMARY:S.A. Microcredencial «Enhancing the Quality of Academic Writing»
DESCRIPTION:Salón de Actos\, planta baja de Link by UMA\, de 16 19h \nMicrocredencial «Enhancing the Quality of Academic Writing» \nEsta formación está dirigida a mejorar las habilidades de escritura académica del alumnado de doctorado para la elaboración y publicación de trabajos de investigación en el contexto actual dotando a las personas participantes de los conocimientos claves para la correcta redacción y presentación de trabajos académicos en inglés\, además de un acercamiento inicial al uso de la IA en la escritura académica.
URL:https://www.link.uma.es/event/s-a-microcredencial-enhancing-the-quality-of-academic-writing-7/
LOCATION:Salón de Actos\, Planta Baja\, Avenida Louis Pasteur\, 47\, Málaga\, Málaga\, 29010\, España
ATTACH;FMTTYPE=image/png:https://www.link.uma.es/wp-content/uploads/2025/09/Escuela-Doctorado-uma.png
ORGANIZER;CN="M%C2%AA Victoria Arenas Valero. Vicerrectorado de Doctorado y Posgrado.":MAILTO:v.arenas@uma.es
END:VEVENT
BEGIN:VEVENT
DTSTART;TZID=UTC:20260204T163000
DTEND;TZID=UTC:20260204T200000
DTSTAMP:20260420T162031
CREATED:20251212T112440Z
LAST-MODIFIED:20251212T112440Z
UID:62118-1770222600-1770235200@www.link.uma.es
SUMMARY:CW. Narrativas y curadurías digitales
DESCRIPTION:Coworking\, 4ª planta de Link by UMA\, de 16.30 a 20h \nLa profesora Nuria Rodríguez Ortega imparte la asignatura «Narrativas y curadurías digitales» del Máster en Desarrollos Sociales de la Cultura Artística. \nBienvenid@s a Link by UMA!
URL:https://www.link.uma.es/event/cw-narrativas-y-curadurias-digitales-5/
LOCATION:Coworking\, 4ª planta de Link by UMA
ATTACH;FMTTYPE=image/jpeg:https://www.link.uma.es/wp-content/uploads/2024/10/UMA_Horizontal.jpg
ORGANIZER;CN="Nuria Rodr%C3%ADguez Ortega.  Professor and Chair%2C Art History Department University of M%C3%A1laga":MAILTO:nro@uma.es
END:VEVENT
END:VCALENDAR