BEGIN:VCALENDAR
VERSION:2.0
PRODID:-//LINK by UMA-ATech - ECPv6.15.20//NONSGML v1.0//EN
CALSCALE:GREGORIAN
METHOD:PUBLISH
X-ORIGINAL-URL:https://www.link.uma.es
X-WR-CALDESC:Eventos para LINK by UMA-ATech
REFRESH-INTERVAL;VALUE=DURATION:PT1H
X-Robots-Tag:noindex
X-PUBLISHED-TTL:PT1H
BEGIN:VTIMEZONE
TZID:UTC
BEGIN:STANDARD
TZOFFSETFROM:+0000
TZOFFSETTO:+0000
TZNAME:UTC
DTSTART:20250101T000000
END:STANDARD
END:VTIMEZONE
BEGIN:VEVENT
DTSTART;TZID=UTC:20260202T090000
DTEND;TZID=UTC:20260202T140000
DTSTAMP:20260420T165357
CREATED:20251118T103747Z
LAST-MODIFIED:20251118T103747Z
UID:62005-1770022800-1770040800@www.link.uma.es
SUMMARY:CW Formación Metro Málaga
DESCRIPTION:Coworking\, 4ª planta – 09.00 a 14.00 h \nTendrá lugar una formación de Metro Málaga
URL:https://www.link.uma.es/event/cw-formacion-metro-malaga-7/
LOCATION:Coworking\, 4ª planta de Link by UMA
ATTACH;FMTTYPE=image/png:https://www.link.uma.es/wp-content/uploads/2021/10/MetroMálaga.png
ORGANIZER;CN="Antonio Leiva - Metro M%C3%A1laga":MAILTO:a.leiva@metromalaga.es
END:VEVENT
BEGIN:VEVENT
DTSTART;TZID=UTC:20260202T090000
DTEND;TZID=UTC:20260202T140000
DTSTAMP:20260420T165357
CREATED:20260119T131355Z
LAST-MODIFIED:20260119T131355Z
UID:62345-1770022800-1770040800@www.link.uma.es
SUMMARY:2.01. Soludable: Reunión de equipo
DESCRIPTION:Sala 2.01\, de 9 a 14h \nReunión de planificación para la Reunión Soludable 2026
URL:https://www.link.uma.es/event/2-01-soludable-reunion-de-equipo-2/
LOCATION:Sala 2.01\, Segunda Planta\, Avenida Louis Pasteur\, 47\, Málaga\, Málaga\, 29010\, España
ATTACH;FMTTYPE=image/jpeg:https://www.link.uma.es/wp-content/uploads/2021/07/logo-soludable.jpg
ORGANIZER;CN="Ximena Montoya. Grupo Soludable":MAILTO:fotolaboral.soludable@gmail.com
END:VEVENT
BEGIN:VEVENT
DTSTART;TZID=UTC:20260202T120000
DTEND;TZID=UTC:20260202T130000
DTSTAMP:20260420T165357
CREATED:20260202T110537Z
LAST-MODIFIED:20260202T110537Z
UID:62391-1770033600-1770037200@www.link.uma.es
SUMMARY:3.01. Atonwave Artificial Vision Technologies
DESCRIPTION:Sala 3.01\, 3ª planta de Link by UMA\, de 12 a 13h \nPruebas de prototipado de la empresa Atonwave Artificial Vision Techologies
URL:https://www.link.uma.es/event/3-01-atonwave-artificial-vision-technologies/
LOCATION:Sala 3.01\, Tercera Planta\, Avenida Louis Pasteur\, 47\, Málaga\, Málaga\, 29010\, España
ORGANIZER;CN="Dato Altamirano. Atonwave Artificial Vision Techologies":MAILTO:dato.altamirano@atonwave.com
END:VEVENT
END:VCALENDAR