BEGIN:VCALENDAR
VERSION:2.0
PRODID:-//LINK by UMA-ATech - ECPv6.15.20//NONSGML v1.0//EN
CALSCALE:GREGORIAN
METHOD:PUBLISH
X-ORIGINAL-URL:https://www.link.uma.es
X-WR-CALDESC:Eventos para LINK by UMA-ATech
REFRESH-INTERVAL;VALUE=DURATION:PT1H
X-Robots-Tag:noindex
X-PUBLISHED-TTL:PT1H
BEGIN:VTIMEZONE
TZID:UTC
BEGIN:STANDARD
TZOFFSETFROM:+0000
TZOFFSETTO:+0000
TZNAME:UTC
DTSTART:20250101T000000
END:STANDARD
END:VTIMEZONE
BEGIN:VEVENT
DTSTART;TZID=UTC:20260130T090000
DTEND;TZID=UTC:20260130T190000
DTSTAMP:20260420T165521
CREATED:20251003T103423Z
LAST-MODIFIED:20260126T112101Z
UID:61621-1769763600-1769799600@www.link.uma.es
SUMMARY:Salas 3.01+3.02:"Postdoctoral career horizons: Planning your path beyond the PhD"
DESCRIPTION:Salas 3.01 y 3.02\, 3ª planta de Link by UMA\, de 9 a 19 h \nMicrocredencial «Postdoctoral career horizons: Planning your path beyond the PhD \nEste título fortalece la formación integral de los estudiantes de doctorado de la UMA al situar sus competencias en un marco ampliado que combina ciencia\, transferencia y emprendimiento. Desde la perspectiva académica\, se refuerza la conexión con programas internacionales de movilidad e investigación (Marie Skłodowska-Curie)\, mientras que desde la perspectiva industrial se potencia la interacción con empresas y casos de éxito que ejemplifican la aplicación práctica del conocimiento. De este modo\, la microcredencial impulsa la internacionalización\, la diversificación profesional y la transferencia de resultados de investigación hacia la sociedad y la economía.
URL:https://www.link.uma.es/event/s-a-microcredencial-postdoctoral-career-horizons-planning-your-path-beyond-the-phd-4/
LOCATION:Salas 2.02+3.01
ATTACH;FMTTYPE=image/png:https://www.link.uma.es/wp-content/uploads/2025/09/Escuela-Doctorado-uma.png
ORGANIZER;CN="M%C2%AA Victoria Arenas Valero. Vicerrectorado de Doctorado y Posgrado.":MAILTO:v.arenas@uma.es
END:VEVENT
END:VCALENDAR