BEGIN:VCALENDAR
VERSION:2.0
PRODID:-//LINK by UMA-ATech - ECPv6.15.20//NONSGML v1.0//EN
CALSCALE:GREGORIAN
METHOD:PUBLISH
X-ORIGINAL-URL:https://www.link.uma.es
X-WR-CALDESC:Eventos para LINK by UMA-ATech
REFRESH-INTERVAL;VALUE=DURATION:PT1H
X-Robots-Tag:noindex
X-PUBLISHED-TTL:PT1H
BEGIN:VTIMEZONE
TZID:UTC
BEGIN:STANDARD
TZOFFSETFROM:+0000
TZOFFSETTO:+0000
TZNAME:UTC
DTSTART:20250101T000000
END:STANDARD
END:VTIMEZONE
BEGIN:VEVENT
DTSTART;TZID=UTC:20260129T083000
DTEND;TZID=UTC:20260129T130000
DTSTAMP:20260420T165356
CREATED:20260119T100131Z
LAST-MODIFIED:20260119T100131Z
UID:62335-1769675400-1769691600@www.link.uma.es
SUMMARY:3.01. Opplus: Reunión de equipo
DESCRIPTION:Sala 3.01\, 3ª planta de Link by UMA\, de 8.30 a 13h \nSesión de Alineación Estratégica y Planificación Anual 2026 Data
URL:https://www.link.uma.es/event/3-01-opplus-reunion-de-equipo/
LOCATION:Sala 3.01\, Tercera Planta\, Avenida Louis Pasteur\, 47\, Málaga\, Málaga\, 29010\, España
ATTACH;FMTTYPE=image/jpeg:https://www.link.uma.es/wp-content/uploads/2025/10/logo_opplus.jpg
ORGANIZER;CN="Mar Caro Garc%C3%ADa. Opplus":MAILTO:mariadelmar.caro@opplus.bbva.com
END:VEVENT
BEGIN:VEVENT
DTSTART;TZID=UTC:20260129T090000
DTEND;TZID=UTC:20260129T140000
DTSTAMP:20260420T165356
CREATED:20251003T102519Z
LAST-MODIFIED:20260126T112423Z
UID:61619-1769677200-1769695200@www.link.uma.es
SUMMARY:2.01: "Postdoctoral career horizons: Planning your path beyond the PhD"
DESCRIPTION:Sala 2.01\, 2ª planta baja de Lynk by UMA\, de 9 a 14h \nMicrocredencial «Postdoctoral career horizons: Planning your path beyond the PhD \nEste título fortalece la formación integral de los estudiantes de doctorado de la UMA al situar sus competencias en un marco ampliado que combina ciencia\, transferencia y emprendimiento. Desde la perspectiva académica\, se refuerza la conexión con programas internacionales de movilidad e investigación (Marie Skłodowska-Curie)\, mientras que desde la perspectiva industrial se potencia la interacción con empresas y casos de éxito que ejemplifican la aplicación práctica del conocimiento. De este modo\, la microcredencial impulsa la internacionalización\, la diversificación profesional y la transferencia de resultados de investigación hacia la sociedad y la economía.
URL:https://www.link.uma.es/event/s-a-microcredencial-postdoctoral-career-horizons-planning-your-path-beyond-the-phd-3/
LOCATION:Sala 2.01\, Segunda Planta\, Avenida Louis Pasteur\, 47\, Málaga\, Málaga\, 29010\, España
ATTACH;FMTTYPE=image/png:https://www.link.uma.es/wp-content/uploads/2025/09/Escuela-Doctorado-uma.png
ORGANIZER;CN="M%C2%AA Victoria Arenas Valero. Vicerrectorado de Doctorado y Posgrado.":MAILTO:v.arenas@uma.es
END:VEVENT
BEGIN:VEVENT
DTSTART;TZID=UTC:20260129T140000
DTEND;TZID=UTC:20260129T190000
DTSTAMP:20260420T165356
CREATED:20260108T100135Z
LAST-MODIFIED:20260126T112557Z
UID:62168-1769695200-1769713200@www.link.uma.es
SUMMARY:Salas 3.01+3.02: "Postdoctoral career horizons: Planning your path beyond the PhD"
DESCRIPTION:Salas 3.01\, y 3.02\, 3ª planta de Link by UMA\, de 14 a 19 h \nMicrocredencial «Postdoctoral career horizons: Planning your path beyond the PhD \nEste título fortalece la formación integral de los estudiantes de doctorado de la UMA al situar sus competencias en un marco ampliado que combina ciencia\, transferencia y emprendimiento. Desde la perspectiva académica\, se refuerza la conexión con programas internacionales de movilidad e investigación (Marie Skłodowska-Curie)\, mientras que desde la perspectiva industrial se potencia la interacción con empresas y casos de éxito que ejemplifican la aplicación práctica del conocimiento. De este modo\, la microcredencial impulsa la internacionalización\, la diversificación profesional y la transferencia de resultados de investigación hacia la sociedad y la economía.
URL:https://www.link.uma.es/event/salas-2-023-01-postdoctoral-career-horizons-planning-your-path-beyond-the-phd/
LOCATION:Salas 3.01 y 3.02 de Link by UMA
ATTACH;FMTTYPE=image/jpeg:https://www.link.uma.es/wp-content/uploads/2025/06/EDUMA.jpg
ORGANIZER;CN="M%C2%AA Victoria Arenas Valero. Vicerrectorado de Doctorado y Posgrado.":MAILTO:v.arenas@uma.es
END:VEVENT
BEGIN:VEVENT
DTSTART;TZID=UTC:20260129T160000
DTEND;TZID=UTC:20260129T180000
DTSTAMP:20260420T165356
CREATED:20251008T115413Z
LAST-MODIFIED:20251008T115413Z
UID:61677-1769702400-1769709600@www.link.uma.es
SUMMARY:S.A. Microcredencial «Enhancing the Quality of Academic Writing»
DESCRIPTION:Salón de Actos\, planta baja de Link by UMA\, de 16 19h \nMicrocredencial «Enhancing the Quality of Academic Writing» \nEsta formación está dirigida a mejorar las habilidades de escritura académica del alumnado de doctorado para la elaboración y publicación de trabajos de investigación en el contexto actual dotando a las personas participantes de los conocimientos claves para la correcta redacción y presentación de trabajos académicos en inglés\, además de un acercamiento inicial al uso de la IA en la escritura académica.
URL:https://www.link.uma.es/event/s-a-microcredencial-enhancing-the-quality-of-academic-writing-6/
LOCATION:Salón de Actos\, Planta Baja\, Avenida Louis Pasteur\, 47\, Málaga\, Málaga\, 29010\, España
ATTACH;FMTTYPE=image/png:https://www.link.uma.es/wp-content/uploads/2025/09/Escuela-Doctorado-uma.png
ORGANIZER;CN="M%C2%AA Victoria Arenas Valero. Vicerrectorado de Doctorado y Posgrado.":MAILTO:v.arenas@uma.es
END:VEVENT
END:VCALENDAR