BEGIN:VCALENDAR
VERSION:2.0
PRODID:-//LINK by UMA-ATech - ECPv6.15.20//NONSGML v1.0//EN
CALSCALE:GREGORIAN
METHOD:PUBLISH
X-ORIGINAL-URL:https://www.link.uma.es
X-WR-CALDESC:Eventos para LINK by UMA-ATech
REFRESH-INTERVAL;VALUE=DURATION:PT1H
X-Robots-Tag:noindex
X-PUBLISHED-TTL:PT1H
BEGIN:VTIMEZONE
TZID:UTC
BEGIN:STANDARD
TZOFFSETFROM:+0000
TZOFFSETTO:+0000
TZNAME:UTC
DTSTART:20250101T000000
END:STANDARD
END:VTIMEZONE
BEGIN:VEVENT
DTSTART;VALUE=DATE:20260128
DTEND;VALUE=DATE:20260129
DTSTAMP:20260421T092539
CREATED:20260108T103219Z
LAST-MODIFIED:20260108T103219Z
UID:62181-1769558400-1769644799@www.link.uma.es
SUMMARY:Día del Patrón: Santo Tomás de Aquino
DESCRIPTION:
URL:https://www.link.uma.es/event/dia-del-patron-santo-tomas-de-aquino/
LOCATION:Málaga
END:VEVENT
END:VCALENDAR