BEGIN:VCALENDAR
VERSION:2.0
PRODID:-//LINK by UMA-ATech - ECPv6.15.20//NONSGML v1.0//EN
CALSCALE:GREGORIAN
METHOD:PUBLISH
X-ORIGINAL-URL:https://www.link.uma.es
X-WR-CALDESC:Eventos para LINK by UMA-ATech
REFRESH-INTERVAL;VALUE=DURATION:PT1H
X-Robots-Tag:noindex
X-PUBLISHED-TTL:PT1H
BEGIN:VTIMEZONE
TZID:UTC
BEGIN:STANDARD
TZOFFSETFROM:+0000
TZOFFSETTO:+0000
TZNAME:UTC
DTSTART:20240101T000000
END:STANDARD
END:VTIMEZONE
BEGIN:VEVENT
DTSTART;TZID=UTC:20250916T180000
DTEND;TZID=UTC:20250916T203000
DTSTAMP:20260420T033359
CREATED:20250728T094257Z
LAST-MODIFIED:20250728T094257Z
UID:61287-1758045600-1758054600@www.link.uma.es
SUMMARY:CW. CMKM: Martech
DESCRIPTION:Coworking\, 4ª planta de Link by UMA\, de 18 a 20.30h \nMartech es una iniciativa formativa con un enfoque práctico y experiencial\, diseñada para que los asistentes trabajen mano a mano con expertos en el aula. A través de un formato dinámico\, ligero y altamente profesional\, esta actividad permite a profesionales y estudiantes especializarse en áreas clave del marketing y la tecnología. Organizado en colaboración con The Green Ray y otras entidades\, Martech se convierte en un espacio de aprendizaje innovador donde la teoría se combina con la aplicación práctica. \nEl Club de Marketing Málaga\, CMKM por sus siglas\, es una asociación profesional sin ánimo de lucro que agrupa a profesionales y amantes del marketing\, la comunicación y la publicidad en la provincia de Málaga desde el año 2007. Nuestro principal objetivo es fomentar y promocionar la cultura del marketing para mejorar el desarrollo económico y social de nuestra sociedad. Para lograrlo\, trabajamos en la formación continua de nuestros socios\, el intercambio de experiencias y la creación de una red de contactos entre los miembros.
URL:https://www.link.uma.es/event/cw-cmkm-martech/
LOCATION:Coworking\, 4ª planta de Link by UMA
ATTACH;FMTTYPE=image/png:https://www.link.uma.es/wp-content/uploads/2017/01/cmkm.png
ORGANIZER;CN="Blanca. CMKM":MAILTO:marketingmalagaclub@gmail.com
END:VEVENT
END:VCALENDAR