BEGIN:VCALENDAR
VERSION:2.0
PRODID:-//LINK by UMA-ATech - ECPv6.15.20//NONSGML v1.0//EN
CALSCALE:GREGORIAN
METHOD:PUBLISH
X-ORIGINAL-URL:https://www.link.uma.es
X-WR-CALDESC:Eventos para LINK by UMA-ATech
REFRESH-INTERVAL;VALUE=DURATION:PT1H
X-Robots-Tag:noindex
X-PUBLISHED-TTL:PT1H
BEGIN:VTIMEZONE
TZID:UTC
BEGIN:STANDARD
TZOFFSETFROM:+0000
TZOFFSETTO:+0000
TZNAME:UTC
DTSTART:20240101T000000
END:STANDARD
END:VTIMEZONE
BEGIN:VEVENT
DTSTART;TZID=UTC:20250704T090000
DTEND;TZID=UTC:20250704T140000
DTSTAMP:20260421T092350
CREATED:20250623T160525Z
LAST-MODIFIED:20250623T160525Z
UID:61184-1751619600-1751637600@www.link.uma.es
SUMMARY:2.01. Soludable: Reunión Evaluadores
DESCRIPTION:Sala 2.01\, 2ª planta de Link by UMA\, de 9 a 14h \nReunión de evaluadores\, grupo Soludable.
URL:https://www.link.uma.es/event/2-01-soludable-reunion-evaluadores/
LOCATION:Sala 2.01\, Segunda Planta\, Avenida Louis Pasteur\, 47\, Málaga\, Málaga\, 29010\, España
ATTACH;FMTTYPE=image/jpeg:https://www.link.uma.es/wp-content/uploads/2021/07/logo-soludable.jpg
ORGANIZER;CN="Ximena Montoya. Grupo Soludable":MAILTO:fotolaboral.soludable@gmail.com
END:VEVENT
BEGIN:VEVENT
DTSTART;TZID=UTC:20250704T160000
DTEND;TZID=UTC:20250704T200000
DTSTAMP:20260421T092350
CREATED:20250410T101150Z
LAST-MODIFIED:20250410T101150Z
UID:60739-1751644800-1751659200@www.link.uma.es
SUMMARY:CW. Conecta\, Reflexiona\, Crece: Tu Espacio de Supervisión - Pinep Experience
DESCRIPTION:CW\, 4ª planta – 16.00 a 20.00 h \nEncuentra tu espacio de cuidado y conexión\nEn labor de acompañar a otros hacia el bienestar emocional\, a menudo sentimos la necesidad de un espacio propio. \nPinep Experience te invita a construir una comunidad en Málaga donde podrás:\n– Conectar con otros profesionales que entienden tu realidad.\n– Reflexionar juntos sobre los desafíos y aprendizajes de nuestra práctica.\n– Dedicarnos a nuestro propio crecimiento personal.\n– Disfrutar de encuentros mensuales enriquecedores.\n– Crear lazos en nuestros espacios de café y socialización.\n– Practicar meditaciones para mejorar nuestro equilibrio emocional.\n– Experimentar las innovadoras propuestas Pinep para gestionar nuestras propias emociones. \nInscripciones: https://docs.google.com/forms/d/e/1FAIpQLSd0weQ_uPIXhPhXvGyfZpFw52DwYacYzHILnVN8wHAcEfctZA/viewform
URL:https://www.link.uma.es/event/cw-conecta-reflexiona-crece-tu-espacio-de-supervision-pinep-experience-2/
LOCATION:Coworking\, Cuarta Planta\, Avenida Louis Pasteur\, 47\, Málaga\, Málaga\, 29010\, España
ATTACH;FMTTYPE=image/jpeg:https://www.link.uma.es/wp-content/uploads/2025/04/Captura_de_pantalla_2025-02-12_133821-1.jpg
END:VEVENT
END:VCALENDAR