BEGIN:VCALENDAR
VERSION:2.0
PRODID:-//LINK by UMA-ATech - ECPv6.15.20//NONSGML v1.0//EN
CALSCALE:GREGORIAN
METHOD:PUBLISH
X-ORIGINAL-URL:https://www.link.uma.es
X-WR-CALDESC:Eventos para LINK by UMA-ATech
REFRESH-INTERVAL;VALUE=DURATION:PT1H
X-Robots-Tag:noindex
X-PUBLISHED-TTL:PT1H
BEGIN:VTIMEZONE
TZID:UTC
BEGIN:STANDARD
TZOFFSETFROM:+0000
TZOFFSETTO:+0000
TZNAME:UTC
DTSTART:20240101T000000
END:STANDARD
END:VTIMEZONE
BEGIN:VEVENT
DTSTART;TZID=UTC:20250630T090000
DTEND;TZID=UTC:20250630T173000
DTSTAMP:20260419T200221
CREATED:20250109T104240Z
LAST-MODIFIED:20250109T104240Z
UID:59884-1751274000-1751304600@www.link.uma.es
SUMMARY:2.02. IA aplicada a Márketing y Ventas
DESCRIPTION:Sala 2.02\, 2ª planta de Link by UMA\, DE 9 a 17.30h \nCurso de Inteligencia Artificial aplicada a Márketing y Ventas. \nEl mundo de las ventas y el marketing ha cambiado para siempre. La inteligencia artificial generativa es la herramienta clave para quienes desean ir un paso adelante\, personalizando experiencias y automatizando interacciones en cada punto de contacto con el cliente. Este curso práctico te brindará los conocimientos y habilidades para aplicar IA generativa directamente a las operaciones diarias de tu equipo\, usando datos y recursos de tu empresa. \nObjetivos:  \n1. Comprender conceptos clave de la IA y la IA generativa aplicada a marketing y ventas. \n2. Aplicar IA generativa a procesos de automatización\, personalización y creación a partir de los datos propios de la empresa. \n3. Usar herramientas de IA en la toma de decisiones. \nContenido \nSesión 1: Introducción a la AI Generativa: conceptos\, herramientas\, cómo integrar IA. \nSesión 2: Generación automática de contenido para campañas: creación de contenidos según el medio y formato\, segmentación de audiencias. \nSesión 3: Automatización de interacción con cliente: Uso de agentes para gestionar interacciones. Automatización de respuestas. \nSesión 4: Revolución comercial: optimizando espacios y maximizando ventas con datos e IA \nSesión 5: Toma de decisiones: Análisis predictivo de datos en campañas y ventas.
URL:https://www.link.uma.es/event/2-02-ia-aplicada-a-marketing-y-ventas-8/
LOCATION:Sala 2.02\, 2ª planta
ATTACH;FMTTYPE=image/png:https://www.link.uma.es/wp-content/uploads/2025/01/logoDHTec_definitivos_-_Antonio_1.png
ORGANIZER;CN="Gloria Santiago M%C3%A9ndez. UMA":MAILTO:gloria.santiago@uma.es
END:VEVENT
BEGIN:VEVENT
DTSTART;TZID=UTC:20250630T100000
DTEND;TZID=UTC:20250630T120000
DTSTAMP:20260419T200221
CREATED:20250626T085035Z
LAST-MODIFIED:20250626T085035Z
UID:61203-1751277600-1751284800@www.link.uma.es
SUMMARY:2.01 Racing Team Speaks
DESCRIPTION:El equipo Racing Team grabará sus podcasts
URL:https://www.link.uma.es/event/2-01-racing-team-speaks/
LOCATION:Sala 2.01. 2ª planta
ORGANIZER;CN="EQUIPO RACING TEAM":MAILTO:racingteam@uma.es
END:VEVENT
BEGIN:VEVENT
DTSTART;TZID=UTC:20250630T143000
DTEND;TZID=UTC:20250630T163000
DTSTAMP:20260419T200221
CREATED:20250527T065048Z
LAST-MODIFIED:20250527T065048Z
UID:61042-1751293800-1751301000@www.link.uma.es
SUMMARY:3.02. Tupl: Comunicación a través del teatro
DESCRIPTION:Sala 3.02\, 3ª planta de Link by UMA\, de 14:30  16:30h \nComunicación a través del teatro: Entrenamiento de comunicación y expresión a través del teatro para la ayuda en el día a día en el trabajo.
URL:https://www.link.uma.es/event/3-02-tupl-comunicacion-a-traves-del-teatro-8/
LOCATION:Sala 3.02\, Tercera Planta\, Avenida Louis Pasteur\, 47\, Málaga\, Málaga\, 29010\, España
ATTACH;FMTTYPE=image/jpeg:https://www.link.uma.es/wp-content/uploads/2021/05/tupl.jpg
ORGANIZER;CN="Sara F%C3%A1brega. Tupl":MAILTO:sara.fabrega@tupl.com
END:VEVENT
END:VCALENDAR