BEGIN:VCALENDAR
VERSION:2.0
PRODID:-//LINK by UMA-ATech - ECPv6.15.20//NONSGML v1.0//EN
CALSCALE:GREGORIAN
METHOD:PUBLISH
X-ORIGINAL-URL:https://www.link.uma.es
X-WR-CALDESC:Eventos para LINK by UMA-ATech
REFRESH-INTERVAL;VALUE=DURATION:PT1H
X-Robots-Tag:noindex
X-PUBLISHED-TTL:PT1H
BEGIN:VTIMEZONE
TZID:UTC
BEGIN:STANDARD
TZOFFSETFROM:+0000
TZOFFSETTO:+0000
TZNAME:UTC
DTSTART:20240101T000000
END:STANDARD
END:VTIMEZONE
BEGIN:VEVENT
DTSTART;TZID=UTC:20250627T120000
DTEND;TZID=UTC:20250627T140000
DTSTAMP:20260420T072237
CREATED:20250513T100344Z
LAST-MODIFIED:20250603T121133Z
UID:60964-1751025600-1751032800@www.link.uma.es
SUMMARY:Gala entrega de premios InnoSocial
DESCRIPTION:Museo Ruso de Málaga\, de 12 a 14h \nEl Área de Participación Ciudadana\, Acción Exterior y Transparencia del Ayuntamiento de Málaga y la Asociación Arrabal-AID convocan la quinta edición de los premios InnoSocial Málaga para reconocer las iniciativas innovadoras de la provincia que mejoran la vida de las personas.
URL:https://www.link.uma.es/event/3-013-02-jurado-concurso-spin-off/
LOCATION:Málaga
ATTACH;FMTTYPE=image/jpeg:https://www.link.uma.es/wp-content/uploads/2017/02/BOTON-INNOSOCI.jpg
ORGANIZER;CN="Ana Mu%C3%B1iz. Link by UMA":MAILTO:emprende@uma.es
END:VEVENT
END:VCALENDAR