BEGIN:VCALENDAR
VERSION:2.0
PRODID:-//LINK by UMA-ATech - ECPv6.15.20//NONSGML v1.0//EN
CALSCALE:GREGORIAN
METHOD:PUBLISH
X-WR-CALNAME:LINK by UMA-ATech
X-ORIGINAL-URL:https://www.link.uma.es
X-WR-CALDESC:Eventos para LINK by UMA-ATech
REFRESH-INTERVAL;VALUE=DURATION:PT1H
X-Robots-Tag:noindex
X-PUBLISHED-TTL:PT1H
BEGIN:VTIMEZONE
TZID:UTC
BEGIN:STANDARD
TZOFFSETFROM:+0000
TZOFFSETTO:+0000
TZNAME:UTC
DTSTART:20240101T000000
END:STANDARD
END:VTIMEZONE
BEGIN:VEVENT
DTSTART;TZID=UTC:20250626T110000
DTEND;TZID=UTC:20250626T130000
DTSTAMP:20260420T072103
CREATED:20250624T121257Z
LAST-MODIFIED:20250626T084443Z
UID:61188-1750935600-1750942800@www.link.uma.es
SUMMARY:3.01. Escuela de Doctorado UMA
DESCRIPTION:Sala 3.01\, 3ª planta de Link by UMA\, de 11.00 a 13h \nGrupo focal de estudiantes de doctorado para formación específica. \n 
URL:https://www.link.uma.es/event/2-01-escuela-de-doctorado-uma/
LOCATION:Sala 2.01\, Segunda Planta\, Avenida Louis Pasteur\, 47\, Málaga\, Málaga\, 29010\, España
ATTACH;FMTTYPE=image/jpeg:https://www.link.uma.es/wp-content/uploads/2025/06/EDUMA.jpg
ORGANIZER;CN="M%C2%AA Jos%C3%A9 Marquez. Escuela de Doctorado":MAILTO:mjmarquez@uma.es
END:VEVENT
BEGIN:VEVENT
DTSTART;TZID=UTC:20250626T110000
DTEND;TZID=UTC:20250626T130000
DTSTAMP:20260420T072103
CREATED:20250626T084757Z
LAST-MODIFIED:20250626T084757Z
UID:61200-1750935600-1750942800@www.link.uma.es
SUMMARY:2.01 Grabación podcasts Racing Team
DESCRIPTION:Grabación interna por Grupo Racing Team
URL:https://www.link.uma.es/event/2-01-grabacion-podcasts-racing-team/
LOCATION:Sala 2.01
ORGANIZER;CN="EQUIPO RACING TEAM":MAILTO:racingteam@uma.es
END:VEVENT
BEGIN:VEVENT
DTSTART;TZID=UTC:20250626T120000
DTEND;TZID=UTC:20250626T140000
DTSTAMP:20260420T072103
CREATED:20250626T083750Z
LAST-MODIFIED:20250626T083858Z
UID:61194-1750939200-1750946400@www.link.uma.es
SUMMARY:2.02 Tutoría Prácticas Erasmus+ KA131 - LARGA DURACIÓN
DESCRIPTION:Tutoría Prácticas Erasmus+ KA131 – LARGA DURACIÓN \nNecesario ordenador y pasador\, a ser posible
URL:https://www.link.uma.es/event/2-02-tutoria-practicas-erasmus-ka131-larga-duracion-2/
LOCATION:Sala 2.02\, Segunda Planta\, Avenida Louis Pasteur\, 47\, Málaga\, Málaga\, 29010\, España
ORGANIZER;CN="Alejandro Florido. Pr%C3%A1cticas Erasmus. UMA":MAILTO:florido@uma.es
END:VEVENT
END:VCALENDAR