BEGIN:VCALENDAR
VERSION:2.0
PRODID:-//LINK by UMA-ATech - ECPv6.15.20//NONSGML v1.0//EN
CALSCALE:GREGORIAN
METHOD:PUBLISH
X-ORIGINAL-URL:https://www.link.uma.es
X-WR-CALDESC:Eventos para LINK by UMA-ATech
REFRESH-INTERVAL;VALUE=DURATION:PT1H
X-Robots-Tag:noindex
X-PUBLISHED-TTL:PT1H
BEGIN:VTIMEZONE
TZID:UTC
BEGIN:STANDARD
TZOFFSETFROM:+0000
TZOFFSETTO:+0000
TZNAME:UTC
DTSTART:20240101T000000
END:STANDARD
END:VTIMEZONE
BEGIN:VEVENT
DTSTART;TZID=UTC:20250625T090000
DTEND;TZID=UTC:20250625T140000
DTSTAMP:20260420T072302
CREATED:20250603T111138Z
LAST-MODIFIED:20250613T104143Z
UID:61068-1750842000-1750860000@www.link.uma.es
SUMMARY:3.01+3.02. Jurado Concurso Spin-Off
DESCRIPTION:Salas 3.01 y 3.02\, 3ª planta de Link by UMA\, de 9 a 14h \nSesión presencial de jurado de la XXIX Edición del Concurso Spin-Off\, en su convocatoria 2025\, de proyectos para la creación de nuevas empresas en el ámbito universitario. \nSuerte para los participantes!!!!
URL:https://www.link.uma.es/event/3-013-02-jurado-concurso-spin-off-2/
LOCATION:Salas 3.01 y 3.02 de Link by UMA
ATTACH;FMTTYPE=image/png:https://www.link.uma.es/wp-content/uploads/2025/05/Cartel-Spin-Off-25.png
ORGANIZER;CN="Antonio Pe%C3%B1afiel. Director Servicio Empleabilidad y Emprendimiento.":MAILTO:apenafiel@uma.es
END:VEVENT
BEGIN:VEVENT
DTSTART;TZID=UTC:20250625T090000
DTEND;TZID=UTC:20250625T140000
DTSTAMP:20260420T072302
CREATED:20250624T115304Z
LAST-MODIFIED:20250624T115304Z
UID:61186-1750842000-1750860000@www.link.uma.es
SUMMARY:CW. Entrevistas a proyectos
DESCRIPTION:Coworking\, 4ª planta de Link by UMA\, de 9 a 14h \nEntrevistas a proyectos que se presentan al jurado del Concurso Spin-Off de Creación de Empresas en el Ámbito Universitario.
URL:https://www.link.uma.es/event/cw-entrevistas-a-proyectos/
LOCATION:Coworking\, 4ª planta de Link by UMA
ATTACH;FMTTYPE=image/jpeg:https://www.link.uma.es/wp-content/uploads/2025/05/SOXXIX_cartel-scaled.jpg
ORGANIZER;CN="Ana Mu%C3%B1iz. Coordinadora Unidad de Emprendimiento en Link by UMA":MAILTO:emprende@uma.es
END:VEVENT
END:VCALENDAR