BEGIN:VCALENDAR
VERSION:2.0
PRODID:-//LINK by UMA-ATech - ECPv6.15.20//NONSGML v1.0//EN
CALSCALE:GREGORIAN
METHOD:PUBLISH
X-ORIGINAL-URL:https://www.link.uma.es
X-WR-CALDESC:Eventos para LINK by UMA-ATech
REFRESH-INTERVAL;VALUE=DURATION:PT1H
X-Robots-Tag:noindex
X-PUBLISHED-TTL:PT1H
BEGIN:VTIMEZONE
TZID:UTC
BEGIN:STANDARD
TZOFFSETFROM:+0000
TZOFFSETTO:+0000
TZNAME:UTC
DTSTART:20240101T000000
END:STANDARD
END:VTIMEZONE
BEGIN:VEVENT
DTSTART;TZID=UTC:20250612T120000
DTEND;TZID=UTC:20250612T140000
DTSTAMP:20260420T072252
CREATED:20250609T131939Z
LAST-MODIFIED:20250609T131939Z
UID:61099-1749729600-1749736800@www.link.uma.es
SUMMARY:2.02 Tutoría Prácticas Erasmus+ KA131
DESCRIPTION:Reserva de plazas solicitando en practicaserasmus@uma.es \nNecesario proyector\, ordenador y pasador. \n 
URL:https://www.link.uma.es/event/2-02-tutoria-practicas-erasmus-ka131/
LOCATION:Sala 2.02\, 2ª planta
ORGANIZER;CN="Alejandro Florido - Servicio de Relaciones Internacionales y Cooperaci%C3%B3n":MAILTO:practicaserasmus@uma.es
END:VEVENT
BEGIN:VEVENT
DTSTART;TZID=UTC:20250612T150000
DTEND;TZID=UTC:20250612T200000
DTSTAMP:20260420T072252
CREATED:20250327T111447Z
LAST-MODIFIED:20250514T063359Z
UID:60640-1749740400-1749758400@www.link.uma.es
SUMMARY:S.A. + CW. Jornadas IMANA
DESCRIPTION:Salón de Actos + Coworking\, de 15 a 20h \nPrimeras Jornadas del Instituto Universitario de Materiales y Nanotecnología (IMANA) \nOBJETIVO CIENTÍFICO DE LA REUNIÓN\nSe abordará una visión general del trabajo de investigación que realizan los diferentes grupos que conforman el Instituto. Así mismo\, se presentarán las implicaciones que tienen en los diferentes campos aplicados científicos y tecnológicos\, y se debatirán la forma de fortificar las sinergias existentes entre ellos. El objetivo principal es dar a conocer el Instituto fuer a del contexto de la Universidad de Málaga. \nPROGRAMA CIENTÍFICO DE LA ACTIVIDAD \nJUEVES 12 DE JUNIO DE 2025 (Salón de Actos Edif. The Green Ray\, UMA)\n15.30 – 16.00 Registro de asistentes y entrega de documentación\n16.00 – 16.45 Inauguración del Workshop a cargo del Rector/Vicerrector de Investigación de la Universidad de Málaga y la Directora del Instituto\n16.45 – 17.30 Marco introductorio a la Nanociencia y Nanotecnología Analíticas\nÁngel Ríos (Universidad de Castilla – La Mancha) Director de la Red Temática sobre Nanociencia y Nanotecnología Analíticas (RED2024-153970-T). Consorcio de Nanociencia y Nanotecnología Analíticas\n17.30 -18.00 Café (Sesión de posters) Sala de Coworking\n18.00 -18.45 Nanomateriales (Grupos RNM 111\, FQM 159\, FQM 113\, FQM 155) (charlas de 10 min + 5min para preguntas)\n18.45 -19.20 Nanoquímica (Grupos FQM 117\, FQM 103\, FQM 156) (charlas de 10 min + 5min para preguntas)
URL:https://www.link.uma.es/event/cw3-01s-a-jornadas-imana/
LOCATION:Salón de Actos + Coworking
ATTACH;FMTTYPE=image/png:https://www.link.uma.es/wp-content/uploads/2025/03/Logo_IMANA_vf.png
ORGANIZER;CN="Elisa Isabel Vereda Alonso. Directora Instituto IMANA":MAILTO:eivereda@uma.es
END:VEVENT
END:VCALENDAR