BEGIN:VCALENDAR
VERSION:2.0
PRODID:-//LINK by UMA-ATech - ECPv6.15.20//NONSGML v1.0//EN
CALSCALE:GREGORIAN
METHOD:PUBLISH
X-WR-CALNAME:LINK by UMA-ATech
X-ORIGINAL-URL:https://www.link.uma.es
X-WR-CALDESC:Eventos para LINK by UMA-ATech
REFRESH-INTERVAL;VALUE=DURATION:PT1H
X-Robots-Tag:noindex
X-PUBLISHED-TTL:PT1H
BEGIN:VTIMEZONE
TZID:UTC
BEGIN:STANDARD
TZOFFSETFROM:+0000
TZOFFSETTO:+0000
TZNAME:UTC
DTSTART:20240101T000000
END:STANDARD
END:VTIMEZONE
BEGIN:VEVENT
DTSTART;TZID=UTC:20250609T023000
DTEND;TZID=UTC:20250609T163000
DTSTAMP:20260420T042944
CREATED:20250527T064720Z
LAST-MODIFIED:20250527T064720Z
UID:61038-1749436200-1749486600@www.link.uma.es
SUMMARY:3.02. Tupl: Comunicación a través del teatro
DESCRIPTION:Sala 3.02\, 3ª planta de Link by UMA\, de 14:30  16:30h \nComunicación a través del teatro: Entrenamiento de comunicación y expresión a través del teatro para la ayuda en el día a día en el trabajo.
URL:https://www.link.uma.es/event/3-02-tupl-comunicacion-a-traves-del-teatro-3/
LOCATION:Sala 3.02\, Tercera Planta\, Avenida Louis Pasteur\, 47\, Málaga\, Málaga\, 29010\, España
ATTACH;FMTTYPE=image/jpeg:https://www.link.uma.es/wp-content/uploads/2021/05/tupl.jpg
ORGANIZER;CN="Sara F%C3%A1brega. Tupl":MAILTO:sara.fabrega@tupl.com
END:VEVENT
BEGIN:VEVENT
DTSTART;TZID=UTC:20250609T093000
DTEND;TZID=UTC:20250609T113000
DTSTAMP:20260420T042944
CREATED:20250318T103129Z
LAST-MODIFIED:20250318T103129Z
UID:60530-1749461400-1749468600@www.link.uma.es
SUMMARY:CW. Curso Igualdad UMA
DESCRIPTION:Coworking\, 4ª planta de Link by UMA\, de 9.30 a 11.30h \nCurso «Herramientas teóricas y prácticas para abordar diversidades sexogenéricas en la UMA» del Vicerrectorado de Igualdad\, Política Social y Bienestar Universitario.
URL:https://www.link.uma.es/event/cw-curso-igualdad-uma/
LOCATION:Coworking\, 4ª planta de Link by UMA
ATTACH;FMTTYPE=image/png:https://www.link.uma.es/wp-content/uploads/2025/03/Vice-Igualdad.png
ORGANIZER;CN="M%C2%AA V%C3%ADctoria Miranda. Vicerrectorado Igualdad y Pol%C3%ADtica Social":MAILTO:miranda@uma.es
END:VEVENT
END:VCALENDAR