BEGIN:VCALENDAR
VERSION:2.0
PRODID:-//LINK by UMA-ATech - ECPv6.15.20//NONSGML v1.0//EN
CALSCALE:GREGORIAN
METHOD:PUBLISH
X-WR-CALNAME:LINK by UMA-ATech
X-ORIGINAL-URL:https://www.link.uma.es
X-WR-CALDESC:Eventos para LINK by UMA-ATech
REFRESH-INTERVAL;VALUE=DURATION:PT1H
X-Robots-Tag:noindex
X-PUBLISHED-TTL:PT1H
BEGIN:VTIMEZONE
TZID:UTC
BEGIN:STANDARD
TZOFFSETFROM:+0000
TZOFFSETTO:+0000
TZNAME:UTC
DTSTART:20240101T000000
END:STANDARD
END:VTIMEZONE
BEGIN:VEVENT
DTSTART;TZID=UTC:20250528T080000
DTEND;TZID=UTC:20250528T180000
DTSTAMP:20260420T072058
CREATED:20250526T091027Z
LAST-MODIFIED:20250526T091027Z
UID:61030-1748419200-1748455200@www.link.uma.es
SUMMARY:2.02.  Atonwave: Formación interna
DESCRIPTION:Sala 2.02\, 2ª planta de Link by UMA\, de 8 a 16h \nFormación interna de la startup Atonwave
URL:https://www.link.uma.es/event/2-02-atonwave-formacion-interna/
LOCATION:Sala 2.02\, 2ª planta
ORGANIZER;CN="Dato Altamirano. Atonwaves":MAILTO:Dato.Altamirano@Atonwave.com
END:VEVENT
BEGIN:VEVENT
DTSTART;TZID=UTC:20250528T100000
DTEND;TZID=UTC:20250528T120000
DTSTAMP:20260420T072058
CREATED:20250502T093202Z
LAST-MODIFIED:20250502T093202Z
UID:60905-1748426400-1748433600@www.link.uma.es
SUMMARY:3.01 Miércoles x la Orientación: Soft skills claves en el ámbito laboral
DESCRIPTION:3.01\, 3ª planta – 10.00 a 12.00 h \nEn este taller se abordarán las «soft skills» claves en el ámbito laboral. \nDuración: 2 horas. \nMás info en: https://talentank.uma.es/orientacion/
URL:https://www.link.uma.es/event/3-01-miercoles-x-la-orientacion-soft-skills-claves-en-el-ambito-laboral/
LOCATION:Sala 3.01\, Tercera Planta\, Avenida Louis Pasteur\, 47\, Málaga\, Málaga\, 29010\, España
ATTACH;FMTTYPE=image/jpeg:https://www.link.uma.es/wp-content/uploads/2022/10/miercoles-pro-el-empleo.jpg
ORGANIZER;CN="Isabel Abad. Vicerrectora Adjunta de Empleabilidad.":MAILTO:vra.empleabilidad@uma.es
END:VEVENT
BEGIN:VEVENT
DTSTART;TZID=UTC:20250528T110000
DTEND;TZID=UTC:20250528T130000
DTSTAMP:20260420T072058
CREATED:20250528T090536Z
LAST-MODIFIED:20250528T090608Z
UID:61046-1748430000-1748437200@www.link.uma.es
SUMMARY:2.01 Reunión EBC UMA
DESCRIPTION:2.01\, 2ª planta – 11.00 a 13.00 h \nReunión con una empresa que quiere convertirse en EBC de la UMA
URL:https://www.link.uma.es/event/reunion-ebc-uma/
LOCATION:Sala 2.01\, Segunda Planta\, Avenida Louis Pasteur\, 47\, Málaga\, Málaga\, 29010\, España
ATTACH;FMTTYPE=image/jpeg:https://www.link.uma.es/wp-content/uploads/2024/10/UMA_Horizontal.jpg
ORGANIZER;CN="Antonio Pe%C3%B1afiel. Director Servicio Empleabilidad y Emprendimiento.":MAILTO:apenafiel@uma.es
END:VEVENT
BEGIN:VEVENT
DTSTART;TZID=UTC:20250528T160000
DTEND;TZID=UTC:20250528T200000
DTSTAMP:20260420T072058
CREATED:20250310T132416Z
LAST-MODIFIED:20250506T112806Z
UID:60407-1748448000-1748462400@www.link.uma.es
SUMMARY:3.01. Curso Ikea Visual Merchandising
DESCRIPTION:Sala 3.01 \, 3ª planta de Link by UMA\, de 16 a 20h \nTecnología Digital\, con Alfonso. \nCurso de especialización en Visual Merchandising\nInicio del curso: 18 de marzo de 2025.\nHorario: martes y jueves de 10:00 a 14:00 h.\nLugar: Link by UMA (Edificio The Green Ray\, Ampliación Campus de Teatinos\, Bulevar Louis Pasteur\, 47\, 29590 Málaga) e IKEA Málaga (Avenida de Velázquez 389\, 29004 Málaga).\nInscripción: hasta el 13 de marzo enviando tu CV al contacto que aparece abajo.\nContacto: jaguilar@uma.es \n¿Quieres impulsar tu carrera profesional como visual merchandiser?  \nSi te interesa el mundo del interiorismo y del visual merchandising y quieres trabajar en el sector\, este curso te dará la oportunidad de adquirir las competencias profesionales necesarias para ello de la mano de IKEA\, líder mundial en la venta de muebles y decoración. \n¿Cuál es la función de un visual merchandiser en IKEA? \nEl visual merchandiser da vida a los productos en las tiendas\, en la web y en muchos más sitios. Combinas los colores\, las texturas\, los diseños y los muebles en soluciones prácticas que emocionan\, atraen y convencen\, a quienes visitan IKEA\, de que también pueden hacer lo mismo en sus casas. Sus soluciones\, diseños y presentación del surtido inspiran a la mayoría de las personas para llevarse a casa los productos y disfrutar de una mejor vida en el hogar gracias a ellos.
URL:https://www.link.uma.es/event/3-01-curso-ikea-visual-merchandising-13/
LOCATION:Sala 3.01\, Tercera Planta\, Avenida Louis Pasteur\, 47\, Málaga\, Málaga\, 29010\, España
ATTACH;FMTTYPE=image/jpeg:https://www.link.uma.es/wp-content/uploads/2025/03/Ikea-Visual-Merchandising.jpg
END:VEVENT
END:VCALENDAR