BEGIN:VCALENDAR
VERSION:2.0
PRODID:-//LINK by UMA-ATech - ECPv6.15.20//NONSGML v1.0//EN
CALSCALE:GREGORIAN
METHOD:PUBLISH
X-WR-CALNAME:LINK by UMA-ATech
X-ORIGINAL-URL:https://www.link.uma.es
X-WR-CALDESC:Eventos para LINK by UMA-ATech
REFRESH-INTERVAL;VALUE=DURATION:PT1H
X-Robots-Tag:noindex
X-PUBLISHED-TTL:PT1H
BEGIN:VTIMEZONE
TZID:UTC
BEGIN:STANDARD
TZOFFSETFROM:+0000
TZOFFSETTO:+0000
TZNAME:UTC
DTSTART:20240101T000000
END:STANDARD
END:VTIMEZONE
BEGIN:VEVENT
DTSTART;TZID=UTC:20250523T080000
DTEND;TZID=UTC:20250523T150000
DTSTAMP:20260426T042709
CREATED:20250422T064937Z
LAST-MODIFIED:20250422T064937Z
UID:60775-1747987200-1748012400@www.link.uma.es
SUMMARY:2.02. ViewNext: Formación Interna
DESCRIPTION:Sala 2.02\, 2ª planta de Link by UMA\, de 8 a 15h \nFormación interna de ViewNext. \nViewnext es una empresa de Servicios de Consultoría Tecnológica y Tranformación Digital perteneciente al grupo IBM en España.
URL:https://www.link.uma.es/event/2-02-viewnext-formacion-interna-4/
LOCATION:Sala 2.02\, 2ª planta
ATTACH;FMTTYPE=image/png:https://www.link.uma.es/wp-content/uploads/2024/03/logotipo_de_viewnext.png
ORGANIZER;CN="Leonor Jim%C3%A9nez. ViewNext":MAILTO:mljimenez@viewnext.com
END:VEVENT
END:VCALENDAR