BEGIN:VCALENDAR
VERSION:2.0
PRODID:-//LINK by UMA-ATech - ECPv6.15.20//NONSGML v1.0//EN
CALSCALE:GREGORIAN
METHOD:PUBLISH
X-ORIGINAL-URL:https://www.link.uma.es
X-WR-CALDESC:Eventos para LINK by UMA-ATech
REFRESH-INTERVAL;VALUE=DURATION:PT1H
X-Robots-Tag:noindex
X-PUBLISHED-TTL:PT1H
BEGIN:VTIMEZONE
TZID:UTC
BEGIN:STANDARD
TZOFFSETFROM:+0000
TZOFFSETTO:+0000
TZNAME:UTC
DTSTART:20240101T000000
END:STANDARD
END:VTIMEZONE
BEGIN:VEVENT
DTSTART;TZID=UTC:20250522T080000
DTEND;TZID=UTC:20250522T180000
DTSTAMP:20260420T061847
CREATED:20250422T064721Z
LAST-MODIFIED:20250422T064721Z
UID:60773-1747900800-1747936800@www.link.uma.es
SUMMARY:2.02. ViewNext: Formación Interna
DESCRIPTION:Sala 2.02\, 2ª planta de Link by UMA\, de 8 a 18h \nFormación interna de ViewNext. \nViewnext es una empresa de Servicios de Consultoría Tecnológica y Tranformación Digital perteneciente al grupo IBM en España.
URL:https://www.link.uma.es/event/2-02-viewnext-formacion-interna-3/
LOCATION:Sala 2.02\, 2ª planta
ATTACH;FMTTYPE=image/png:https://www.link.uma.es/wp-content/uploads/2024/03/logotipo_de_viewnext.png
ORGANIZER;CN="Leonor Jim%C3%A9nez. ViewNext":MAILTO:mljimenez@viewnext.com
END:VEVENT
BEGIN:VEVENT
DTSTART;TZID=UTC:20250522T080000
DTEND;TZID=UTC:20250522T180000
DTSTAMP:20260420T061847
CREATED:20250422T070024Z
LAST-MODIFIED:20250422T070024Z
UID:60777-1747900800-1747936800@www.link.uma.es
SUMMARY:3.02. TDK Electronics: Data Science Center
DESCRIPTION:Sala 3.02\, 3ª planta de Link by UMA\, de 8 a 18h \nEvento centrado en el departamento global de TDK\, Data Science Center\, dónde nos reuniremos presencialmente para impulsar la transferencia de conocimiento enfocada en la Inteligencia Artificial\, compartiendo proyectos\, experiencias\, lecciones aprendidas y resolviendo retos técnicos que requieran de conocimiento profundo acerca de la ciencia de datos\, algoritmos de inteligencia artificial y gestión de proyectos. \n 
URL:https://www.link.uma.es/event/3-02-tdk-electronics-data-science-center/
LOCATION:Sala 3.02\, Tercera Planta\, Avenida Louis Pasteur\, 47\, Málaga\, Málaga\, 29010\, España
ATTACH;FMTTYPE=image/png:https://www.link.uma.es/wp-content/uploads/2025/04/DSC_logo.png
ORGANIZER;CN="Amador. Data Science Center":MAILTO:ama2lm@outlook.com
END:VEVENT
BEGIN:VEVENT
DTSTART;TZID=UTC:20250522T100000
DTEND;TZID=UTC:20250522T140000
DTSTAMP:20260420T061847
CREATED:20250402T065257Z
LAST-MODIFIED:20250402T065257Z
UID:60668-1747908000-1747922400@www.link.uma.es
SUMMARY:CW. Reunión Fundación ONCE-UMA
DESCRIPTION:Coworking\, 4ª planta de Link by UMA\, de 10 a 14h \nReunión entre representantes de la Fundación ONCE e investigadores para tratar sobre líneas de investigación de interés para Fundación ONCE
URL:https://www.link.uma.es/event/cw-reunion-fundacion-once-uma/
LOCATION:Coworking\, 4ª planta de Link by UMA
ATTACH;FMTTYPE=image/png:https://www.link.uma.es/wp-content/uploads/2025/04/Logo_VRTEE.png
ORGANIZER;CN="Maril%C3%B3 Rom%C3%A1n. T%C3%A9cnica Proyectos. Vicerrectorado de Transferencia%2C Emprendimiento y Empresa":MAILTO:mroman@uma.es
END:VEVENT
BEGIN:VEVENT
DTSTART;TZID=UTC:20250522T160000
DTEND;TZID=UTC:20250522T173000
DTSTAMP:20260420T061847
CREATED:20250422T084948Z
LAST-MODIFIED:20250422T085030Z
UID:60783-1747929600-1747935000@www.link.uma.es
SUMMARY:3.01. Visita Alumnado 4º Periodismo
DESCRIPTION:Sala 3.01\, 3ª planta de Link by UMA. de 16 17.30h \nRecursos de empleabilidad y emprendimiento para alumnado de 4º de periodismo\, acompañados por su profesora María Sánchez. Bienveni2 a Link by UMA!
URL:https://www.link.uma.es/event/3-01-visita-alumnado-4o-periodismo/
LOCATION:Sala 3.01\, Tercera Planta\, Avenida Louis Pasteur\, 47\, Málaga\, Málaga\, 29010\, España
ATTACH;FMTTYPE=image/jpeg:https://www.link.uma.es/wp-content/uploads/2025/04/Ciencias-Comunicacion.jpg
ORGANIZER;CN="Mar%C3%ADa S%C3%A1nchez. UMA":MAILTO:m.sanchezgonzalez@uma.es
END:VEVENT
BEGIN:VEVENT
DTSTART;TZID=UTC:20250522T160000
DTEND;TZID=UTC:20250522T190000
DTSTAMP:20260420T061847
CREATED:20250513T115256Z
LAST-MODIFIED:20250514T095524Z
UID:60966-1747929600-1747940400@www.link.uma.es
SUMMARY:CW. CGI: Reunión Interna
DESCRIPTION:Coworking\, 4º planta de Link by UMA\, de 9 a 20h \nCGI es una consultora especializada en servicios TI y procesos de negocio
URL:https://www.link.uma.es/event/s-acw-cgi-reunion-interna/
LOCATION:Coworking\, Cuarta Planta\, Avenida Louis Pasteur\, 47\, Málaga\, Málaga\, 29010\, España
ATTACH;FMTTYPE=image/png:https://www.link.uma.es/wp-content/uploads/2017/05/cgi-logo-430.png
ORGANIZER;CN="Raquel Ochoa - CGI":MAILTO:raquel.ochoa@cgi.com
END:VEVENT
END:VCALENDAR