BEGIN:VCALENDAR
VERSION:2.0
PRODID:-//LINK by UMA-ATech - ECPv6.15.20//NONSGML v1.0//EN
CALSCALE:GREGORIAN
METHOD:PUBLISH
X-WR-CALNAME:LINK by UMA-ATech
X-ORIGINAL-URL:https://www.link.uma.es
X-WR-CALDESC:Eventos para LINK by UMA-ATech
REFRESH-INTERVAL;VALUE=DURATION:PT1H
X-Robots-Tag:noindex
X-PUBLISHED-TTL:PT1H
BEGIN:VTIMEZONE
TZID:UTC
BEGIN:STANDARD
TZOFFSETFROM:+0000
TZOFFSETTO:+0000
TZNAME:UTC
DTSTART:20240101T000000
END:STANDARD
END:VTIMEZONE
BEGIN:VEVENT
DTSTART;TZID=UTC:20250516T080000
DTEND;TZID=UTC:20250516T150000
DTSTAMP:20260426T042709
CREATED:20250411T085707Z
LAST-MODIFIED:20250430T091506Z
UID:60749-1747382400-1747407600@www.link.uma.es
SUMMARY:SA+CW+3.01+3.02. Flash Session Hackathon
DESCRIPTION:Coworking\, 3.01 y 3.02\, Salón de Actos\, de 8 a 15h \nFlash Session Hackathon \nSi eres estudiante de Grado\, Posgrado o Enseñanzas Propias de la UMA de cualquier sector o área de conocimiento (con matrícula en el curso 24/25)\, te invitamos a que participes en la mayor experiencia de creación de ideas emprendedoras de la Universidad de Málaga. \nInscripción: https://flashsession.uma.es/inscripcion-flashsession7/ \n 
URL:https://www.link.uma.es/event/cw3-013-02-sa-flash-session-hackathon/
LOCATION:Coworking+3.01+Salón de Actos
ATTACH;FMTTYPE=image/png:https://www.link.uma.es/wp-content/uploads/2025/04/adaptaciones-FS7_insta-rrss-copia-scaled.png
ORGANIZER;CN="Daniel Salobre%C3%B1a. Diverxia Consulting":MAILTO:dsalobrena@diverxiaconsulting.com
END:VEVENT
BEGIN:VEVENT
DTSTART;TZID=UTC:20250516T090000
DTEND;TZID=UTC:20250516T180000
DTSTAMP:20260426T042709
CREATED:20250514T063850Z
LAST-MODIFIED:20250514T063850Z
UID:60973-1747386000-1747418400@www.link.uma.es
SUMMARY:2.01. Zexel: Reunión de trabajo
DESCRIPTION:Sala 2.01\, 2ª planta de Link by UMA\, de 9 a 18h \nReunión de trabajo de Zexel. La plataforma de facturación y pagos del influencer marketing
URL:https://www.link.uma.es/event/2-01-zexel-reunion-de-trabajo/
LOCATION:Sala 2.01\, Segunda Planta\, Avenida Louis Pasteur\, 47\, Málaga\, Málaga\, 29010\, España
ATTACH;FMTTYPE=image/png:https://www.link.uma.es/wp-content/uploads/2023/02/zexel-logo.png
ORGANIZER;CN="Mario Betancourt. Responable de Ventas. Zexel":MAILTO:mariob@zexel.io
END:VEVENT
END:VCALENDAR