BEGIN:VCALENDAR
VERSION:2.0
PRODID:-//LINK by UMA-ATech - ECPv6.15.20//NONSGML v1.0//EN
CALSCALE:GREGORIAN
METHOD:PUBLISH
X-WR-CALNAME:LINK by UMA-ATech
X-ORIGINAL-URL:https://www.link.uma.es
X-WR-CALDESC:Eventos para LINK by UMA-ATech
REFRESH-INTERVAL;VALUE=DURATION:PT1H
X-Robots-Tag:noindex
X-PUBLISHED-TTL:PT1H
BEGIN:VTIMEZONE
TZID:UTC
BEGIN:STANDARD
TZOFFSETFROM:+0000
TZOFFSETTO:+0000
TZNAME:UTC
DTSTART:20240101T000000
END:STANDARD
END:VTIMEZONE
BEGIN:VEVENT
DTSTART;TZID=UTC:20250407T090000
DTEND;TZID=UTC:20250407T173000
DTSTAMP:20260425T211458
CREATED:20250109T103356Z
LAST-MODIFIED:20250109T103356Z
UID:59874-1744016400-1744047000@www.link.uma.es
SUMMARY:2.02. IA aplicada a Márketing y Ventas
DESCRIPTION:Sala 2.02\, 2ª planta de Link by UMA\, DE 9 a 17.30h \nCurso de Inteligencia Artificial aplicada a Márketing y Ventas. \nEl mundo de las ventas y el marketing ha cambiado para siempre. La inteligencia artificial generativa es la herramienta clave para quienes desean ir un paso adelante\, personalizando experiencias y automatizando interacciones en cada punto de contacto con el cliente. Este curso práctico te brindará los conocimientos y habilidades para aplicar IA generativa directamente a las operaciones diarias de tu equipo\, usando datos y recursos de tu empresa. \nObjetivos:  \n1. Comprender conceptos clave de la IA y la IA generativa aplicada a marketing y ventas. \n2. Aplicar IA generativa a procesos de automatización\, personalización y creación a partir de los datos propios de la empresa. \n3. Usar herramientas de IA en la toma de decisiones. \nContenido \nSesión 1: Introducción a la AI Generativa: conceptos\, herramientas\, cómo integrar IA. \nSesión 2: Generación automática de contenido para campañas: creación de contenidos según el medio y formato\, segmentación de audiencias. \nSesión 3: Automatización de interacción con cliente: Uso de agentes para gestionar interacciones. Automatización de respuestas. \nSesión 4: Revolución comercial: optimizando espacios y maximizando ventas con datos e IA \nSesión 5: Toma de decisiones: Análisis predictivo de datos en campañas y ventas.
URL:https://www.link.uma.es/event/2-02-ia-aplicada-a-marketing-y-ventas-3/
LOCATION:Sala 2.02\, 2ª planta
ATTACH;FMTTYPE=image/png:https://www.link.uma.es/wp-content/uploads/2025/01/logoDHTec_definitivos_-_Antonio_1.png
ORGANIZER;CN="Gloria Santiago M%C3%A9ndez. UMA":MAILTO:gloria.santiago@uma.es
END:VEVENT
BEGIN:VEVENT
DTSTART;TZID=UTC:20250407T143000
DTEND;TZID=UTC:20250407T163000
DTSTAMP:20260425T211458
CREATED:20250321T074911Z
LAST-MODIFIED:20250321T074911Z
UID:60563-1744036200-1744043400@www.link.uma.es
SUMMARY:3.02. Tupl: Comunicación a través del teatro
DESCRIPTION:Sala 3.02\, 3ª planta de Link by UMA. de 14.30 a 16.30h \nWorkshop de Técnicas de Comunicación para empleados a través del teatro. \nTupl is short for tuple\, a technical term from the world of maths and programming. It represents our passion for using Big Data and AI to solve complex problems.
URL:https://www.link.uma.es/event/3-02-tupl-comunicacion-a-traves-del-teatro/
LOCATION:Sala 3.02\, Tercera Planta\, Avenida Louis Pasteur\, 47\, Málaga\, Málaga\, 29010\, España
ATTACH;FMTTYPE=image/jpeg:https://www.link.uma.es/wp-content/uploads/2021/05/tupl.jpg
ORGANIZER;CN="Sara F%C3%A1brega. Tupl":MAILTO:sara.fabrega@tupl.com
END:VEVENT
END:VCALENDAR